BEGIN:VCALENDAR
VERSION:2.0
PRODID:-//Future Earth - ECPv6.15.20//NONSGML v1.0//EN
CALSCALE:GREGORIAN
METHOD:PUBLISH
X-ORIGINAL-URL:https://futureearth.jp
X-WR-CALDESC:Future Earth のイベント
REFRESH-INTERVAL;VALUE=DURATION:PT1H
X-Robots-Tag:noindex
X-PUBLISHED-TTL:PT1H
BEGIN:VTIMEZONE
TZID:Asia/Tokyo
BEGIN:STANDARD
TZOFFSETFROM:+0900
TZOFFSETTO:+0900
TZNAME:JST
DTSTART:20250101T000000
END:STANDARD
END:VTIMEZONE
BEGIN:VEVENT
DTSTART;TZID=Asia/Tokyo:20260520T130000
DTEND;TZID=Asia/Tokyo:20260520T173000
DTSTAMP:20260421T021711
CREATED:20260420T112610Z
LAST-MODIFIED:20260420T120242Z
UID:10442-1779282000-1779298200@futureearth.jp
SUMMARY:第３回庭園フォーラム「日本庭園と“ひと”とのあいだに」（東京大学本郷キャンパス）
DESCRIPTION:第３回庭園フォーラム「日本庭園と“ひと”とのあいだに」（東京大学本郷キャンパス）\n\n\n\n　日本国外で最も本格的で美しいと言われるポートランド日本庭園、キャンパス内に国指定文化財(名勝)の日本庭園がある東京大学、そしてGREEN×EXPO 2027の三者が連携し、庭園フォーラム「日本庭園と“ひと”とのあいだに」を開催します。本フォーラムは昨年５月に続く第３弾で、日本庭園が人間の心身に与えるインパクトを、人文科学とサイエンスの観点から考察します。 \n\n\n\n開催概要\n\n\n\n項目内容イベント名第３回庭園フォーラム「日本庭園と“ひと”とのあいだに」日時2026年5月20日（水）13:00～17:30（開場12:30）レセプション：18:00～19:30会場東京大学本郷キャンパス使用言語日本語・英語（同時通訳あり）参加費一般 6\,000円／学生 3\,000円（レセプション含）申込開始2026年4月10日～　申込サイト共催ポートランド日本庭園およびジャパン・インスティテュート、２０２７年国際園芸博覧会協会後援東京大学協賛東京倶楽部\n\n\n\nプログラム\n\n\n\n基調講演〇「庭は死なない」原 瑠璃彦 博士セッション１司会　フランク・フェルテンズ 博士〇「日本庭園は良薬です」エクトール・ガルシア氏〇「”庭園画” と文人サロン」出光佐千子 博士〇ディスカッション「”ひと”と庭の関係：自然との調和から”対話”へ」by原 瑠璃彦 × エクトール・ガルシア × 出光 佐千子セッション２司会　中西 玲人〇「日本庭園のフォスタリングとウエルネス」加藤 友規 博士〇ディスカッション「日本庭園と幸福感について」by加藤 友規 × 脇坂 隆一 × 鳥居ヒューゴ懐徳館庭園 視察ネットワーキング・レセプション\n\n\n\nチラシ\n\n\n\nチラシ[PDF] \n\n\n\n「日本庭園と“ひと”とのあいだに 」より\n\n\n\n「日本庭園と“ひと”とのあいだに 」より\n\n\n\n　
URL:https://futureearth.jp/event/teien-forum-2026/
LOCATION:東京大学本郷キャンパス\, 東京都文京区本郷７丁目３−１
CATEGORIES:シンポジウム,公式イベント
ATTACH;FMTTYPE=image/jpeg:https://futureearth.jp/wp-content/uploads/2026/04/Teien-Forum-2026-Flyer-A4-Final_ページ_1-1.jpg
END:VEVENT
END:VCALENDAR