BEGIN:VCALENDAR
VERSION:2.0
PRODID:-//Future Earth - ECPv6.15.20//NONSGML v1.0//EN
CALSCALE:GREGORIAN
METHOD:PUBLISH
X-ORIGINAL-URL:https://futureearth.jp
X-WR-CALDESC:Future Earth のイベント
REFRESH-INTERVAL;VALUE=DURATION:PT1H
X-Robots-Tag:noindex
X-PUBLISHED-TTL:PT1H
BEGIN:VTIMEZONE
TZID:Asia/Tokyo
BEGIN:STANDARD
TZOFFSETFROM:+0900
TZOFFSETTO:+0900
TZNAME:JST
DTSTART:20250101T000000
END:STANDARD
END:VTIMEZONE
BEGIN:VEVENT
DTSTART;VALUE=DATE:20260203
DTEND;VALUE=DATE:20260330
DTSTAMP:20260419T235756
CREATED:20260202T004215Z
LAST-MODIFIED:20260309T125756Z
UID:6539-1770076800-1774828799@futureearth.jp
SUMMARY:GREEN×EXPO 2027開催１年前記念イベント｜ぼたんちゃんのGREENチャレンジ！～金沢区をめぐるデジタルスタンプラリー～
DESCRIPTION:GREEN×EXPO 2027開催１年前記念イベント｜ぼたんちゃんのGREENチャレンジ！～金沢区をめぐるデジタルスタンプラリー～\n\n\n\nGREEN×EXPO 2027の開催１年前を記念して、横浜市金沢区でデジタルスタンプラリーが開催されます。金沢区の「自然」「環境」「食」などをテーマにしたスポットを巡り、クイズに答えてスタンプを集めると、金沢区幸せお届け大使の「ぼたんちゃん」グッズや公式グッズが当たるチャンスも。スマートフォンひとつで気軽に参加できる、家族でも楽しめるイベントです。 \n\n\n\n開催概要\n\n\n\n\n\n\n\n項目\n内容\n\n\n\n\nイベント名\nGREEN×EXPO 2027開催１年前記念イベント ぼたんちゃんのGREENチャレンジ！ ～金沢区をめぐるデジタルスタンプラリー～\n\n\n開催期間\n2026年2月3日（火）～3月29日（日）\n\n\n参加費\n無料（交通費・通信費は自己負担）\n\n\n対象\nスマートフォンをお持ちの方\n\n\n主催\n横浜市金沢区\n\n\n形式\nデジタルスタンプラリー\n\n\n応募期限\n2026年3月29日（日）※3月30日0時以降は応募不可\n\n\n\n\n\n\n\nデジタルスタンプラリーとは？\n\n\n\nスマートフォンのカメラ機能でポスターの二次元コードを読み取り、スタンプを集めるラリー形式のイベントです。専用アプリのダウンロードは不要。ブラウザから参加でき、スタンプを集めることで賞品に応募できます。 \n\n\n\nクイズポスター掲載場所（全9か所）\n\n\n\n※各施設の開閉時間をご確認のうえ訪問してください。 \nGREEN×EXPO 2027開催１年前記念イベント｜ぼたんちゃんのGREENチャレンジ！～金沢区をめぐるデジタルスタンプラリー～　広報よこはま金沢区版３月 \n\n\n\n\n\n\n\nNo\n名称\n所在地\n\n\n\n\n1\n金沢文庫駅（西口案内掲示板）\n谷津町384\n\n\n2\n称名寺\n金沢町212-1\n\n\n3\n金沢区役所1階（GREEN×EXPO 2027 PRコーナー）\n泥亀2-9-1\n\n\n4\n金沢八景駅（改札前掲示板）\n瀬戸15-1\n\n\n5\n金沢八景権現山公園（管理休憩棟）\n瀬戸20-3\n\n\n6\n旧伊藤博文金沢別邸 庭園入口\n野島町24（野島公園内）※建物は工事中\n\n\n7\n海の公園（管理センター掲示板）\n海の公園10番\n\n\n8\n横浜・八景島シーパラダイス（客船ターミナル内）\n八景島\n\n\n9\n横浜南部市場 食の専門店街 または ブランチ横浜南部市場\n鳥浜町1-1\n\n\n\n\n\n\n\n※横浜南部市場は2か所掲出ですが、スタンプは1個のみ取得可能です。 \n\n\n\n賞品内容\n\n\n\nチャレンジ賞（スタンプ3個）\n\n\n\n\nGREEN×EXPO 2027公式グッズ（巾着）＋ぼたんちゃんグッズ 抽選100名\n\n\n\n\nコンプリート賞（スタンプ9個）\n\n\n\n\nぼたんちゃんオリジナルミニバッグ 先着30名\n\n\n\nぼたんちゃんオリジナル図書カード（3\,000円分） 抽選5名\n\n\n\n\n※3個・9個の条件を満たせば両方応募可能。 \n\n\n\n参加方法\n\n\n\n\n各スポットのポスターにあるクイズに参加\n\n\n\n正解の二次元コードをスマートフォンで読み取る\n\n\n\n画面左上の「ぼたんちゃんスタンプ」をタップ\n\n\n\nスタンプ3個または9個で応募可能
URL:https://futureearth.jp/event/greenexpo2027-kanazawa-botan-stamprally/
LOCATION:横浜市金沢区\, 横浜市金沢区
CATEGORIES:横浜イベント
ATTACH;FMTTYPE=image/jpeg:https://futureearth.jp/wp-content/uploads/2026/02/0033_20260114.jpg
END:VEVENT
BEGIN:VEVENT
DTSTART;VALUE=DATE:20260216
DTEND;VALUE=DATE:20260323
DTSTAMP:20260419T235756
CREATED:20260213T092229Z
LAST-MODIFIED:20260213T092315Z
UID:7183-1771200000-1774223999@futureearth.jp
SUMMARY:花やみどりを感じる展示 ～全国都市緑化かわさきフェアと2027年国際園芸博覧会～
DESCRIPTION:全国都市緑化かわさきフェアと2027年国際園芸博覧会\n\n\n\n川崎市は「花やみどりを感じる展示 ～全国都市緑化かわさきフェアと 2027 年国際園芸博覧会～」を、2026年2月16日（月）〜3月22日（日）に開催いたします。 \n\n\n\n2024年秋・2025年春に開催された「全国都市緑化かわさきフェア」の感動を振り返るとともに、2027年に横浜で開催される「国際園芸博覧会」への期待を込めた、川崎駅周辺を彩る期間限定の特別企画です。 \n\n\n\n開催概要\n\n\n\n駅の通路や地下街など、日常の導線が「花とみどり」のアート空間に変わります。 \n\n\n\n\n\n\n\n項目\n内容\n\n\n\n\nイベント名\n花やみどりを感じる展示 ～全国都市緑化かわさきフェアと 2027 年国際園芸博覧会～\n\n\n主催\n川崎市\n\n\n展示期間\n2026年2月16日（月）～3月22日（日） ※「押し花作品展示」のみ3月13日（金）～3月27日（金）9:00まで\n\n\n展示場所\n川崎駅中央通路、北口自由通路、川崎アゼリア\n\n\n\n\n\n\n\n展示内容の詳細\n\n\n\n1. パネル展示・壁面装飾（川崎駅通路）\n\n\n\n\nパネル展示： 中央通路（ラゾーナ側）にて、これまでの取り組みを紹介。\n\n\n\n壁面装飾： 北口自由通路の階段踊り場付近を、精巧なアーティフィシャルフラワー（造花）で華やかに彩ります。\n\n\n\n動画放映： 北口自由通路のLEDビジョンにて、かわさきフェアの軌跡をたどる15秒の映像を放映。\n\n\n\n\n\n\n\n\n2. 世界的な作家による「押し花作品」展示\n\n\n\n\n場所： 川崎アゼリア（市役所通り側・市広報コーナー）\n\n\n\n内容： 世界的な押し花作家・杉野宣雄氏が、かわさきフェアの富士見公園会場で咲いていた花を使用して制作した貴重な作品です。川崎市に寄贈されたこの美しいアートを、期間限定で公開します。
URL:https://futureearth.jp/event/kawasaki-green-expo-display-2026/
LOCATION:川崎駅中央通路、北口自由通路、川崎アゼリア\, 神奈川県川崎市川崎区駅前本町２６−１
CATEGORIES:GREEN×EXPO2027
ATTACH;FMTTYPE=image/jpeg:https://futureearth.jp/wp-content/uploads/2026/02/Unknown-1.jpeg
END:VEVENT
BEGIN:VEVENT
DTSTART;VALUE=DATE:20260302
DTEND;VALUE=DATE:20260322
DTSTAMP:20260419T235756
CREATED:20260309T130551Z
LAST-MODIFIED:20260309T130735Z
UID:8052-1772409600-1774137599@futureearth.jp
SUMMARY:GREEN×EXPO 2027のPRブースを巡るデジタルスタンプラリー【栄区】
DESCRIPTION:GREEN×EXPO 2027のPRブースを巡るデジタルスタンプラリー開催【横浜市栄区】\n\n\n\n横浜市栄区では、GREEN×EXPO 2027（2027年国際園芸博覧会）のPRブースを巡るデジタルスタンプラリーを開催しています。 \n\n\n\nスマートフォンでイベントページにアクセスし、各施設に掲示されたQRコードを読み取ってクイズに答えるとスタンプを獲得。集めたスタンプ数に応じて、先着でオリジナルグッズがプレゼントされます。 \n\n\n\n\n\n開催概要\n\n\n\n\n\n\n\n項目\n内容\n\n\n\n\nイベント名\nGREEN×EXPO 2027 PRブース デジタルスタンプラリー\n\n\n開催期間\n2026年3月2日（月）〜3月21日（土）\n\n\n参加費\n無料\n\n\n参加方法\nスマートフォンでイベントページにアクセス → 各PRブースのQRコードを読み取り → クイズ正解でスタンプ獲得\n\n\n\n\n\n\n\n\nチラシ（PDF：863KB）\n\n\n\n\nスタンプ設置場所\n\n\n\n\n栄区役所\n\n\n\nSAKAESTA\n\n\n\n豊田地区センター\n\n\n\n笠間地域ケアプラザ\n\n\n\n栄図書館\n\n\n\n本郷小学校コミュニティハウス\n\n\n\n桂台地域ケアプラザ\n\n\n\n上郷地区センター\n\n\n\n\n関連リンク\n\n\n\n\nGREEN×EXPO 2027のPRブースを巡るデジタルスタンプラリー
URL:https://futureearth.jp/event/greenexpo2027-sakae-digital-stamprally/
LOCATION:栄区役所ほか
CATEGORIES:区主催・地域イベント
ATTACH;FMTTYPE=image/jpeg:https://futureearth.jp/wp-content/uploads/2026/03/GREEN×EXPO-2027のPRブースを巡るデジタルスタンプラリー開催【横浜市栄区】.jpg
END:VEVENT
BEGIN:VEVENT
DTSTART;VALUE=DATE:20260302
DTEND;VALUE=DATE:20260328
DTSTAMP:20260419T235756
CREATED:20260309T141251Z
LAST-MODIFIED:20260309T141326Z
UID:8091-1772409600-1774655999@futureearth.jp
SUMMARY:鶴見区役所｜園芸博出展内定事業者による特大庭園公開
DESCRIPTION:鶴見区役所で「GREEN×EXPO 2027」関連展示　廃材を活用した特大庭園を公開\n\n\n\n2027年に横浜で開催される GREEN×EXPO 2027（2027年国際園芸博覧会） に向けた関連展示が、2026年3月2日（月）～3月27日（金）の期間、鶴見区役所1階区民ホールで開催されています。 \n\n\n\n展示の中心となるのは、区内のEXPO出展内定事業者による特大庭園展示。自然素材に加え、倒壊した灯籠などの廃材を活用して制作された日本庭園風の作品が展示されています。 \n\n\n\n\nGREEN×EXPO 2027に向けた鶴見区の取組　より\n\n\n\n\n展示概要\n\n\n\n\n\n\n\n項目\n内容\n\n\n\n\n展示名\nGREEN×EXPO 2027 関連展示\n\n\n開催期間\n2026年3月2日（月）～3月27日（金）\n\n\n会場\n鶴見区役所 1階 区民ホール\n\n\n主な内容\n特大庭園展示（廃材活用）、GREEN×EXPO紹介、関連書籍展示、脱炭素パネル展示\n\n\n入場\n無料\n\n\n\n\n\n\n\n見どころ\n\n\n\n① 廃材を活用した庭園展示 倒壊した灯籠などの素材を再利用した庭園作品。日本の伝統的な「廃物利用」の思想を現代のサステナビリティと結び付けた展示。 \n\n\n\n② GREEN×EXPO 2027紹介コーナー 2027年横浜で開催される国際園芸博覧会の概要やテーマを紹介。 \n\n\n\n③ 図書館による関連書籍展示 鶴見図書館による園芸・環境・自然に関する本の紹介。 \n\n\n\n④ 脱炭素・環境展示 環境配慮や持続可能な社会に関するパネル展示。
URL:https://futureearth.jp/event/greenexpo2027-tsurumi-garden-exhibition/
LOCATION:鶴見区役所 1階 区民ホール\, 神奈川県横浜市鶴見区鶴見中央３丁目２０−１
CATEGORIES:区主催・地域イベント
ATTACH;FMTTYPE=image/jpeg:https://futureearth.jp/wp-content/uploads/2026/03/0060_20260303.jpg
END:VEVENT
BEGIN:VEVENT
DTSTART;VALUE=DATE:20260313
DTEND;VALUE=DATE:20260320
DTSTAMP:20260419T235756
CREATED:20260224T115941Z
LAST-MODIFIED:20260224T115957Z
UID:7539-1773360000-1773964799@futureearth.jp
SUMMARY:日本橋とやま館「2027国際園芸博覧会（横浜花博）～ 富山の花と緑 ～」
DESCRIPTION:2027国際園芸博覧会（横浜花博）～ 富山の花と緑 ～\n\n\n\n富山県のアンテナショップ日本橋とやま館 交流スペースにて、2026年3月13日（金）〜3月19日（木）の7日間、「2027国際園芸博覧会（横浜花博）～ 富山の花と緑 ～」 が開催されます。 \n\n\n\nGREEN×EXPO 2027（2027年国際園芸博覧会）の概要や、富山県が出展するブースの展示内容・魅力をご紹介します。会場では、県ブースの主役となる多彩なチューリップ等を展示します。ひと足早い春の訪れとともに、本開催に「行ってみたくなる」ワクワクを感じてください。 \n\n\n\n開催概要\n\n\n\n\n\n\n\n項目\n内容\n\n\n\n\nイベント名\n2027国際園芸博覧会（横浜花博）〜 富山の花と緑 〜\n\n\n主催\n日本橋とやま館\n\n\n開催期間\n2026年3月13日（金）〜3月19日（木）10:00〜19:00 （※最終日は18:00終了）\n\n\n会場\n日本橋とやま館 交流スペース（東京都中央区日本橋室町1-2-6）
URL:https://futureearth.jp/event/toyama-flower-greenexpo2027-nihonbashi-202603/
LOCATION:日本橋とやま館\, 東京都中央区日本橋室町1-2-6 日本橋大栄ビル1F
CATEGORIES:GREEN×EXPO2027
ATTACH;FMTTYPE=image/jpeg:https://futureearth.jp/wp-content/uploads/2026/02/日本橋とやま館「2027国際園芸博覧会（横浜花博）～-富山の花と緑-～」.jpg
END:VEVENT
BEGIN:VEVENT
DTSTART;VALUE=DATE:20260316
DTEND;VALUE=DATE:20260320
DTSTAMP:20260419T235756
CREATED:20260222T212724Z
LAST-MODIFIED:20260222T212724Z
UID:7452-1773619200-1773964799@futureearth.jp
SUMMARY:【農林水産省主催】「消費者の部屋」展示｜いよいよ1年後に開催！GREEN×EXPO 2027 （2027年国際園芸博覧会）
DESCRIPTION:【農林水産省主催】「消費者の部屋」展示｜いよいよ1年後に開催！GREEN×EXPO 2027 （2027年国際園芸博覧会）\n \n\n2027年3月19日に開幕する GREEN×EXPO 2027（2027年国際園芸博覧会） をPRする特別展示が、農林水産省「消費者の部屋」で開催されます。開催1年前を記念し、公式アイテムの紹介や参加型アクションなど、気軽に楽しめる内容となっています。\n\n \n\n \n開催概要\n \n\n\n\n\n項目\n内容\n\n\n\n\n展示名\n農林水産省「消費者の部屋」展示\nいよいよ1年後に開催！GREEN×EXPO 2027（2027年国際園芸博覧会）\n\n\n期間\n2026年3月16日（月）～3月19日（木）10時00分～17時00分\n※初日は12時00分から　※最終日は13時00分まで\n\n\n会場\n農林水産省 北別館1階「消費者の部屋」\n\n\n主な内容\n（ア）ブルーミングリングアクション\n・公式SNSフォローでブルーミングリングプレゼント\n・フォトフレームで“ブルーミングポーズ”記念撮影\n\n（イ）公式ライセンス商品の販売（各日12:00～13:00）\n\n\n入場\n無料\n\n\nチラシ\n印刷用(PDF : 577KB)
URL:https://futureearth.jp/event/maff-1yearstogo/
LOCATION:農林水産省 北別館1階「消費者の部屋」\, 東京都千代田区霞が関１丁目２−１
CATEGORIES:GREEN×EXPO2027
ATTACH;FMTTYPE=image/jpeg:https://futureearth.jp/wp-content/uploads/2026/02/2603green_expo2027-1.jpg
END:VEVENT
BEGIN:VEVENT
DTSTART;VALUE=DATE:20260318
DTEND;VALUE=DATE:20260319
DTSTAMP:20260419T235756
CREATED:20260313T082705Z
LAST-MODIFIED:20260313T082810Z
UID:8324-1773792000-1773878399@futureearth.jp
SUMMARY:EXPO 2027 オフィシャルストア ジュンク堂書店 大宮店オープン
DESCRIPTION:EXPO 2027 オフィシャルストア ジュンク堂書店 大宮店\n\n\n\nGREEN×EXPO 2027の開催1年前を記念して、EXPO 2027 オフィシャルストアがジュンク堂書店 大宮店に2026年3月18日(水)オープンします。公式マスコット「トゥンクトゥンク」のグッズをはじめ、さまざまな公式ライセンス商品が販売されます。 \n\n\n\n\nGREEN×EXPO 2027開催まで、3月19日でいよいよ1年前！　EXPO 2027 オフィシャルストアが大幅拡大　3月18日(水)より常設店・ポップアップストアが続々7店舗オープン！　より\n\n\n\n\n開催概要\n\n\n\n\n\n\n\n項目\n内容\n\n\n\n\n店舗名\nEXPO 2027 オフィシャルストア ジュンク堂書店 大宮店\n\n\nオープン\n2026年3月18日(水)\n\n\n場所\n大宮髙島屋内7階（埼玉県さいたま市大宮区大門町1-32大宮髙島屋ビル7階）\n\n\n営業時間\n10：00 〜 21：00（定休日はジュンク堂書店 大宮店に準ずる）\n\n\n\n\n\n\n\n\n開催1年前記念 オフィシャルストアキャンペーン\n\n\n\n　期間中、各オフィシャルストア（オンラインストア・ポップアップストア含む）にて、公式ライセンス商品を税込2\,000円以上お買い上げで、本キャンペーン限定の「特製ステッカー」を1枚プレゼントいたします。ステッカーは、トゥンクトゥンクがお買い物袋を下げて歩く愛らしい姿が描かれた、エアメール風の特別なデザインです。 \n\n\n\n\nEXPO 2027 オフィシャルストアが大幅拡大　より\n\n\n\n\nキャンペーン概要\n\n\n\n\n\n\n\n項目\n内容\n\n\n\n\nキャンペーン名\n開催1年前記念 オフィシャルストアキャンペーン\n\n\n期間\n2026年3月18日（水）〜4月末予定（※各店なくなり次第終了）\n\n\n対象店舗\nEXPO 2027 オフィシャルストア全店舗、オフィシャルオンラインストア\n\n\n条件\n税込2\,000円以上購入で1枚プレゼント\n\n\n特典\n本キャンペーン限定「特製ステッカー」\n\n\n備考\n数量限定・各店なくなり次第終了\n\n\n\n\n\n関連リンク\n\n\n\n\nGREEN×EXPO 2027開催まで、3月19日でいよいよ1年前！　EXPO 2027 オフィシャルストアが大幅拡大　3月18日(水)より常設店・ポップアップストアが続々7店舗オープン！
URL:https://futureearth.jp/event/greenexpo2027-store-junkudo-omiya/
LOCATION:EXPO 2027 オフィシャルストア ジュンク堂書店 大宮店\, 埼玉県さいたま市大宮区大門町1-32大宮髙島屋ビル7階
CATEGORIES:グッズ
ATTACH;FMTTYPE=image/webp:https://futureearth.jp/wp-content/uploads/2026/03/97656-83-03c9c77524891c67b7cf020e178b3623-1240x1007.jpg.webp
END:VEVENT
BEGIN:VEVENT
DTSTART;VALUE=DATE:20260318
DTEND;VALUE=DATE:20260319
DTSTAMP:20260419T235756
CREATED:20260313T083123Z
LAST-MODIFIED:20260313T083123Z
UID:8337-1773792000-1773878399@futureearth.jp
SUMMARY:EXPO 2027 オフィシャルポップアップストア 髙島屋 横浜店オープン
DESCRIPTION:EXPO 2027 オフィシャルポップアップストア 髙島屋 横浜店\n\n\n\nGREEN×EXPO 2027の開催1年前を記念して、EXPO 2027 オフィシャルポップアップストアが横浜髙島屋に再登場します。2026年3月18日から4月21日まで、会場を移しながら期間限定で展開。公式マスコット「トゥンクトゥンク」のグッズをはじめ、さまざまな公式ライセンス商品が販売されます。 \n\n\n\n\nGREEN×EXPO 2027開催まで、3月19日でいよいよ1年前！　EXPO 2027 オフィシャルストアが大幅拡大　3月18日(水)より常設店・ポップアップストアが続々7店舗オープン！　より\n\n\n\n\n開催概要\n\n\n\n\n\n\n\n項目\n内容\n\n\n\n\n店舗名\nEXPO 2027 オフィシャルポップアップストア 横浜髙島屋\n\n\n期間\n（1）3/18〜3/31（1階 正面特設会場） （2）4/1〜4/14（7階 薔薇のラウンジ） （3）4/15〜4/21（8階 催会場）\n\n\n場所\n横浜髙島屋内（神奈川県横浜市西区南幸1-6-31）\n\n\n営業時間\n（1）10：00 〜 20：00 （2）10：00 〜 19：00 （3）10：00 〜 19：00 ※最終日4月21日（火）のみ17：00まで （定休日は横浜髙島屋に準ずる）\n\n\n\n\n\n\n2025年11月の様子EXPO 2027 オフィシャルポップアップストア 髙島屋 横浜店（2025.11.4レポート追加）\n\n\n開催1年前記念 オフィシャルストアキャンペーン\n\n\n\n期間中、各オフィシャルストア（オンラインストア・ポップアップストア含む）にて、公式ライセンス商品を税込2\,000円以上お買い上げで、本キャンペーン限定の「特製ステッカー」を1枚プレゼントいたします。ステッカーは、トゥンクトゥンクがお買い物袋を下げて歩く愛らしい姿が描かれた、エアメール風の特別なデザインです。 \n\n\n\n\nEXPO 2027 オフィシャルストアが大幅拡大　より\n\n\n\n\nキャンペーン概要\n\n\n\n\n\n\n\n項目\n内容\n\n\n\n\nキャンペーン名\n開催1年前記念 オフィシャルストアキャンペーン\n\n\n期間\n2026年3月18日（水）〜4月末予定（※各店なくなり次第終了）\n\n\n対象店舗\nEXPO 2027 オフィシャルストア全店舗、オフィシャルオンラインストア\n\n\n条件\n税込2\,000円以上購入で1枚プレゼント\n\n\n特典\n本キャンペーン限定「特製ステッカー」\n\n\n備考\n数量限定・各店なくなり次第終了\n\n\n\n\n\n\n\n関連リンク\n\n\n\n\nGREEN×EXPO 2027開催まで、3月19日でいよいよ1年前！　EXPO 2027 オフィシャルストアが大幅拡大　3月18日(水)より常設店・ポップアップストアが続々7店舗オープン！
URL:https://futureearth.jp/event/greenexpo2027-popup-yokohama-takashimaya/
LOCATION:EXPO 2027 オフィシャルポップアップストア 髙島屋 横浜店\, 神奈川県横浜市西区南幸1-6-31
CATEGORIES:グッズ
ATTACH;FMTTYPE=image/webp:https://futureearth.jp/wp-content/uploads/2026/03/97656-83-1864ee4e679ca358e674cbf473fab4d0-2551x1700.jpg.webp
END:VEVENT
BEGIN:VEVENT
DTSTART;VALUE=DATE:20260318
DTEND;VALUE=DATE:20260319
DTSTAMP:20260419T235756
CREATED:20260313T083312Z
LAST-MODIFIED:20260313T083312Z
UID:8341-1773792000-1773878399@futureearth.jp
SUMMARY:EXPO 2027 オフィシャルポップアップストア そごう横浜店オープン
DESCRIPTION:EXPO 2027 オフィシャルポップアップストア そごう横浜店\n\n\n\nGREEN×EXPO 2027の開催1年前を記念して、EXPO 2027 オフィシャルポップアップストアがそごう横浜店に初登場します。2026年3月18日(水)から3月31日(火)まで期間限定で展開。公式マスコット「トゥンクトゥンク」のグッズをはじめ、さまざまな公式ライセンス商品が販売されます。 \n\n\n\n\nGREEN×EXPO 2027開催まで、3月19日でいよいよ1年前！　EXPO 2027 オフィシャルストアが大幅拡大　3月18日(水)より常設店・ポップアップストアが続々7店舗オープン！　より\n\n\n\n\n開催概要\n\n\n\n\n\n\n\n項目\n内容\n\n\n\n\n店舗名\nEXPO 2027 オフィシャルポップアップストア そごう横浜店\n\n\n期間\n2026年3月18日(水)〜3月31日(火)\n\n\n場所\nそごう横浜店 8階 催会場 催会場内特設会場 （神奈川県横浜市西区高島2-18-1）\n\n\n営業時間\n10:00〜20:00 （定休日はそごう横浜店に準ずる）\n\n\n\n\n\n\n\n開催1年前記念 オフィシャルストアキャンペーン\n\n\n\n期間中、各オフィシャルストア（オンラインストア・ポップアップストア含む）にて、公式ライセンス商品を税込2\,000円以上お買い上げで、本キャンペーン限定の「特製ステッカー」を1枚プレゼントいたします。ステッカーは、トゥンクトゥンクがお買い物袋を下げて歩く愛らしい姿が描かれた、エアメール風の特別なデザインです。 \n\n\n\n\nEXPO 2027 オフィシャルストアが大幅拡大　より\n\n\n\n\nキャンペーン概要\n\n\n\n\n\n\n\n項目\n内容\n\n\n\n\nキャンペーン名\n開催1年前記念 オフィシャルストアキャンペーン\n\n\n期間\n2026年3月18日（水）〜4月末予定（※各店なくなり次第終了）\n\n\n対象店舗\nEXPO 2027 オフィシャルストア全店舗、オフィシャルオンラインストア\n\n\n条件\n税込2\,000円以上購入で1枚プレゼント\n\n\n特典\n本キャンペーン限定「特製ステッカー」\n\n\n備考\n数量限定・各店なくなり次第終了\n\n\n\n\n\n\n\n関連リンク\n\n\n\n\nGREEN×EXPO 2027開催まで、3月19日でいよいよ1年前！　EXPO 2027 オフィシャルストアが大幅拡大　3月18日(水)より常設店・ポップアップストアが続々7店舗オープン！
URL:https://futureearth.jp/event/greenexpo2027-popup-sogo-yokohama/
LOCATION:EXPO 2027 オフィシャルポップアップストア そごう横浜店\, 神奈川県横浜市西区高島2-18-1
CATEGORIES:グッズ
ATTACH;FMTTYPE=image/webp:https://futureearth.jp/wp-content/uploads/2026/03/97656-83-1864ee4e679ca358e674cbf473fab4d0-2551x1700.jpg.webp
END:VEVENT
BEGIN:VEVENT
DTSTART;VALUE=DATE:20260318
DTEND;VALUE=DATE:20260319
DTSTAMP:20260419T235756
CREATED:20260304T120955Z
LAST-MODIFIED:20260304T121026Z
UID:7911-1773792000-1773878399@futureearth.jp
SUMMARY:トゥンクトゥンク新作ぬいぐるみ発売
DESCRIPTION:トゥンクトゥンク新作ぬいぐるみ登場！“自立”する愛らしい公式ライセンス商品が3月18日発売\n\n\n\n2027年に横浜で開催される GREEN×EXPO 2027（2027年国際園芸博覧会） の公式ライセンス商品として、公式マスコットキャラクター「トゥンクトゥンク」の新作ぬいぐるみが2026年3月18日（水）より順次販売開始することを発表しました。 \n\n\n\n今回登場するのは、胸元のハート部分を立体的に表現したこだわり仕様。アップリケと刺繍を組み合わせることで、ふっくらとした立体感のあるデザインとなっています。 \n\n\n\nさらに、ぬいぐるみはちょこんと“自立”する仕様になっており、デスクや棚に飾るインテリアとしても楽しめます。風景と一緒に撮影する「ぬい撮り」にもぴったりのアイテムです。 \n\n\n\n\n\n\n\n同時に発売されるマスコットはボールチェーン付きで、バッグなどに付けていつでもトゥンクトゥンクと一緒にお出かけできます。2027年の開催に向け、日常の中でGREEN×EXPO 2027を感じられる新しい公式グッズとして注目を集めそうです。 \n\n\n\n商品ラインナップ\n\n\n\n\n\n\n\n商品名\nサイズ\n価格\n\n\n\n\nEX27 TK トキメキ ぬいぐるみS\nH15 × W11.5 × D10.5 cm（約）\n3\,300円（税込）\n\n\nEX27 TK トキメキ マスコット\nH11.5 × W9.5 × D8 cm（約）\n2\,750円（税込）\n\n\n\n\n\n\n\n販売情報\n\n\n\n\n\n\n\n項目\n内容\n\n\n\n\n発売日\n2026年3月18日（水）より順次\n\n\n販売店舗\nEXPO 2027 オフィシャルストア ほか\n\n\n備考\n丸善丸の内店・オンラインストアは3月20日（金）販売開始\n\n\n\n\n\n\n\n販売予定店舗\n・EXPO 2027 オフィシャルストア ほか ※店舗により取扱い状況が異なる場合があります。 \n\n\n\n\nEXPO 2027 オフィシャルストア 丸善丸の内店（3/20(金)から発売）\n\n\n\nEXPO 2027 オフィシャルストア 横浜ラクシスフロント店\n\n\n\nEXPO 2027 オフィシャルストア 丸善 横浜みなとみらい店\n\n\n\nEXPO 2027 オフィシャルストア ジュンク堂書店 三宮店\n\n\n\nEXPO 2027 オフィシャルオンラインストア（3/20(金)から発売）\n\n\n\n\n関連リンク\n\n\n\n\nGREEN×EXPO 2027公式ライセンス商品　ちょこんと“自立”する姿が愛らしい「トゥンクトゥンク」の新作ぬいぐるみが登場　2026年3月18日（水）から順次販売開始
URL:https://futureearth.jp/event/tunku-tunku-plush-tokimeki/
LOCATION:EXPO 2027 オフィシャルストア ほか
CATEGORIES:グッズ
ATTACH;FMTTYPE=image/jpeg:https://futureearth.jp/wp-content/uploads/2026/03/HCicuGPbYAAsp0B-1.jpeg
END:VEVENT
BEGIN:VEVENT
DTSTART;VALUE=DATE:20260318
DTEND;VALUE=DATE:20260319
DTSTAMP:20260419T235756
CREATED:20260310T071558Z
LAST-MODIFIED:20260310T084733Z
UID:8112-1773792000-1773878399@futureearth.jp
SUMMARY:ミャクミャク×トゥンクトゥンク コラボグッズ新作発売＆再販
DESCRIPTION:ミャクミャク×トゥンクトゥンク コラボグッズ新作＆再販決定！2026年3月18日から順次販売\n\n\n \n　2027年に横浜で開催される GREEN×EXPO 2027（2027年国際園芸博覧会） の公式ライセンス商品として、大阪・関西万博の公式キャラクター ミャクミャク と、園芸博公式マスコット トゥンクトゥンク の人気コラボグッズの新作ラインナップ拡充と再販が決定しました。2026年3月18日（水）より順次販売が開始されます。 \n\n\n \n　2025年9月に初登場したこのコラボ商品は、「2つの万博をつなぐ夢の共演」として大きな話題を呼び、発売直後から即完売する店舗が続出しました。今回、多くの要望を受けて、新アイテム6種類の追加、人気既存4商品を再販という形でラインナップが大幅に拡充されます。 \n\n\n \n新商品ラインナップ（2026年3月18日発売）\n\n\n \n　春のお出かけにも使いやすい、実用的な雑貨アイテムが登場します。 \n\n\n \n\n\nナップザック（黒・ネイビー・ピンク） \n\n\n\n価格　：各1\,980円（税込） \n\n\n\n\n\n \n\n\n\n \n\n\nジッパーポーチ（ピンク、ブルー、グレー、黒） \n\n\n\n価格   ：各880円（税込） \n\n\n\n\n\n \n\n\n\n \n\n\n巾着（ミント、黒、パープル、オレンジ） \n\n\n\n価格   ：各880円（税込） \n\n\n\n\n\n \n\n\n\n \n\n\nミニのぼり（白 なかよし、青 バイク） \n\n\n\n価格   ：各1\,100円（税込） \n\n\n\n\n\n \n\n\n\n \n\n\nショルダーポーチ（黒、ピンク） \n\n\n\n価格   ：各1\,210円（税込） \n\n\n\n\n\n \n\n\n\n \n\n\nミャクミャク トゥンクトゥンク 記念メダル 1点ケース \n\n\n\n価格   ：1\,800円（税込） \n\n\n\n\n\n \n\n\n\n\n商品名\nラインナップ\n価格\n\n\n\n\nEX27 TK 【ミャクミャク】 ナップザック※両面デザイン\n黒、ネイビー、ピンク＜３種＞\n各1\,980円（税込）\n\n\nEX27 TK 【ミャクミャク】 ジッパーポーチ※両面デザイン\nピンク、ブルー、グレー、黒＜４種＞\n各880円（税込）\n\n\nEX27 TK 【ミャクミャク】 巾着※両面デザイン\nミント、黒、パープル、オレンジ＜４種＞\n各880円（税込）\n\n\nEX27 TK 【ミャクミャク】ショルダーポーチ※両面デザイン\n黒、ピンク＜２種＞\n各1\,210円（税込）\n\n\nEX27 TK 【ミャクミャク】 ミニのぼり\n白：なかよし、青：バイク＜２種＞\n各1\,100円（税込）\n\n\nミャクミャク×トゥンクトゥンク 記念メダルケース\n \n1\,800円\n\n\n\n\n\n\n \n再販決定！人気コラボグッズ\n\n\n \n　即完売した人気アイテムも再販売されます。 \n\n\n \n\n\n\nミャクミャク × トゥンクトゥンク A4クリアファイル \n\n\n\n520円 \n\n\n\n\n \n\n\nミャクミャク × トゥンクトゥンク アクリルキーホルダー \n\n\n\n770円 \n\n\n\n\n\n \n\n\n\nミャクミャク × トゥンクトゥンク ステッカー \n\n\n\n660円 \n\n\n\n\n \n\n\n缶マグネット \n\n\n\n660円 \n\n\n\n\n\n \n\n\n\n\n商品名\n価格\n\n\n\n\nA4クリアファイル\n520円\n\n\nアクリルキーホルダー\n660円\n\n\nステッカー\n660円\n\n\n缶マグネット\n660円\n\n\n\n\n\n\nあわせて読みたいミャクミャク × トゥンクトゥンク グッズ再販&新コラボスイーツ販売決定！\n\n \n販売情報\n\n\n \n\n\n\n\n項目\n内容\n\n\n\n\n発売日\n2026年3月18日（水）より順次\n\n\n販売店舗\nEXPO 2027 オフィシャルストア ほか\n\n\n備考\n丸善丸の内店・オンラインストアは3月20日（金）販売開始\n\n\n\n\n\n\n \n\nEXPO 2027 オフィシャルオンラインストア（3/20(金)から発売）\n\n\n\nEXPO 2027 オフィシャルストア 丸善丸の内店（3/20(金)から発売）\n\n\n\nEXPO 2027 オフィシャルストア 横浜ラクシスフロント店\n\n\n\nEXPO 2027 オフィシャルストア 丸善 横浜みなとみらい店\n\n\n\nEXPO 2027 オフィシャルストア ジュンク堂書店 三宮店\n\n\n\nあわせて読みたいトゥンクトゥンク新作ぬいぐるみ【3/18発売】\n\n \n関連リンク\n\n\n \n\nGREEN×EXPO 2027 公式ライセンス商品　即完売のミャクミャクとトゥンクトゥンク超人気コラボ新作ラインナップ拡充＆待望の再販が決定！2026年3月18日（水）より順次販売開始｜PRtimes
URL:https://futureearth.jp/event/myakumyaku-tunku-tunku-goods-2026/
LOCATION:EXPO 2027 オフィシャルストア ほか
CATEGORIES:グッズ
ATTACH;FMTTYPE=image/jpeg:https://futureearth.jp/wp-content/uploads/2026/03/ミャクミャク×トゥンクトゥンク新作グッズ登場！2026年3月18日から販売.jpg
END:VEVENT
BEGIN:VEVENT
DTSTART;VALUE=DATE:20260318
DTEND;VALUE=DATE:20260319
DTSTAMP:20260419T235756
CREATED:20260313T081356Z
LAST-MODIFIED:20260313T081422Z
UID:8315-1773792000-1773878399@futureearth.jp
SUMMARY:トゥンクトゥンク 横濱ハーバー ダブルマロン発売
DESCRIPTION:トゥンクトゥンク×横濱ハーバー登場！『トゥンクトゥンク 横濱ハーバー ダブルマロン』3月18日発売\n\n\n\nGREEN×EXPO 2027（2027年国際園芸博覧会）の開催1年前を記念し、横浜銘菓「横濱ハーバー」から特別商品が登場します。 \n\n\n\n株式会社ありあけは、公式ライセンス商品『トゥンクトゥンク 横濱ハーバー ダブルマロン』を、2026年3月18日（水）より数量限定で発売すると発表しました。 \n\n\n\n本商品は、GREEN×EXPO 2027の公式マスコット「トゥンクトゥンク」と、ありあけのマスコット「ハーバーくん」がコラボした記念パッケージ。さらに、限定コラボステッカーも封入された特別仕様です。開催1年前の節目を盛り上げる、横浜ならではのお土産として注目されそうです。 \n\n\n\n\nGREEN×EXPO 2027開催1年前を記念商品『トゥンクトゥンク 横濱ハーバー ダブルマロン』3月18日（水）より数量限定販売｜PRtimes　より\n\n\n\n\n商品概要\n\n\n\n\n\n\n\n項目\n内容\n\n\n\n\n商品名\nトゥンクトゥンク 横濱ハーバー ダブルマロン\n\n\n発売日\n2026年3月18日（水）\n\n\n価格\n1\,000円（税込）\n\n\n内容\n横濱ハーバー ダブルマロン 4個、コラボステッカー1枚\n\n\n販売場所\nありあけ直営店、ありあけオンラインショップ、EXPO 2027 オフィシャルストア\n\n\n備考\n数量限定販売／公式ライセンス商品\n\n\n\n\n\n\n\n※オフィシャルストアでは店舗により取扱い状況が異なる場合があります。 \n\n\nあわせて読みたいトゥンクトゥンクグッズはどこで買える？横浜園芸博公式ストアまとめ\n\n\n関連リンク\n\n\n\n\nGREEN×EXPO 2027開催1年前を記念商品『トゥンクトゥンク 横濱ハーバー ダブルマロン』3月18日（水）より数量限定販売｜PRtimes
URL:https://futureearth.jp/event/tunku-tunku-harbour-double-marron-2026/
LOCATION:ありあけ直営店、ありあけオンラインショップ、EXPO 2027 オフィシャルストア
CATEGORIES:グッズ
ATTACH;FMTTYPE=image/webp:https://futureearth.jp/wp-content/uploads/2026/03/12830-140-b1ab265b1678d4e72bd87c06f3fe7326-1888x2029.jpg.webp
END:VEVENT
BEGIN:VEVENT
DTSTART;VALUE=DATE:20260318
DTEND;VALUE=DATE:20260319
DTSTAMP:20260419T235756
CREATED:20260313T083434Z
LAST-MODIFIED:20260313T083434Z
UID:8345-1773792000-1773878399@futureearth.jp
SUMMARY:EXPO 2027 オフィシャルポップアップストア 大丸 東京店オープン
DESCRIPTION:EXPO 2027 オフィシャルポップアップストア 大丸 東京店\n\n\n\nGREEN×EXPO 2027の開催1年前を記念して、EXPO 2027 オフィシャルポップアップストアが大丸東京店に初登場します。2026年3月18日(水)から3月31日(火)まで期間限定で展開。公式マスコット「トゥンクトゥンク」のグッズをはじめ、さまざまな公式ライセンス商品が販売されます。 \n\n\n\n\nGREEN×EXPO 2027開催まで、3月19日でいよいよ1年前！　EXPO 2027 オフィシャルストアが大幅拡大　3月18日(水)より常設店・ポップアップストアが続々7店舗オープン！　より\n\n\n\n\n開催概要\n\n\n\n\n\n\n\n項目\n内容\n\n\n\n\n店舗名\nEXPO 2027 オフィシャルポップアップストア 大丸東京店\n\n\n期間\n2026年3月18日(水)〜3月31日(火)\n\n\n場所\n大丸東京店1階 特設会場（東京都千代田区丸の内1-9-1）\n\n\n営業時間\n10:00〜20:00 （定休日は大丸東京店に準ずる）\n\n\n\n\n\n\n\n開催1年前記念 オフィシャルストアキャンペーン\n\n\n\n期間中、各オフィシャルストア（オンラインストア・ポップアップストア含む）にて、公式ライセンス商品を税込2\,000円以上お買い上げで、本キャンペーン限定の「特製ステッカー」を1枚プレゼントいたします。ステッカーは、トゥンクトゥンクがお買い物袋を下げて歩く愛らしい姿が描かれた、エアメール風の特別なデザインです。 \n\n\n\n\nEXPO 2027 オフィシャルストアが大幅拡大　より\n\n\n\n\nキャンペーン概要\n\n\n\n\n\n\n\n項目\n内容\n\n\n\n\nキャンペーン名\n開催1年前記念 オフィシャルストアキャンペーン\n\n\n期間\n2026年3月18日（水）〜4月末予定（※各店なくなり次第終了）\n\n\n対象店舗\nEXPO 2027 オフィシャルストア全店舗、オフィシャルオンラインストア\n\n\n条件\n税込2\,000円以上購入で1枚プレゼント\n\n\n特典\n本キャンペーン限定「特製ステッカー」\n\n\n備考\n数量限定・各店なくなり次第終了\n\n\n\n\n\n\n\n関連リンク\n\n\n\n\nGREEN×EXPO 2027開催まで、3月19日でいよいよ1年前！　EXPO 2027 オフィシャルストアが大幅拡大　3月18日(水)より常設店・ポップアップストアが続々7店舗オープン！
URL:https://futureearth.jp/event/greenexpo2027-popup-daimaru-tokyo/
LOCATION:EXPO 2027 オフィシャルポップアップストア 大丸 東京店\, 東京都千代田区丸の内1-9-1
CATEGORIES:グッズ
ATTACH;FMTTYPE=image/webp:https://futureearth.jp/wp-content/uploads/2026/03/97656-83-8df7a29219b07fbb7da7199bda13fb10-3279x2318.jpg.webp
END:VEVENT
BEGIN:VEVENT
DTSTART;VALUE=DATE:20260318
DTEND;VALUE=DATE:20260319
DTSTAMP:20260419T235756
CREATED:20260313T083729Z
LAST-MODIFIED:20260313T083729Z
UID:8353-1773792000-1773878399@futureearth.jp
SUMMARY:EXPO 2027 オフィシャルポップアップストア あべのハルカス店　オープン
DESCRIPTION:EXPO 2027 オフィシャルポップアップストア あべのハルカス店\n \n\nGREEN×EXPO 2027の開催1年前を記念して、EXPO 2027 オフィシャルポップアップストアがあべのハルカス店に再登場します。2026年3月18日(水)から3月24日(火)まで期間限定で展開。公式マスコット「トゥンクトゥンク」のグッズをはじめ、さまざまな公式ライセンス商品が販売されます。\n\n \nGREEN×EXPO 2027開催まで、3月19日でいよいよ1年前！　EXPO 2027 オフィシャルストアが大幅拡大　3月18日(水)より常設店・ポップアップストアが続々7店舗オープン！　より\n \n開催概要\n \n\n\n\n\n項目\n内容\n\n\n\n\n店舗名\nEXPO 2027 オフィシャルポップアップストア あべのハルカス店\n\n\n期間\n2026年3月18日(水)〜3月24日(火)\n\n\n場所\nあべのハルカス近鉄本店ウイング館 2階イベントスペース\n（大阪市阿倍野区阿倍野筋1-1-43）\n\n\n営業時間\n10:00〜20:00\n（定休日はあべのハルカス近鉄本店に準ずる）\n※最終日3月24日（火） のみ19：00まで\n\n\n\n\n 2025年11月の様子EXPO 2027 オフィシャルポップアップストア あべのハルカス店 \n開催1年前記念 オフィシャルストアキャンペーン\n \n\n期間中、各オフィシャルストア（オンラインストア・ポップアップストア含む）にて、公式ライセンス商品を税込2\,000円以上お買い上げで、本キャンペーン限定の「特製ステッカー」を1枚プレゼントいたします。ステッカーは、トゥンクトゥンクがお買い物袋を下げて歩く愛らしい姿が描かれた、エアメール風の特別なデザインです。\n\n \nEXPO 2027 オフィシャルストアが大幅拡大　より\n \nキャンペーン概要\n \n\n\n\n\n項目\n内容\n\n\n\n\nキャンペーン名\n開催1年前記念 オフィシャルストアキャンペーン\n\n\n期間\n2026年3月18日（水）〜4月末予定（※各店なくなり次第終了）\n\n\n対象店舗\nEXPO 2027 オフィシャルストア全店舗、オフィシャルオンラインストア\n\n\n条件\n税込2\,000円以上購入で1枚プレゼント\n\n\n特典\n本キャンペーン限定「特製ステッカー」\n\n\n備考\n数量限定・各店なくなり次第終了\n\n\n\n\n \n関連リンク\n \n\n 	GREEN×EXPO 2027開催まで、3月19日でいよいよ1年前！　EXPO 2027 オフィシャルストアが大幅拡大　3月18日(水)より常設店・ポップアップストアが続々7店舗オープン！
URL:https://futureearth.jp/event/greenexpo2027-popup-abeno-harukas/
LOCATION:EXPO 2027 オフィシャルポップアップストア あべのハルカス店\, 大阪市阿倍野区阿倍野筋1-1-43
CATEGORIES:グッズ,グッズ
ATTACH;FMTTYPE=image/webp:https://futureearth.jp/wp-content/uploads/2026/03/97656-83-554cf61d29c4b6a8402f1466f6a112fb-3840x2160.jpg.webp
END:VEVENT
BEGIN:VEVENT
DTSTART;VALUE=DATE:20260318
DTEND;VALUE=DATE:20260319
DTSTAMP:20260419T235756
CREATED:20260313T085106Z
LAST-MODIFIED:20260313T085129Z
UID:8362-1773792000-1773878399@futureearth.jp
SUMMARY:トゥンクトゥンクガラスフォトフレーム発売
DESCRIPTION:トゥンクトゥンクガラスフォトフレーム発売\n\n\n\n株式会社大橋金属工芸は、トゥンクトゥンクをあしらったガラスフォトフレーム2種を2026年3月18日（水）に発売すると、公式Xで発表しました。 \n\n\n\n\n\n\n\n\n\n\n\n\n\n関連リンク\n\n\n\n\nhttps://twitter.com/worldeagle_/status/2032343936359162176
URL:https://futureearth.jp/event/tunku-tunku-glass-photo-frame-ohashi-20260318/
CATEGORIES:グッズ
ATTACH;FMTTYPE=image/jpeg:https://futureearth.jp/wp-content/uploads/2026/03/HDRWA8jaEAAn4GL-1.jpeg
END:VEVENT
END:VCALENDAR