BEGIN:VCALENDAR
VERSION:2.0
PRODID:-//Future Earth - ECPv6.15.20//NONSGML v1.0//EN
CALSCALE:GREGORIAN
METHOD:PUBLISH
X-WR-CALNAME:Future Earth
X-ORIGINAL-URL:https://futureearth.jp
X-WR-CALDESC:Future Earth のイベント
REFRESH-INTERVAL;VALUE=DURATION:PT1H
X-Robots-Tag:noindex
X-PUBLISHED-TTL:PT1H
BEGIN:VTIMEZONE
TZID:Asia/Tokyo
BEGIN:STANDARD
TZOFFSETFROM:+0900
TZOFFSETTO:+0900
TZNAME:JST
DTSTART:20250101T000000
END:STANDARD
END:VTIMEZONE
BEGIN:VEVENT
DTSTART;VALUE=DATE:20260203
DTEND;VALUE=DATE:20260330
DTSTAMP:20260419T235454
CREATED:20260202T004215Z
LAST-MODIFIED:20260309T125756Z
UID:6539-1770076800-1774828799@futureearth.jp
SUMMARY:GREEN×EXPO 2027開催１年前記念イベント｜ぼたんちゃんのGREENチャレンジ！～金沢区をめぐるデジタルスタンプラリー～
DESCRIPTION:GREEN×EXPO 2027開催１年前記念イベント｜ぼたんちゃんのGREENチャレンジ！～金沢区をめぐるデジタルスタンプラリー～\n\n\n\nGREEN×EXPO 2027の開催１年前を記念して、横浜市金沢区でデジタルスタンプラリーが開催されます。金沢区の「自然」「環境」「食」などをテーマにしたスポットを巡り、クイズに答えてスタンプを集めると、金沢区幸せお届け大使の「ぼたんちゃん」グッズや公式グッズが当たるチャンスも。スマートフォンひとつで気軽に参加できる、家族でも楽しめるイベントです。 \n\n\n\n開催概要\n\n\n\n\n\n\n\n項目\n内容\n\n\n\n\nイベント名\nGREEN×EXPO 2027開催１年前記念イベント ぼたんちゃんのGREENチャレンジ！ ～金沢区をめぐるデジタルスタンプラリー～\n\n\n開催期間\n2026年2月3日（火）～3月29日（日）\n\n\n参加費\n無料（交通費・通信費は自己負担）\n\n\n対象\nスマートフォンをお持ちの方\n\n\n主催\n横浜市金沢区\n\n\n形式\nデジタルスタンプラリー\n\n\n応募期限\n2026年3月29日（日）※3月30日0時以降は応募不可\n\n\n\n\n\n\n\nデジタルスタンプラリーとは？\n\n\n\nスマートフォンのカメラ機能でポスターの二次元コードを読み取り、スタンプを集めるラリー形式のイベントです。専用アプリのダウンロードは不要。ブラウザから参加でき、スタンプを集めることで賞品に応募できます。 \n\n\n\nクイズポスター掲載場所（全9か所）\n\n\n\n※各施設の開閉時間をご確認のうえ訪問してください。 \nGREEN×EXPO 2027開催１年前記念イベント｜ぼたんちゃんのGREENチャレンジ！～金沢区をめぐるデジタルスタンプラリー～　広報よこはま金沢区版３月 \n\n\n\n\n\n\n\nNo\n名称\n所在地\n\n\n\n\n1\n金沢文庫駅（西口案内掲示板）\n谷津町384\n\n\n2\n称名寺\n金沢町212-1\n\n\n3\n金沢区役所1階（GREEN×EXPO 2027 PRコーナー）\n泥亀2-9-1\n\n\n4\n金沢八景駅（改札前掲示板）\n瀬戸15-1\n\n\n5\n金沢八景権現山公園（管理休憩棟）\n瀬戸20-3\n\n\n6\n旧伊藤博文金沢別邸 庭園入口\n野島町24（野島公園内）※建物は工事中\n\n\n7\n海の公園（管理センター掲示板）\n海の公園10番\n\n\n8\n横浜・八景島シーパラダイス（客船ターミナル内）\n八景島\n\n\n9\n横浜南部市場 食の専門店街 または ブランチ横浜南部市場\n鳥浜町1-1\n\n\n\n\n\n\n\n※横浜南部市場は2か所掲出ですが、スタンプは1個のみ取得可能です。 \n\n\n\n賞品内容\n\n\n\nチャレンジ賞（スタンプ3個）\n\n\n\n\nGREEN×EXPO 2027公式グッズ（巾着）＋ぼたんちゃんグッズ 抽選100名\n\n\n\n\nコンプリート賞（スタンプ9個）\n\n\n\n\nぼたんちゃんオリジナルミニバッグ 先着30名\n\n\n\nぼたんちゃんオリジナル図書カード（3\,000円分） 抽選5名\n\n\n\n\n※3個・9個の条件を満たせば両方応募可能。 \n\n\n\n参加方法\n\n\n\n\n各スポットのポスターにあるクイズに参加\n\n\n\n正解の二次元コードをスマートフォンで読み取る\n\n\n\n画面左上の「ぼたんちゃんスタンプ」をタップ\n\n\n\nスタンプ3個または9個で応募可能
URL:https://futureearth.jp/event/greenexpo2027-kanazawa-botan-stamprally/
LOCATION:横浜市金沢区\, 横浜市金沢区
CATEGORIES:横浜イベント
ATTACH;FMTTYPE=image/jpeg:https://futureearth.jp/wp-content/uploads/2026/02/0033_20260114.jpg
END:VEVENT
BEGIN:VEVENT
DTSTART;VALUE=DATE:20260302
DTEND;VALUE=DATE:20260328
DTSTAMP:20260419T235454
CREATED:20260309T141251Z
LAST-MODIFIED:20260309T141326Z
UID:8091-1772409600-1774655999@futureearth.jp
SUMMARY:鶴見区役所｜園芸博出展内定事業者による特大庭園公開
DESCRIPTION:鶴見区役所で「GREEN×EXPO 2027」関連展示　廃材を活用した特大庭園を公開\n\n\n\n2027年に横浜で開催される GREEN×EXPO 2027（2027年国際園芸博覧会） に向けた関連展示が、2026年3月2日（月）～3月27日（金）の期間、鶴見区役所1階区民ホールで開催されています。 \n\n\n\n展示の中心となるのは、区内のEXPO出展内定事業者による特大庭園展示。自然素材に加え、倒壊した灯籠などの廃材を活用して制作された日本庭園風の作品が展示されています。 \n\n\n\n\nGREEN×EXPO 2027に向けた鶴見区の取組　より\n\n\n\n\n展示概要\n\n\n\n\n\n\n\n項目\n内容\n\n\n\n\n展示名\nGREEN×EXPO 2027 関連展示\n\n\n開催期間\n2026年3月2日（月）～3月27日（金）\n\n\n会場\n鶴見区役所 1階 区民ホール\n\n\n主な内容\n特大庭園展示（廃材活用）、GREEN×EXPO紹介、関連書籍展示、脱炭素パネル展示\n\n\n入場\n無料\n\n\n\n\n\n\n\n見どころ\n\n\n\n① 廃材を活用した庭園展示 倒壊した灯籠などの素材を再利用した庭園作品。日本の伝統的な「廃物利用」の思想を現代のサステナビリティと結び付けた展示。 \n\n\n\n② GREEN×EXPO 2027紹介コーナー 2027年横浜で開催される国際園芸博覧会の概要やテーマを紹介。 \n\n\n\n③ 図書館による関連書籍展示 鶴見図書館による園芸・環境・自然に関する本の紹介。 \n\n\n\n④ 脱炭素・環境展示 環境配慮や持続可能な社会に関するパネル展示。
URL:https://futureearth.jp/event/greenexpo2027-tsurumi-garden-exhibition/
LOCATION:鶴見区役所 1階 区民ホール\, 神奈川県横浜市鶴見区鶴見中央３丁目２０−１
CATEGORIES:区主催・地域イベント
ATTACH;FMTTYPE=image/jpeg:https://futureearth.jp/wp-content/uploads/2026/03/0060_20260303.jpg
END:VEVENT
BEGIN:VEVENT
DTSTART;VALUE=DATE:20260319
DTEND;VALUE=DATE:20260615
DTSTAMP:20260419T235454
CREATED:20260303T142443Z
LAST-MODIFIED:20260312T100017Z
UID:7870-1773878400-1781481599@futureearth.jp
SUMMARY:ガーデンネックレス横浜2026
DESCRIPTION:ガーデンネックレス横浜2026\n\n\n\n\n\n\n\n横浜市は、2026年3月19日（木）から6月14日（日）まで、横浜の街を舞台に花と緑をネックレスのようにつなぐ春の一大イベント「ガーデンネックレス横浜 2026」を開催します。 \n\n\n\n2017年から続く「ガーデンシティ横浜」推進のリーディングプロジェクトとして毎年開催されてきた本イベント。港町の景観が美しい“みなとエリア”から、約10\,000㎡の大花壇を誇る里山ガーデンまで、街全体が季節の花で彩られます。 \n\n\n\nそして、「GREEN×EXPO 2027」開催1年前の春。横浜がもっとも華やぐ季節が、いよいよやってきます。 \n\n\n\n開催概要\n\n\n\n\n\n\n\n項目\n内容\n\n\n\n\nイベント名\nガーデンネックレス横浜 2026\n\n\n開催期間\n2026年3月19日（木）～6月14日（日）\n\n\n主な会場\nみなとエリア、里山ガーデン ほか横浜市内各所\n\n\n\n\n\n\n\nみなとエリア（都心臨海部）\n\n\n\n① サクラ（3月下旬～4月上旬）\n\n\n\n約300本の桜が、横浜の春の訪れを告げます。さくら通りや汽車道、山手エリアなど、港町らしい風景とともに楽しめるのが魅力です。 \n\n\n\n② チューリップ（4月上旬～中旬）\n\n\n\n約70種・10万本のチューリップが咲き誇る横浜公園を中心に、港へと続く日本大通り、新港中央広場まで色鮮やかな花景色が広がります。 \n\n\n\n③ バラ（5月上旬～下旬）\n\n\n\n横浜市の花「バラ」が最盛期を迎える季節。香り・色彩・景色をテーマにしたバラ園が広がる港の見える丘公園や、約160品種1\,900株が競演する山下公園は必見です。 \n\n\n\n\n\n里山ガーデンフェスタ\n\n\n\n横浜市内最大級、約10\,000㎡の大花壇が広がる里山ガーデン。約110品種・20万本の花々に加え、約150本のサクラ、新緑の里山風景を一度に楽しめます。 \n\n\n\n\n\n\n\n項目\n内容\n\n\n\n\n会期\n2026年3月19日（木）～5月6日（水・祝）\n\n\n会場\n里山ガーデン（よこはま動物園ズーラシア隣接／横浜市旭区上白根町1425-4）\n\n\n\n\n  \n \nBlooming RING を着けて、フォトスポットで記念撮影しよう｜里山ガーデン\n\n\n \n　Blooming RINGを身に着けて、ウェルカムガーデンに新たに登場する「GREEN×EXPO 2027」ロゴのフォトスポット前で記念撮影ができます。 \n\n\n \n\n里山ガーデンフェスタHP　より\n\n\n\n \n\n\n \n\n\n\n\n項目\n内容\n\n\n\n\n実施日\n2026年3月19日（木）～3月22日（日）\n\n\n実施時間\n10:00～\n\n\n実施場所\nウェルカムガーデン内「GREEN×EXPO 2027」ロゴフォトスポット前\n\n\n参加方法\n各日先着100名（予定数に達し次第終了）\n\n\n内容\nBlooming RINGを身に着けてフォトスポット前で記念撮影\n\n\n備考\n雨天決行\n\n\n\n\n \n\n\n\n\n\n横浜フラワー＆ガーデンフェスティバル2026\n\n\n\n「ガーデンネックレス横浜」の一環として開催される、日本最大級の園芸イベント。 \n\n\n\n日本を代表するガーデンデザイナーによるメイン展示をはじめ、最新の花・ガーデン展示、子ども向け職業体験、木のおもちゃブース、ショッピングなど、花と緑の楽しみが凝縮されています。 \n\n\n\n\n\n\n\n項目\n内容\n\n\n\n\n会期\n2026年5月2日（土）～5月4日（月・祝）\n\n\n会場\nパシフィコ横浜\n\n\n\n\n\n\nあわせて読みたい横浜フラワー＆ガーデンフェスティバル2026\n\n\n横浜ローズウィーク\n\n\n\n横浜市の花「バラ」の見ごろにあわせ、市内各所で開催される“バラの街歩き”期間。バラ園だけでなく、スイーツ、カクテル、ショッピングなど、街全体がローズカラーに染まります。港町・横浜の歴史とともに楽しむ、特別な時間です。 \n\n\n\n関連リンク\n\n\n\n\nガーデンネックレス横浜\n\n\n\nガーデンネックレス横浜 2026｜横浜市観光協会\n\n\n 
URL:https://futureearth.jp/event/garden-necklace-yokohama-2026/
LOCATION:みなとエリア、里山ガーデン ほか横浜市内各所
CATEGORIES:GREEN×EXPO2027,横浜イベント,花き園芸・造園・農関連
ATTACH;FMTTYPE=image/webp:https://futureearth.jp/wp-content/uploads/2026/03/yw5560_1.webp
END:VEVENT
BEGIN:VEVENT
DTSTART;VALUE=DATE:20260321
DTEND;VALUE=DATE:20260327
DTSTAMP:20260419T235454
CREATED:20260318T133528Z
LAST-MODIFIED:20260318T133528Z
UID:8660-1774051200-1774569599@futureearth.jp
SUMMARY:東京インフィオラータ2026
DESCRIPTION:東京インフィオラータ2026｜花絵文化25周年＆ポケモン30周年記念花絵も登場！\n\n\n\n花びらで描く“儚い芸術”インフィオラータの祭典「東京インフィオラータ2026」が、2026年3月21日（土）から5月18日（月）まで都内5会場で開催されます。 日本の花絵文化25周年という節目に加え、ポケモン30周年記念の特別花絵も登場。春の東京を舞台に、「花でつながる、未来の景色」をテーマとした共創型アートイベントです。 \n\n\n\n\n花絵文化25周年。東京インフィオラータ2026開催。ポケモン30周年記念花絵も登場！　より\n\n\n\n\n開催概要\n\n\n\n\n\n\n\n項目\n内容\n\n\n\n\nイベント名\n東京インフィオラータ2026\n\n\n開催期間\n2026年3月21日（土）〜5月18日（月）\n\n\nテーマ\n花でつながる、未来の景色\n\n\n観覧\n無料\n\n\n主催\n一般社団法人花絵文化協会\n\n\n総合監修\n藤川靖彦（花絵師）\n\n\n後援\n東京都／多摩市／千代田区／公益社団法人2027国際園芸博覧会協会／interfm／Coordinadora Internacional de Entidades de Alfombristas de Arte Efimero\n\n\n協力\n京王聖蹟桜ヶ丘ショッピングセンター／御茶ノ水ソラシティ／株式会社三菱UFJフィナンシャル・グループ／花王株式会社／三菱地所株式会社／株式会社秀光／株式会社ポケモン／株式会社丸の内よろず／株式会社太田花き／JA愛知みなみ輪菊部会／アートグリーン株式会社／ターナー色彩株式会社／法政大学／東京臨海副都心グループ／株式会社読売エージェンシー／一般社団法人世界押花芸術協会／花と緑の研究所株式会社\n\n\nオープニングセレモニー\n3月21日（土）12:00〜12:30（アウラホール）\n\n\n公式サイト\nhttps://www.tokyo-infiorata.com/\n\n\n\n\n\n\n\n■会場・日程一覧\n\n\n\n\n\n\n\n区分\n会場\n日程\n\n\n\n\nオープニング\n京王聖蹟桜ヶ丘SC アウラホール\n3月21日（土）〜3月26日（木）\n\n\n会場②\n御茶ノ水ソラシティ\n3月30日（月）〜4月3日（金）\n\n\n会場③\n行幸通り（丸の内）\n4月17日（金）〜4月19日（日）\n\n\n会場④\nMUFGスタジアム\n4月18日（土）〜4月19日（日）\n\n\nファイナル①\nお台場\n5月9日（土）〜5月11日（月）\n\n\nファイナル②\nお台場\n5月16日（土）〜5月18日（月）
URL:https://futureearth.jp/event/tokyo-infiorata-2026/
LOCATION:京王聖蹟桜ヶ丘SC アウラホール
CATEGORIES:文化・伝統工芸
ATTACH;FMTTYPE=image/webp:https://futureearth.jp/wp-content/uploads/2026/03/138608-12-411cbf877754d9d4f0d8a3863a1619d5-1500x1000.jpg.webp
END:VEVENT
BEGIN:VEVENT
DTSTART;TZID=Asia/Tokyo:20260325T122000
DTEND;TZID=Asia/Tokyo:20260325T170000
DTSTAMP:20260419T235454
CREATED:20260227T131610Z
LAST-MODIFIED:20260321T122642Z
UID:7721-1774441200-1774458000@futureearth.jp
SUMMARY:ピエクレックスカンファレンス2026
DESCRIPTION:ピエクレックスカンファレンス2026\n\n\n\n株式会社ピエクレックスは、2026年3月25日（水）、東京・銀座の時事通信ホールにて「ピエクレックスカンファレンス2026」を開催します。本カンファレンスは、“脱炭素の次”として注目を集める「資源循環」をテーマに掲げ、構想にとどまらない“社会実装モデル”を提示する場として実施されます。 \n\n\n\nその象徴となるのが、GREEN×EXPO 2027（2027年国際園芸博覧会）で展開される大規模な循環実証です。約1万人規模の公式スタッフユニフォームを対象に、回収・再資源化・地域活用までを一体で運用する仕組みを初公開します。 \n\n\n\n\nピエクレックスカンファレンス2026公式ホームページ　より\n\n\n\n\n横浜園芸博やトゥンクトゥンクに関心がある方も是非！\n\n\n\n　注目セミナー「GREEN×EXPO 2027 × Team P-FACTS」では、公式スタッフユニフォームデザインを初公開。さらに当日は、公式マスコット「トゥンクトゥンク」も登場し、循環型社会の実装が動き出す瞬間を盛り上げます。 \n\n\n\n資源循環などの実務・企画担当者の方々はもちろん、横浜園芸博や「トゥンクトゥンク」に関心のある方にもおすすめの内容です。 \n\n\n\n開催概要\n\n\n\n\n\n\n\n項目\n内容\n\n\n\n\n名称\nピエクレックスカンファレンス2026\n\n\n日時\n2026年3月25日（水）12:20～17:00（11:50開場予定）\n\n\n会場\n時事通信ホール （東京都中央区銀座5-15-8 時事通信ビル2F） ※オンラインにて同時配信\n\n\n開催形式\n会場開催＋YouTube Live同時配信\n\n\n参加費\n無料（要事前申込：オンライン視聴も含む）\n\n\n主催\n株式会社ピエクレックス\n\n\n内容\n12:20～12:35 オープニング 12:35～13:00 【第1部】基調講演 13:00～14:30 【第2部】GREEN×EXPO 2027 × Team P-FACTS：社会実装フィールドの提示 ～公益社団法人2027年国際園芸博覧会協会と共同発表～ 14:30～16:00 【第3部】P-FACTS社会実装レポート 15:00～17:00 展示ブース公開・参加者交流\n\n\n参加登録\n参加フォーム\n\n\n公式サイト\nhttps://pieclex.com/conference/\n\n\n\n\n\n\n\n  \n横浜園芸博公式スタッフユニフォームを初公開！トゥンクトゥンクも！\n\n\n\n第２部「GREEN×EXPO 2027 × Team P-FACTS」では、公益社団法人2027年国際園芸博覧会協会とともに、GREEN×EXPO 2027を見据えた次世代サーキュラー・ユニフォームのデザインと、その資源循環の仕組みを紹介します。 \n\n\n\n\n　あわせて、公式スタッフユニフォームを初公開（デザインお披露目・フォトセッション）。“循環を前提としたユニフォーム”という新たな実装モデルを披露します。 \n\n　会場には公式マスコット「トゥンクトゥンク」も登場し、発表の瞬間を華やかに彩ります。 \n\n\n\n\n\n\n\n\n\n項目\n内容\n\n\n\n\nテーマ\n[第2部]GREEN×EXPO 2027 × Team P-FACTS：社会実装フィールドの提示 ～公益社団法人2027年国際園芸博覧会協会と共同発表～\n\n\n日時\n2026年3月25日（水）13:00～14:30\n\n\n内容①\nGREEN×EXPO 2027における循環プロジェクト紹介 公益社団法人2027年国際園芸博覧会協会\n\n\n内容②\n公式スタッフユニフォーム初公開（デザイン披露・フォトセッション） トゥンクトゥンク 野口 絵子氏（ミス日本グランプリ） グラファイト株式会社 代表取締役 岡部 健史氏 Team P-FACTS構成員 各社\n\n\n\n\n\n\n\n  \nピエクレックスとは？\n\n\n\n株式会社ピエクレックスは、繊維製品の回収・再資源化を軸とした循環型インフラ「P-FACTS（ピーファクツ）」を展開する企業です。製品設計から回収スキーム、堆肥化・再利用までを一体で設計することで、アパレル分野における“使い切り”構造の転換を目指しています。 企業・自治体・教育機関と連携し、循環を「取り組み」から「仕組み」へと昇華させるモデルづくりを進めています。 \n\n\n\n\nP-FACTS（ピーファクツ）循環図 Team P-FACTS、GREEN×EXPO 2027における循環型ユニフォームの取り組み、 デザイン思想を明らかに　より\n\n\n\n\n  \nTeam P-FACTSとは？\n\n\n\nTeam P-FACTSは、循環インフラ「P-FACTS」を軸に共創する企業・自治体・教育機関などのパートナー連携体です。 \n\n\n\n\nアパレル・メーカー\n\n\n\n自治体\n\n\n\n教育機関\n\n\n\n素材開発企業\n\n\n\n流通・回収事業者 など\n\n\n\n\n多様なプレイヤーが参加し、循環の“設計・回収・再生・地域活用”までを包括的に構築します。 なお、Team P-FACTSは、GREEN×EXPO 2027にプラチナパートナーとして協賛。万博を社会実装フィールドと位置づけ、実証から全国展開へのモデル構築を目指しています。 \n\n\n\n\nTeam P-FACTS、GREEN×EXPO 2027における循環型ユニフォームの取り組み、デザイン思想を明らかに　より\n\n\n\n\n  \n関連リンク\n\n\n\n\nピエクレックスカンファレンス2026\n\n\n\nGREEN×EXPO 2027 植物由来素材のユニフォームで「着る循環」社会実証プロジェクトを始動（2025.10.24）\n\n\n\nTeam P-FACTS、GREEN×EXPO 2027における循環型ユニフォームの取り組み、デザイン思想を明らかに（2025.12.8）\n\n\n\n\n  \n前回の様子（ダイジェスト動画）\n\n\n\n\nhttps://www.youtube.com/watch?v=SQVFZLsYzI0&t=1s
URL:https://futureearth.jp/event/pieclex2026/
LOCATION:時事通信ホール\, 東京都中央区銀座5-15-8 時事通信ビル2F
CATEGORIES:トゥンクトゥンク,企業・団体向けイベント
ATTACH;FMTTYPE=image/jpeg:https://futureearth.jp/wp-content/uploads/2026/02/mv01.jpg
END:VEVENT
END:VCALENDAR