BEGIN:VCALENDAR
VERSION:2.0
PRODID:-//Future Earth - ECPv6.15.20//NONSGML v1.0//EN
CALSCALE:GREGORIAN
METHOD:PUBLISH
X-ORIGINAL-URL:https://futureearth.jp
X-WR-CALDESC:Future Earth のイベント
REFRESH-INTERVAL;VALUE=DURATION:PT1H
X-Robots-Tag:noindex
X-PUBLISHED-TTL:PT1H
BEGIN:VTIMEZONE
TZID:Asia/Tokyo
BEGIN:STANDARD
TZOFFSETFROM:+0900
TZOFFSETTO:+0900
TZNAME:JST
DTSTART:20250101T000000
END:STANDARD
END:VTIMEZONE
BEGIN:VEVENT
DTSTART;TZID=Asia/Tokyo:20260809T193000
DTEND;TZID=Asia/Tokyo:20260809T193500
DTSTAMP:20260420T045927
CREATED:20260327T024405Z
LAST-MODIFIED:20260327T024405Z
UID:9314-1786303800-1786304100@futureearth.jp
SUMMARY:YOKOHAMA NIGHT FLOWERS × GREEN×EXPO 2027
DESCRIPTION:花と緑をテーマに横浜の夜空を彩る花火連携キャンペーン\n\n\n\n2027年国際園芸博覧会（GREEN×EXPO 2027）の開幕500日前となる2025年11月4日（火）を契機に、横浜ナイトフラワーズが連携キャンペーンを開始しています。 \n\n\n\n\n\n\n\nキャンペーン概要\n\n\n\nキャンペーン名称は 「YOKOHAMA NIGHT FLOWERS × GREEN×EXPO 2027」。 \n\n\n\nこの期間中（2025年11月8日〜2027年9月26日）、花火打上げ日は、GREEN×EXPO 2027をイメージし、花と緑をテーマとした演出を中心に展開。都市と自然が調和する横浜の魅力を夜空に映し出します。 \n\n\n\n開催概要\n\n\n\n\n\n\n\n項目\n内容\n\n\n\n\n期間\n2025年11月8日（土）～ 2027年9月26日（日）\n\n\nテーマ\n花と緑（GREEN×EXPO 2027をイメージ）\n\n\n内容\n特別テーマ花火の打上げ\n\n\n主催\n横浜ナイトフラワーズ実行委員会 （横浜市／横浜商工会議所／横浜港振興協会／横浜市観光協会）\n\n\n最新情報\n横浜ナイトフラワーズ公式HP\n\n\n\n\n\n\n\n※日時・詳細は随時更新されるため、公式サイトで最新情報をご確認ください。 \n\n\n\n横浜ナイトフラワーズ（2026年）スケジュール\n\n\n\n\n\n\n\n開催日\n時間\n打ち上げ場所\n当日イベント\n\n\n\n\n4月4日（土）\n19:00〜19:05\n大さん橋\nCENTRAL × LIVE！横浜 / BAY WALK KITCHEN\n\n\n4月5日（日）\n19:00〜19:05\n新港ふ頭\nCENTRAL × LIVE！横浜 / BAY WALK KITCHEN\n\n\n4月11日（土）\n19:00〜19:05\n大さん橋\n劇場版『名探偵コナン ハイウェイの堕天使』×横浜市\n\n\n4月27日（月）\n19:00〜19:05\n新港ふ頭\n東方神起×横浜 RED OCEANキャンペーン\n\n\n5月16日（土）\n19:00〜19:05\n大さん橋\n―\n\n\n5月30日（土）\n19:00〜19:05\n大さん橋\n―\n\n\n6月13日（土）\n19:30〜19:35\n新港ふ頭\n―\n\n\n7月4日（土）\n19:30〜19:35\n新港ふ頭\n―\n\n\n7月18日（土）\n19:30〜19:35\n新港ふ頭\n―\n\n\n8月9日（日）\n19:30〜19:35\n新港ふ頭\n―\n\n\n9月5日（土）\n19:00〜19:05\n新港ふ頭\n―\n\n\n9月20日（日）\n19:00〜19:05\n大さん橋\n―
URL:https://futureearth.jp/event/yokohama-night-flowers-x-greenxexpo-2027-7/
LOCATION:新港ふ頭\, 神奈川県横浜市中区新港2丁目14番1
CATEGORIES:GREEN×EXPO2027
END:VEVENT
BEGIN:VEVENT
DTSTART;VALUE=DATE:20260823
DTEND;VALUE=DATE:20260829
DTSTAMP:20260420T045927
CREATED:20260303T030113Z
LAST-MODIFIED:20260303T030113Z
UID:7836-1787443200-1787961599@futureearth.jp
SUMMARY:IHC2026（第32回国際園芸学会議）
DESCRIPTION:IHC2026（第32回国際園芸学会議）が京都で開催\n \n\n2026年8月23日（日）から28日（金）までの6日間、京都・国立京都国際会館にて、世界最大規模の園芸学術会議 IHC2026（第32回国際園芸学会議） が開催されます。国際園芸学会（ISHS）と開催国の園芸学会が共催し、4年に一度世界各地で開かれる本会議が日本で開催されるのは、1994年以来32年ぶり。\n\n \n\n世界70以上の国と地域から約2\,500名の研究者・技術者・関係者が集い、「Exploring the Diversity of Horticulture（園芸の多様性を探究する）」をテーマに、園芸学の最前線とその社会実装について議論が交わされます。\n\n \n第３回「人・自然・生命」シンポジウムも合わせて開催\n \n\nまた、国際園芸学会の会期に合わせて、第３回「人・自然・生命」シンポジウムが京都で開催される予定です。\n\n あわせて読みたい第２回「人・自然・生命」シンポジウム　日本人の忘れ物～日本人の自然観～ \n開催概要\n \n\n\n\n\n項目\n内容\n\n\n\n\n名称\n第32回国際園芸学会議（IHC2026）\n\n\n英文名\nThe 32nd International Horticultural Congress\n\n\nテーマ\nExploring the Diversity of Horticulture（園芸の多様性を探究する）\n\n\n会期\n2026年8月23日（日）～28日（金）\n\n\n会場\n国立京都国際会館（京都市左京区）\n\n\n主催\n一般社団法人園芸学会・International Society for Horticultural Science（ISHS）\n\n\n参加予定\n約2\,500名（70以上の国・地域）
URL:https://futureearth.jp/event/ihc2026-kyoto/
LOCATION:国立京都国際会館\, 京都府京都市左京区岩倉大鷺町４２２
CATEGORIES:花き園芸・造園・農関連
ATTACH;FMTTYPE=image/jpeg:https://futureearth.jp/wp-content/uploads/2026/03/IHC2026poster.jpg
END:VEVENT
END:VCALENDAR