BEGIN:VCALENDAR
VERSION:2.0
PRODID:-//Future Earth - ECPv6.15.20//NONSGML v1.0//EN
CALSCALE:GREGORIAN
METHOD:PUBLISH
X-WR-CALNAME:Future Earth
X-ORIGINAL-URL:https://futureearth.jp
X-WR-CALDESC:Future Earth のイベント
REFRESH-INTERVAL;VALUE=DURATION:PT1H
X-Robots-Tag:noindex
X-PUBLISHED-TTL:PT1H
BEGIN:VTIMEZONE
TZID:Asia/Tokyo
BEGIN:STANDARD
TZOFFSETFROM:+0900
TZOFFSETTO:+0900
TZNAME:JST
DTSTART:20250101T000000
END:STANDARD
END:VTIMEZONE
BEGIN:VEVENT
DTSTART;TZID=Asia/Tokyo:20260502T100000
DTEND;TZID=Asia/Tokyo:20260504T170000
DTSTAMP:20260420T065959
CREATED:20260302T013604Z
LAST-MODIFIED:20260407T142000Z
UID:7770-1777716000-1777914000@futureearth.jp
SUMMARY:横浜フラワー＆ガーデンフェスティバル2026
DESCRIPTION:横浜フラワー＆ガーデンフェスティバル2026｜GREEN×EXPO前年を彩る日本最大級の園芸イベント\n\n\n\n2026年5月2日（土）から4日（月・祝）までの3日間、横浜の春を代表する園芸イベント「横浜フラワー＆ガーデンフェスティバル2026」が開催されます。会場は横浜みなとみらいのランドマーク、パシフィコ横浜 展示ホールA・B。 \n\n\n\n2027年開催のGREEN×EXPO 2027（2027年国際園芸博覧会）を前年に控え、花と緑の魅力を体感しながら“新しいグリーン万博”への期待を高める機会となります。 \n\n\n\n毎日トゥンクグリーティングも！\n\n\n\n　会場では最新映像や大型マップで博覧会の魅力を伝えるほか、公式マスコット「トゥンクトゥンク」のグリーティングやスタンプラリーを毎日開催します。さらに、日替わりのいけばなライブによるフォトスポット、シェアフラワーのオブジェ、来場者の想いを描くグラフィックレコーディングなど、花と緑に親しめる多彩なコンテンツが用意されています。 \n\n\n\nゴールデンウィークは、日本最大級の園芸イベント「横浜フラワー＆ガーデンフェスティバル」へ！　より\n\n\n\n開催概要\n\n\n\n項目内容イベント名横浜フラワー＆ガーデンフェスティバル2026（YFG2026）日程2026年5月2日（土）～4日（月）時間10:00～17:00（最終日は16:00まで）※入場は閉場30分前まで会場パシフィコ横浜 展示ホールA・B入場料前売券 1\,600円／当日券 2\,000円中学生以下無料（予定・税込）主催横浜フラワー＆ガーデンフェスティバル2026実行委員会\nガーデンネックレス横浜実行委員会\n(公社)日本家庭園芸普及協会\n(株)ＮＨＫエデュケーショナル\n(一社)ＪＦＴＤ\n(株)横浜国際平和会議場\n(公社)２０２７年国際園芸博覧会協会\n(公財)横浜市緑の協会公式サイトhttps://yfg-fes.jp\n\n\n\n開催趣旨｜GREEN×EXPO 2027へつなぐ「花と緑」のレガシー\n\n\n\n横浜市は、2017年の全国都市緑化よこはまフェアを契機に誕生した「ガーデンネックレス横浜」を官民連携で展開し、花と緑あふれる都市づくりを進めてきました。 \n\n\n\nそして2027年には、1都3県で初の万博となるGREEN×EXPO 2027が開催されます。本博覧会は、日本の自然観や美意識、花と緑のある暮らし、持続可能な地域経済の創造を世界へ発信する“新しいグリーン万博”を目指しています。 \n\n\n\nその前年となる2026年、本フェスティバルは、 \n\n\n\n\n子どもから大人まで世代を超えて園芸の楽しさを共有\n\n\n\n花と緑を愛する心を育む\n\n\n\n自然との共生の大切さを感じる機会を創出\n\n\n\n花き・園芸産業の振興を後押し\n\n\n\n\n関連リンク\n\n\n\n\n横浜フラワー＆ガーデンフェスティバル公式ウェブサイト\n\n\n\n【記者発表資料】ゴールデンウィークは、日本最大級の園芸イベント「横浜フラワー＆ガーデンフェスティバル」へ！（PDF：1\,392KB）\n\n\n\n\n 
URL:https://futureearth.jp/event/yokohama-flower-garden-festival-2026/
LOCATION:パシフィコ横浜 展示ホールA・B\, 神奈川県横浜市西区みなとみらい１丁目１−１
CATEGORIES:公式イベント,花き園芸・造園・農関連
ATTACH;FMTTYPE=image/webp:https://futureearth.jp/wp-content/uploads/2026/03/bg_foot26.webp
END:VEVENT
BEGIN:VEVENT
DTSTART;TZID=Asia/Tokyo:20260429T090000
DTEND;TZID=Asia/Tokyo:20260429T160000
DTSTAMP:20260420T065959
CREATED:20260408T103819Z
LAST-MODIFIED:20260408T103820Z
UID:9921-1777453200-1777478400@futureearth.jp
SUMMARY:第８回　ガーデニング愛の祭典「花友フェスタ」
DESCRIPTION:ガーデニング愛の祭典「花友フェスタ」が幕張メッセに上陸！園芸ファン必見の見どころを紹介\n\n\n\n　日本最大級のガーデニングフェスティバル「第8回 花友フェスタ」が、2026年4月29日（水・祝）、ついに幕張メッセで開催されます！ \n\n\n\n「GREEN×EXPO 2027」PRブースで限定配布\n\n\n\n　ブースNo.B-32「GREEN×EXPO 2027」PRブースでは、朝9:00からBlooming RINGの配布を予定しています。 \n\n\n\n開催概要\n\n\n\n項目内容開催日2026年4月29日(水・祝)開催時間09:00～16:00（最終入場 15:30）会場幕張メッセ 国際展示場 展示ホール1〜3主催Lier.succulent株式会社チケット前売り券は3月発売予定\n\n\n\n豪華出展者が勢ぞろい！幕張メッセが緑に染まる\n\n\n\n　会場となる展示ホール1〜3には、全国から豪華な出展者が集結します。希少な多肉植物から、最新の園芸ツール、美しい花々まで、ここでしか出会えない植物やアイテムが目白押しです。 \n\n\n\n　園芸超人カーメン君をはじめ、業界を牽引するクリエイターや生産者の方々と直接交流できるのも、花友フェスタならではの大きな魅力です。
URL:https://futureearth.jp/event/hanatomo-festa-2026/
LOCATION:幕張メッセ　1〜3ホール\, 中瀬２丁目１\, 千葉市美浜区\, 千葉県\, Japan
CATEGORIES:花き園芸・造園・農関連
END:VEVENT
BEGIN:VEVENT
DTSTART;VALUE=DATE:20260417
DTEND;VALUE=DATE:20260420
DTSTAMP:20260420T065959
CREATED:20260324T131932Z
LAST-MODIFIED:20260329T002527Z
UID:9153-1776384000-1776643199@futureearth.jp
SUMMARY:第１４回港北オープンガーデン
DESCRIPTION:第１４回港北オープンガーデン\n\n\n\n14回目の開催を迎えた「港北オープンガーデン」は、個人宅のお庭に加え、商店街・公園・区民利用施設・学校など、ボランティアの皆さまが育てているコミュニティ花壇も会場として公開されるのが特徴。街全体を巡りながら、花と緑、そして地域の魅力に触れることができます。 \n\n\n\n本イベントを通じて、港北区の魅力を広く発信するとともに、「花と緑のまちづくり」や「コミュニティづくり」の推進が期待されています。 \nオープンガーデンPR展示｜横浜市役所（2025.9.14撮影） \n  \n\n\n\n港北区ミズキー＆ガーデンベア スタンプラリー開催\n\n\n\n注目は「トゥンクトゥンクポーチ」！\n\n\n\n港北オープンガーデンの開催にあわせて、「港北区ミズキー」と「ガーデンベア」のスタンプラリーが実施されます。パンフレットを手に、街を巡りながらスタンプを集めると、素敵な景品がもらえる人気企画です。 \n\n\n\n中でも注目は、スタンプ15個で手に入るオリジナル「トゥンクトゥンクポーチ」。横浜園芸博ファンには見逃せない限定アイテムとなっています。 \n\n\n\n\n港北オープンガーデン　より\n\n\n\n\n開催概要\n\n\n\n\n\n\n\n項目\n内容\n\n\n\n\n名称\n第14回 港北オープンガーデン\n\n\n主催\n港北オープンガーデン運営委員会／港北区役所\n\n\n開催日\n2026年4月17日（金）〜4月19日（日） 2026年5月8日（金）〜5月10日（日）\n\n\n時間\n各日 10:00〜16:00\n\n\n会場\n横浜市港北区内の個人宅の庭・コミュニティ花壇\n\n\n参加対象\nどなたでも\n\n\n参加費\n無料\n\n\n\n\n\n\n\nパンフレット\n\n\n\n\nパンフレット全ページ（PDF：26\,361KB）\n\n\n\n\n関連リンク\n\n\n\n\n港北オープンガーデン｜横浜市港北区\n\n\n\n【記者発表】過去最多の147会場が参加！第14回港北オープンガーデンを開催します！（PDF：684KB）
URL:https://futureearth.jp/event/kohoku-open-garden-2026/
LOCATION:横浜市港北区\, 横浜市港北区
CATEGORIES:区主催・地域イベント,花き園芸・造園・農関連
ATTACH;FMTTYPE=image/jpeg:https://futureearth.jp/wp-content/uploads/2026/03/スクリーンショット-2026-03-24-22.18.14.jpg
END:VEVENT
BEGIN:VEVENT
DTSTART;TZID=Asia/Tokyo:20260404T110000
DTEND;TZID=Asia/Tokyo:20260405T170000
DTSTAMP:20260420T065959
CREATED:20260329T011711Z
LAST-MODIFIED:20260329T011735Z
UID:9447-1775300400-1775408400@futureearth.jp
SUMMARY:蓼科高原バラクライングリッシュガーデンフェア＠横浜市役所
DESCRIPTION:【横浜市役所】蓼科高原バラクライングリッシュガーデンフェア開催｜ケイ山田氏が語る英国庭園と生物多様性（4/4・5）\n\n\n\n2026年4月4日（土）・5日（日）の2日間、横浜市役所アトリウムにて「蓼科高原バラクライングリッシュガーデンフェア」が開催されます。英国庭園文化を日本に広めてきたケイ山田氏によるトークショーやワークショップが実施され、花と緑のある暮らしを体感できるイベントです。 \n\n\n\nイベント概要\n\n\n\n\n\n\n\n項目\n内容\n\n\n\n\n名称\n蓼科高原 バラクラ イングリッシュ ガーデンフェア\n\n\n日時\n2026年4月4日（土）11:00～18:00 2026年4月5日（日）10:00～17:00\n\n\n会場\n横浜市役所 アトリウム\n\n\n入場\n無料（一部ワークショップ有料）\n\n\n内容\nトークショー、寄植えワークショップ、物販、フードコートなど\n\n\n\n\n\n\n\nプログラム\n\n\n\n\nケイ山田トークショー 4月4日（土）13:30～（参加無料）\n\n\n\n寄植えワークショップ 4月4日（土）14:30～（参加費：6\,000円／材料費込）\n\n\n\nバラ色の暮らしファッション展示\n\n\n\nフードコート\n\n  \n \n\n\n\nGREEN×EXPO 2027への出展と「日英友好の庭」\n\n\n\n蓼科高原バラクライングリッシュガーデン代表・ケイ山田氏は、GREEN×EXPO 2027の国際出展ゾーンにおいて英国庭園を出展予定です。 英国王立園芸協会（RHS）など英国園芸関連団体の推薦を受け、日英協会・英国市場協議会の後援のもと、「日英友好の庭」を創出します。 \n\n\n\n\n2027 横浜 国際園芸博覧会でケイ山田は日英友好の英国庭園を創作します　より\n\n\n\n\n関連リンク\n\n\n\n\n蓼科高原バラクライングリッシュガーデン\n\n\n\n2027 横浜 国際園芸博覧会でケイ山田は日英友好の英国庭園を創作します
URL:https://futureearth.jp/event/barakura-english-garden-fair-yokohama-202604/
LOCATION:横浜市役所1階 アトリウム\, 神奈川県横浜市中区本町６丁目５０−１０
CATEGORIES:花き園芸・造園・農関連
END:VEVENT
BEGIN:VEVENT
DTSTART;TZID=Asia/Tokyo:20260404T100000
DTEND;TZID=Asia/Tokyo:20260405T160000
DTSTAMP:20260420T065959
CREATED:20260131T100256Z
LAST-MODIFIED:20260327T205706Z
UID:6517-1775296800-1775404800@futureearth.jp
SUMMARY:第48回よこはま花と緑のスプリングフェア2026｜横浜公園会場
DESCRIPTION:第48回よこはま花と緑のスプリングフェア2026\n　横浜の春の訪れを告げる恒例イベント「第48回よこはま花と緑のスプリングフェア2026」 が開催されます。 \n　横浜公園では、色とりどりのチューリップが一斉に咲き誇り、街なかに春の華やぎを演出。さらに、山下公園の花壇展や日本大通りでは、約1か月にわたって春の花々を楽しむことができます。GREEN×EXPOブースではSNSフォローでBlooming Ringも配布します。 \n \n開催概要\n\n\n \n\n\n\n\n項目\n内容\n\n\n\n\nイベント名\n第48回よこはま花と緑のスプリングフェア2026\n\n\n会場①\n横浜公園 2026年4月4日（土）・5日（日）10:00～16:00\n\n\n会場②\n山下公園（花壇展）・日本大通り 2026年4月4日（土）～5月6日（水・休）終日\n\n\n主催\nよこはま花と緑のスプリングフェア運営委員会
URL:https://futureearth.jp/event/yokohama-flower-green-spring-fair-2026/
LOCATION:横浜公園\, 神奈川県横浜市中区横浜公園
CATEGORIES:GREEN×EXPO2027,花き園芸・造園・農関連
ATTACH;FMTTYPE=image/jpeg:https://futureearth.jp/wp-content/uploads/2026/01/4be0bfc346d4cdb5aeab82f415c316393714bf56.jpg
END:VEVENT
BEGIN:VEVENT
DTSTART;VALUE=DATE:20260404
DTEND;VALUE=DATE:20260507
DTSTAMP:20260420T065959
CREATED:20260131T100528Z
LAST-MODIFIED:20260203T064437Z
UID:6521-1775260800-1778111999@futureearth.jp
SUMMARY:第48回よこはま花と緑のスプリングフェア2026｜山下公園・日本大通り会場
DESCRIPTION:第48回よこはま花と緑のスプリングフェア2026\n　横浜の春の訪れを告げる恒例イベント「第48回よこはま花と緑のスプリングフェア2026」 が開催されます。 \n　横浜公園では、色とりどりのチューリップが一斉に咲き誇り、街なかに春の華やぎを演出。さらに、山下公園の花壇展や日本大通りでは、約1か月にわたって春の花々を楽しむことができます。 \n \n開催概要\n\n\n \n\n\n\n\n項目\n内容\n\n\n\n\nイベント名\n第48回よこはま花と緑のスプリングフェア2026\n\n\n会場①\n横浜公園 2026年4月4日（土）・5日（日）10:00～16:00\n\n\n会場②\n山下公園（花壇展）・日本大通り 2026年4月4日（土）～5月6日（水・休）終日\n\n\n主催\nよこはま花と緑のスプリングフェア運営委員会
URL:https://futureearth.jp/event/yokohama-flower-green-spring-fair-2026_2/
LOCATION:山下公園・日本大通り\, 神奈川県横浜市中区山下町２７９
CATEGORIES:GREEN×EXPO2027,花き園芸・造園・農関連
END:VEVENT
BEGIN:VEVENT
DTSTART;TZID=Asia/Tokyo:20260328T110000
DTEND;TZID=Asia/Tokyo:20260329T180000
DTSTAMP:20260420T065959
CREATED:20260225T124537Z
LAST-MODIFIED:20260225T124537Z
UID:7562-1774695600-1774807200@futureearth.jp
SUMMARY:YOKOHAMA FLOWER BASE
DESCRIPTION:YOKOHAMA FLOWER BASE\n \n\n公益財団法人横浜市観光協会は、GREEN×EXPO 2027の開催に向けた機運醸成の一環として、横浜の象徴である「港」と「花」を掛け合わせた新たな観光ブランディング「花の港」を、2025年9月19日（金）より展開しています。\n\n \n\nFLOWER GARDEN 2026の連携施策として、市内の花屋がカーゴバイクを花で装飾した移動式観光案内所 「YOKOHAMA FLOWER BASE」 が登場します。\n\n \n\n会場では、GREEN×EXPO 2027をはじめとする横浜の観光情報や花に関する情報を発信。\n最終日には、装飾に使用した花のプレゼント企画も予定されています。\n\n \n開催概要\n \n\n\n\n\n項目\n内容\n\n\n\n\n日程\n2026年3月28日（土）・29日（日）\n\n\n時間\n11:00～18:00\n\n\n会場\n横浜・ベイエリア（FLOWER GARDEN 2026会場内）\n\n\n公式HP\nhttps://www.welcome.city.yokohama.jp/hanaminato/\n\n\n公式Instagram\nhttps://www.instagram.com/yokohama_visitors_guide/
URL:https://futureearth.jp/event/yokohama-flower-base/
LOCATION:横浜・ベイエリア
CATEGORIES:GREEN×EXPO2027,花き園芸・造園・農関連
ATTACH;FMTTYPE=image/webp:https://futureearth.jp/wp-content/uploads/2026/02/251213-14a.webp
END:VEVENT
BEGIN:VEVENT
DTSTART;VALUE=DATE:20260327
DTEND;VALUE=DATE:20260420
DTSTAMP:20260420T065959
CREATED:20260129T133241Z
LAST-MODIFIED:20260129T133358Z
UID:6451-1774569600-1776643199@futureearth.jp
SUMMARY:横浜赤レンガ倉庫『FLOWER GARDEN 2026』
DESCRIPTION:横浜赤レンガ倉庫『FLOWER GARDEN 2026』開催｜花と“過ごす”没入体験で春を楽しむ\n\n\n\n横浜赤レンガ倉庫では、2026年3月27日（金）〜4月19日（日）までの24日間、春の恒例イベント『FLOWER GARDEN 2026』が開催されます。 \n\n\n\n2007年から続く本イベントは、今年で20回目。テーマは「Take a Break」——花を「見る」だけでなく、花とともに過ごし、休み、整える没入体験を届けます。 \n\n\n\nフラワーカラーセラピーで“ご自愛”する花畑\n\n\n\n会場には約1\,200㎡の敷地いっぱいに、約20\,000株・18種類以上の春の花々が咲き誇ります。 色彩設計にはフラワーカラーセラピーの考え方を採用。 \n\n\n\n\n紫：Imagination（心理的なやすらぎ）\n\n\n\n黄：Pure（環境的な心地よさ）\n\n\n\nピンク：Love（身体的なリラックス）\n\n\n\n\nエリアごとに異なるBGMやベンチが配置され、ただ眺めるだけでなく、思い思いの「ひとやすみ」を過ごせる空間が広がります。 \n\n\n\nGREEN×EXPO 2027へとつながる春の風景\n\n\n\n本イベントは、横浜で開催される国際園芸博覧会、GREEN×EXPO 2027に向けた機運醸成の一環として実施されます。 \n\n\n\n会場内には、公式マスコットトゥンクトゥンクのオブジェも設置。「ガーデンネックレス2026」や「花の港」など、横浜全体を花と緑でつなぐ取り組みとも連携します。 \n\n\n\n懐かしさに包まれる「ふるさと」モチーフ\n\n\n\n会場には、心がほどける“ふるさと”の記憶を呼び起こす演出も。 \n\n\n\n\nかつて赤レンガ倉庫に存在した駅をオマージュした花のプラットホーム\n\n\n\n民家の縁側をイメージした花の水車\n\n\n\n寝転べる芝生の丘や、空を見上げられるリラックススポット\n\n\n\n\n世代を問わず、懐かしく温もりのある時間を楽しめます。 \n\n\n\n参加型＆サステナブルな取り組み\n\n\n\nみんなでつくる花壇\n\n\n\nイベント初日には、来場者と一緒に花を植えて会場を完成させる参加型企画を実施予定。 ※申込方法は2月下旬発表予定 \n\n\n\n花の無料配布\n\n\n\n最終日には、会場で使用した花の一部を無料配布。 花の100％再利用を目指す、横浜赤レンガ倉庫のサステナブルな取り組みです。 \n\n\n\n開催概要\n\n\n\n\n\n\n\n項目\n内容\n\n\n\n\nイベント名\nFLOWER GARDEN 2026\n\n\n期間\n2026年3月27日（金）～4月19日（日）〈計24日間〉\n\n\n開催時間\n11:00～21:00（ライトアップ 17:30～21:00） ※3/27は11:00オープン、4/19は18:00終了\n\n\n会場\n横浜赤レンガ倉庫 イベント広場\n\n\n入場料\n無料（飲食・物販は別途）\n\n\n内容\n約20\,000株・18種以上の花畑展示、カラーセラピー演出、フォトスポット、屋外図書館、プレイエリア\n\n\n特別企画\nみんなでつくる花壇（3/27・事前申込制） 花の無料配布（4/19・数量限定）\n\n\n主催\n横浜赤レンガ倉庫\n\n\n後援\nGREEN×EXPO協会\n\n\n公式サイト\nhttps://www.yokohama-akarenga.jp/brickjournal/detail/179
URL:https://futureearth.jp/event/flower-garden-2026-yokohama-akarenga/
LOCATION:横浜赤レンガ倉庫 イベント広場\, 神奈川県横浜市中区新港１丁目１
CATEGORIES:GREEN×EXPO2027,花き園芸・造園・農関連
ATTACH;FMTTYPE=image/webp:https://futureearth.jp/wp-content/uploads/2026/01/23251-178-e8729e75363e0bc2b883274c35c70f43-822x508.png.webp
END:VEVENT
BEGIN:VEVENT
DTSTART;VALUE=DATE:20260320
DTEND;VALUE=DATE:20260323
DTSTAMP:20260420T065959
CREATED:20260318T132300Z
LAST-MODIFIED:20260318T132300Z
UID:8646-1773964800-1774223999@futureearth.jp
SUMMARY:フラワー＆グリーンMOTOMACHI2026
DESCRIPTION:【イベント情報】フラワー＆グリーンMOTOMACHI2026｜元町ショッピングストリートが花でつながる3日間\n \n\n2026年3月20日（金・祝）〜22日（日）の3日間、元町ショッピングストリートにて「フラワー＆グリーンMOTOMACHI2026」が開催されます。\n\n\n\n \n開催概要\n \n\n\n\n\n項目\n内容\n\n\n\n\nイベント名\nフラワー＆グリーンMOTOMACHI2026\n\n\n開催日\n2026年3月20日（金・祝）〜22日（日）\n\n\n会場\n元町ショッピングストリート（横浜市中区）\n\n\n主催\n協同組合元町エスエス会\n\n\n内容\nいけばなデモ、ワークショップ、グリーティング、花の配布 など\n\n\n公式サイト\nhttps://www.motomachi.or.jp/event/flowergreenmotomachi2026/
URL:https://futureearth.jp/event/flower-green-motomachi-2026/
LOCATION:元町ショッピングストリート\, 神奈川県横浜市中区元町１丁目８
CATEGORIES:花き園芸・造園・農関連
ATTACH;FMTTYPE=image/jpeg:https://futureearth.jp/wp-content/uploads/2026/03/FlowerGreen_800x480_0310.jpg
END:VEVENT
BEGIN:VEVENT
DTSTART;VALUE=DATE:20260319
DTEND;VALUE=DATE:20260323
DTSTAMP:20260420T065959
CREATED:20260304T123136Z
LAST-MODIFIED:20260304T123136Z
UID:7918-1773878400-1774223999@futureearth.jp
SUMMARY:「花の港」イベント｜トゥンクトゥンクデザインのオリジナルフラワーバッグも
DESCRIPTION:横浜で「花の港」イベント開催　フラワースポット＆えらぶゆり展示【3/19～22】\n \n\n公益財団法人横浜市観光協会が主催する横浜市内で花をテーマにしたイベント「花の港」が、2026年3月19日(木)〜22日(日)に開催されます。\n\n \n\n「花の港」は、“花と幸せがあふれる豊かな港まち・横浜”をコンセプトにした観光ブランディング事業。2027年のGREEN×EXPO 2027開催1年前に合わせ、横浜駅周辺など市内3か所にフラワースポットが登場します。\n\n \n\n会場では写真投稿キャンペーンも実施。SNS投稿した来場者には、公式マスコット「トゥンクトゥンク」をあしらったフラワーバッグ入りのお花がプレゼントされます。\n\n \nフラワースポット（横浜市内3か所）\n \n\n横浜市内3か所に、思わず写真を撮りたくなる華やかなフラワースポットが登場。\nそれぞれ異なる花屋が装飾を担当し、個性あふれる花の演出を楽しめます。\n\n \n横浜駅西口エリア（みなみ西口）\n「花の港」イベント 3月19日(木)～3月22日(日)に開催　より\n \nフラワースポット概要\n \n\n\n\n\n日時\n場所\n\n\n\n\n2026年3月20日（金・祝）\n11:00-17:00\n横浜駅西口（①みなみ西口②幸川橋）\nBASEGATE横浜関内\nランドマークプラザ3階\n\n\n2026年3月21日（土）・22日（日）\n11:00-17:00\n横浜駅東口（はまテラス）\nBASEGATE横浜関内\nランドマークプラザ3階\n\n\n\n\n \n\n※横浜駅東口は11:30開始\n\n \nSNS投稿キャンペーン\n \n\n各フラワースポットでは、SNS投稿キャンペーンを実施。\n\n \n参加方法\n \n\n 	横浜市観光協会公式SNS（Instagram・X・Facebook）をフォロー\n \n 	「#花の港」を付けて写真を投稿\n\n \n\n投稿した方には、各日先着100名にお花をプレゼント。\n花は、トゥンクトゥンクデザインのオリジナルフラワーバッグに入れて渡されます。\n\n \n「花の港」イベント 3月19日(木)～3月22日(日)に開催　より\n \nBankPark YOKOHAMAで特別展示\n \n\n横浜の花文化の歴史を紹介する特別展示も開催されます。会場は、旧第一銀行横浜支店の建物を活用したBankPark YOKOHAMA。\nかつて横浜港は、日本の花を世界へ送り出す輸出拠点でした。特にユリ球根の輸出が盛んで、鹿児島県・沖永良部島産のユリが海外へ渡っていきました。今回の展示では、その歴史を紹介するとともに、「えらぶゆり」100本を展示し、横浜の花文化を体感できます。\nさらに、昨年の写真投稿キャンペーン「花の港」写真展の入賞作品27点も展示されます。\n\n \n特別展示概要\n \n\n\n\n\n項目\n内容\n\n\n\n\n期間\n2026年3月19日(木)～3月22日(金)\n\n\n時間\n11:00～17:00\n\n\n会場\nBankPark YOKOHAMA（横浜市中区本町6-50-1 横浜アイランドタワー低層棟）\n\n\n展示\nえらぶゆり100本展示・写真展\n\n\n\n\n \n\n※SNSフォローで各日先着100名に「ペチュニア栽培キット缶」をプレゼント\n\n \n「花の港」イベント 3月19日(木)～3月22日(日)に開催　より\n \n関連リンク\n \n\n 	花の港月間｜横浜市観光協会
URL:https://futureearth.jp/event/hananominato-yokohama-2026/
LOCATION:横浜駅西口・ BASEGATE横浜関内・ランドマークプラザ3階ほか\, 神奈川県横浜市神奈川区鶴屋町３丁目
CATEGORIES:花き園芸・造園・農関連
ATTACH;FMTTYPE=image/webp:https://futureearth.jp/wp-content/uploads/2026/03/48026-176-f5cff4fcb8d3d31f7574fe48b3ff511b-1536x1024.png.webp
END:VEVENT
BEGIN:VEVENT
DTSTART;TZID=Asia/Tokyo:20260226T140000
DTEND;TZID=Asia/Tokyo:20260226T170000
DTSTAMP:20260420T070000
CREATED:20260129T131557Z
LAST-MODIFIED:20260129T131620Z
UID:6441-1772114400-1772125200@futureearth.jp
SUMMARY:〜BEYOND THE HARVEST〜 横浜農業を「カルチャー」へアップデート 若者×農家でつくる、次世代の『特産品』開発ラボ
DESCRIPTION:〜BEYOND THE HARVEST〜\n横浜農業を「カルチャー」へアップデート\n若者×農家でつくる、次世代の『特産品』開発ラボ \n気候変動を背景に、横浜の農業はいま大きな転換期を迎えています。マンゴーやゴーヤ、レモンなど、環境変化に適応した新たな作物に挑戦する若手農家の取り組みを起点に、横浜の農業を「カルチャー」として再編集する共創ワークショップを開催します。 \n本イベントでは、実だけでなく通常は廃棄されてしまう枝葉などの「素材」にも注目。食・日用品・デザイン・体験・サービスなど、多様な切り口から横浜の新しい特産品・魅力づくりを探ります。 \n2027年に開催される GREEN×EXPO 2027 を見据え、「見る側」ではなく「つくる側」として関わりたい方の参加をお待ちしています。 \n\n開催概要\n\n\n\n\n\n\n\n項目\n内容\n\n\n\n\nイベント名\n〜BEYOND THE HARVEST〜 横浜農業を「カルチャー」へアップデート 若者×農家でつくる、次世代の『特産品』開発ラボ\n\n\n開催日\n2026年2月26日（木）\n\n\n時間\n14:00〜17:00\n\n\n会場\nJA横浜 都筑中川支店 研修室\n\n\n住所\n〒224-0003 横浜市都筑区中川中央1-26-6\n\n\nアクセス\n横浜市営地下鉄 センター北駅より徒歩1分\n\n\n定員\n20名\n\n\n参加費\n無料\n\n\n申込締切\n2026年2月23日（月）24:00\n\n\n主催\nヨコハマ未来創造会議、JA横浜\n\n\n運営\n株式会社ロフトワーク\n\n\n備考\n申込多数の場合は抽選となる可能性があります。 記録用に撮影を行い、後日Web等に掲載される場合があります。\n\n\n\n\n\n\n 
URL:https://futureearth.jp/event/beyond-the-harvest-yokohama-agriculture-culture-lab/
LOCATION:JA横浜 都筑中川支店 研修室\, 神奈川県横浜市都筑区中川中央１丁目２６−６
CATEGORIES:共創・連携,花き園芸・造園・農関連
ATTACH;FMTTYPE=image/webp:https://futureearth.jp/wp-content/uploads/2026/01/ja_top1.jpg.webp
END:VEVENT
BEGIN:VEVENT
DTSTART;TZID=Asia/Tokyo:20260221T140000
DTEND;TZID=Asia/Tokyo:20260221T153000
DTSTAMP:20260420T070000
CREATED:20260202T010430Z
LAST-MODIFIED:20260202T010430Z
UID:6556-1771682400-1771687800@futureearth.jp
SUMMARY:GREEN×EXPO2027関連講演「日本文化と植物、日本庭園のこれから」
DESCRIPTION:GREEN×EXPO2027関連講演「日本文化と植物、日本庭園のこれから」がJICA横浜で開催\n \n\n2027年に横浜で開催されるGREEN×EXPO2027（2027年国際園芸博覧会）に関連する講演イベントとして、東京農業大学・鈴木貢次郎教授による「日本文化と植物、日本庭園」をテーマにした講演がJICA横浜で開催されます。\n\n \n\n「日本版シルクロード」と呼ばれる絹の道をはじめ、日本の歴史・文化と植物の関係性を紐解く内容で、2025年に刊行された著書『バイリンガル 日本文化と植物』にも触れながら、日本庭園のこれからについても考える機会となります。\n\n \n\nイベント終了後には、希望者向けに海外移住資料館のガイドツアーも実施されます。参加は無料、事前申込制です。\n\n \n開催概要\n \n\n\n\n\n項目\n内容\n\n\n\n\nイベント名\nGREEN×EXPO2027関連講演「日本文化と植物、日本庭園のこれから」\n\n\n日時\n2026年2月21日（土）\n開演 14:00（開場 13:30）〜終了 15:30\n\n\n会場\nJICA横浜 1階 会議室1\n\n\n定員\n40名（事前申込制）\n\n\n対象\nどなたでも参加可能\n\n\n参加費\n無料\n\n\n主催\nJICA横浜\n\n\n講師\n鈴木 貢次郎教授（東京農業大学 地域環境科学部 造園学科）\n\n\n追加プログラム\n海外移住資料館ガイドツアー（希望制）\n\n\n申込方法\n専用フォームより申込（先着・定員到達次第締切）\n\n\n備考\n申込後、参加確定メールは後日送信\n\n\n\n\n \n\n 	案内チラシ（PDF/529KB）\n\n \n\n \n関連リンク\n \n\n 	【参加者募集中！】GREEN×EXPO 2027関連講演「日本文化と植物、日本庭園のこれから」JICA横浜
URL:https://futureearth.jp/event/greenexpo2027-jica-lecture-japan-garden/
LOCATION:JICA横浜 1階 会議室1\, 横浜市中区新港2-3-1
CATEGORIES:シンポジウム,花き園芸・造園・農関連
ATTACH;FMTTYPE=image/jpeg:https://futureearth.jp/wp-content/uploads/2026/01/flyer.jpg
END:VEVENT
BEGIN:VEVENT
DTSTART;TZID=Asia/Tokyo:20260220T100000
DTEND;TZID=Asia/Tokyo:20260221T190000
DTSTAMP:20260420T070000
CREATED:20260218T005120Z
LAST-MODIFIED:20260218T005153Z
UID:7301-1771581600-1771700400@futureearth.jp
SUMMARY:クリスマスローズの世界展 2026
DESCRIPTION:クリスマスローズの世界展 2026\n\n\n\n2026年2月20日（金）・21日（土）の2日間、サンシャインシティ ワールドインポートマートビル4階 展示ホールAにて「クリスマスローズの世界展 2026」が開催されます。全国から集まる多彩なクリスマスローズの逸品や銘品を一堂に紹介する花の展示イベントです。 \n\n\n\n\n\n\n\n開催概要\n\n\n\n\n\n\n\n項目\n内容\n\n\n\n\nイベント名\nクリスマスローズの世界展 2026\n\n\n日時\n2026年2月20日（金）～2月21日（土）　10:00～19:00\n\n\n特別入場時間\nアーリー 9:00 ／ レイト 15:00 ※各時間帯ごとにチケットが必要\n\n\n会場\nサンシャインシティ ワールドインポートマートビル 4F 展示ホールA\n\n\n主催\nクリスマスローズの世界展 実行委員会\n\n\n特別協力\n日本クリスマスローズ協会、サンシャインシティ、ヤマト運輸株式会社\n\n\n後援\n農林水産省、公益社団法人2027年国際園芸博覧会協会\n\n\n公式情報\nクリスマスローズの世界展 2026\n\n\n\n\n\n\n\nチケット価格一覧\n\n\n\n\n\n\n\nチケット区分\n入場時間\n前売券\n当日券\nチケット内容\n\n\n\n\nアーリーチケット\n9:00～\n2\,750円\n3\,000円\n最新品種や育種農家がお手塩にかけた珍しい品種などに出会える、1時間早く入場できるチケット\n\n\n一般チケット\n10:00～19:00\n880円\n1\,000円\nクリスマスローズの世界展を朝から晩まで思いっきり楽しめるチケット\n\n\nレイトチケット\n15:00～19:00\n550円\n―（販売なし）\n空いている時間帯からのんびり楽しめるチケット（前売券のみ）\n\n\n\n\n\n\n\n※中学生以下入場無料 ※レイトチケットは前売券のみ販売（当日券なし）
URL:https://futureearth.jp/event/christmasrose-world-2026/
LOCATION:サンシャインシティ ワールドインポートマートビル 4F 展示ホールA\, 東京都豊島区東池袋３丁目１
CATEGORIES:GREEN×EXPO2027,花き園芸・造園・農関連
END:VEVENT
BEGIN:VEVENT
DTSTART;TZID=Asia/Tokyo:20260214T100000
DTEND;TZID=Asia/Tokyo:20260215T150000
DTSTAMP:20260420T070000
CREATED:20260202T005617Z
LAST-MODIFIED:20260206T020313Z
UID:6549-1771063200-1771167600@futureearth.jp
SUMMARY:令和７年度 花とみどりのフェスティバル（第48回神奈川県花き展覧会）
DESCRIPTION:令和７年度 花とみどりのフェスティバル（第48回神奈川県花き展覧会）\n\n\n\n花とみどりのフェスティバル実行委員会他は、2026年2月14日(土)・15日(日)に令和７年度 花とみどりのフェスティバル（第48回神奈川県花き展覧会）を横浜産貿ホール「マリネリア」にて開催します。 \n\n\n\n神奈川県内では、四季折々の花きが多様に生産されており、全国でも有数の花の産地として知られています。本イベントは、生産者の栽培技術の向上を目的とした品評会とあわせて、県内産の花の魅力を広く知ってもらう展覧会として毎年開催されています。 \n\n\n\n開催概要\n\n\n\n\n\n\n\n項目\n内容\n\n\n\n\nイベント名\n令和７年度 花とみどりのフェスティバル（第48回神奈川県花き展覧会）\n\n\n開催日\n2月14日（土）10:00〜16:30（展覧会）2月15日（日）10:00〜15:00（即売会）\n\n\n会場\n横浜産貿ホール「マリネリア」（横浜市中区山下町2）\n\n\nアクセス\nみなとみらい線「日本大通り駅」3番出口より徒歩約5分\n\n\n参加費\n入場無料（ワークショップ・花育教室は有料）\n\n\n主催\n神奈川県花き・植木振興地域協議会 花とみどりのフェスティバル実行委員会 神奈川県 （一社）神奈川県園芸協会 神奈川県花き温室園芸協会連合会 神奈川県花卉商協同組合\n\n\n\n\n\n\n\n\n\n\n\n\n\n\n\n\n\n令和７年度花とみどりのフェスティバル(第４８回神奈川県花き展覧会)｜チラシ[PDF] \n\n\n\nイベント内容\n\n\n\n1. 展覧会（2月14日・15日）\n\n\n\n県内産の切花、鉢花、花苗、フラワーアレンジメント作品など300点以上を展示。 農林水産大臣賞、神奈川県知事賞などの各賞が授与されます。 \n\n\n\n2. 花にふれよう！花育教室（事前申込・先着／県内小中学生対象）\n\n\n\nプロの花屋さんや生け花の先生と一緒に、季節の花を使ったアレンジメントを楽しく体験できる教室です。 \n\n\n\n開催日時： \n\n\n\n\n① 2/14（土）11:00〜12:00｜フラワーアレンジメント\n\n\n\n② 2/15（日）13:00〜14:00｜生け花\n\n\n\n\n対象：県内在住の小・中学生（各回25名） 参加費：1\,000円（当日支払い） 会場：花き展覧会 会場内 申込方法：1月10日（土）から formzu（メールフォーム）で受付開始 申込先：（一社）神奈川県園芸協会 \n\n\n\n3. ワークショップ（事前申込不要）\n\n\n\n2月14日（土）10:00〜15:00 \n\n\n\n季節の花でつくる フラワーアレンジメントのワークショップ を開催。 どなたでも参加できます。 \n\n\n\n参加費：1\,000円（当日受付） 会場：花き展覧会 会場内 \n\n\n\n4. 販売コーナー（2月14・15日）\n\n\n\n県内産の花きや関連雑貨などを販売。 地元の花を手に取れる人気コーナーです。 \n\n\n\n5. 即売会（2月15日 10:00〜15:00 ※売り切れ次第終了）\n\n\n\n展覧会に出品された 切花・鉢花・アレンジメント作品 を即売。 バラ、カーネーション、シクラメン、花苗、洋ランなど、質の高い花が揃います。 \n\n\n\n※支払いは現金のみ \n\n\n\nまとめ\n\n\n\n神奈川県の花の魅力を一度に味わえる年に一度の大規模イベント。 展示だけでなく、ワークショップや花育教室、即売会など、ご家族で楽しめるコンテンツが充実しています。 \n\n\n\n横浜では2027年にGREEN×EXPO 2027（国際園芸博覧会）も控えており、地域の花文化を知る絶好の機会となりそうです。 \n\n\n\n関連リンク\n\n\n\n\n神奈川県園芸協会
URL:https://futureearth.jp/event/kanagawa-flower-festival-2026/
LOCATION:横浜産貿ホール「マリネリア」\, 横浜市中区山下町2
CATEGORIES:神奈川イベント,花き園芸・造園・農関連
ATTACH;FMTTYPE=image/jpeg:https://futureearth.jp/wp-content/uploads/2025/12/hanafesR7_ページ_1.jpg
END:VEVENT
BEGIN:VEVENT
DTSTART;VALUE=DATE:20260205
DTEND;VALUE=DATE:20260212
DTSTAMP:20260420T070000
CREATED:20260131T101424Z
LAST-MODIFIED:20260131T101424Z
UID:6524-1770249600-1770854399@futureearth.jp
SUMMARY:世界らん展2026 ‐花と緑の祭典‐
DESCRIPTION:100万輪の蘭と香りに包まれる7日間。国内最大級の“蘭の祭典”が東京ドームシティで開催\n \n\n国内最大級の蘭の展示・販売会「世界らん展2026 ‐花と緑の祭典‐」が、2026年2月5日（木）から11日（水・祝）までの7日間、東京ドームシティプリズムホールで開催されます。\n\n \n\n36回目を迎える今回は、1\,000種以上・100万輪もの蘭が会場を埋め尽くし、ひと足早い“春の訪れ”を感じられる華やかな空間が広がります。\nさらに、世界的パティシエ・辻口博啓さん監修の限定スイーツも登場し、花・香り・味覚まで楽しめる、五感で堪能する蘭の祭典となっています。\n\n \n\n\n開催概要\n \n\n\n\n\n項目\n内容\n\n\n\n\n名称\n世界らん展2026 ‐花と緑の祭典‐\n\n\n開催期間\n2026年2月5日（木）～11日（水・祝）〈7日間〉\n\n\n開催時間\n5日(木) 10:00～18:00（※9:00～先行入場）\n6日(金) 10:00～20:00（※9:30～先行入場）\n7日(土)・8日(日) 10:00～18:00（※9:30～先行入場）\n9日(月) 10:00～18:00\n10日(火) 10:00～20:00\n11日(水･祝) 10:00～18:00\n\n\n会場\n東京ドームシティ プリズムホール（東京都文京区後楽1-3-61）\n\n\n主催\n世界らん展実行委員会（読売新聞社、NHK、世界らん展組織委員会、東京ドーム）\n\n\n入場料\n前売 2\,100円／当日 2\,300円 ほか\n\n\n特別チケット\n先行入場前売券：5日 4\,000円／6～8日 3\,000円\n\n\nチケット販売\n読売新聞オンラインチケットストア、美術展ナビチケットアプリ、各種プレイガイド\n\n\n公式サイト\nhttps://www.event-td.com/orchid/
URL:https://futureearth.jp/event/world-orchid-exhibition-2026/
LOCATION:東京ドームシティ プリズムホール\, 東京都文京区後楽1-3-61
CATEGORIES:花き園芸・造園・農関連
ATTACH;FMTTYPE=image/webp:https://futureearth.jp/wp-content/uploads/2026/01/77656-407-a261378c3de9ae1c05e58bcb5a985940-1401x1969.jpg.webp
END:VEVENT
BEGIN:VEVENT
DTSTART;TZID=Asia/Tokyo:20260130T103000
DTEND;TZID=Asia/Tokyo:20260201T160000
DTSTAMP:20260420T070000
CREATED:20260123T135018Z
LAST-MODIFIED:20260125T230951Z
UID:6106-1769769000-1769961600@futureearth.jp
SUMMARY:第74回関東東海花の展覧会
DESCRIPTION:第74回関東東海花の展覧会\n花に対する理解を深め、一層の花の消費拡大を図ることを目的として、関東東海地域の1都11県と花き関係5団体が主催する日本で最大規模の花の展覧会です。第74回を迎える今年度は、栃木県が当番県をつとめます。 \n  \n【栃木県特別展示】 \n　テーマ「花ある暮らしへ誘うとちぎ旅」 \n世界に誇る観光地と、四季の彩りに包まれた自然が調和する栃木県の風景。 その旅の記憶は、ふとした瞬間に心にやすらぎをもたらし、暮らしにそっと彩りを 添えてくれます。とちぎ旅の魅力が花のある暮らしに誘う展示を御堪能ください。 \n【花の品評会】 \n関東東海地域1都11県の花の生産者が育てた自慢の 切花や鉢物等が約1\,800点出品され、その品質と商品 性を競います。 \n【フラワーデザインコンテスト】 \n関東東海地域1都11県の花のデザイナーが作成した 自慢のアレンジメント等が約100点出品され、その 技術や創造性を競います。 \n【花の装飾展示】 \n　主催団体による花の大型装飾展示を行います。 \n【産地紹介コーナー】 \n　関東東海地域の各都県による特産の花やオリジナル品種等を紹介します。 \n【園芸教室】 \n　春をイメージした軽やかなアレンジ作品を作ってお持ち帰りできます。 \n【花の即売会】 \n毎年大人気！品評会に出品された選りすぐりの切花や鉢花を販売します。 \n  \nポスター（PDF：4\,029KB） \nリーフレット（PDF：2\,954KB） \n \n \n日時\n\n1月30日（金）10:30～15:30\n1月31日（土）10:00～18:00\n2月1日（日）10:00～16:00\n\n場所\n池袋・サンシャインシティ(東京都豊島区東池袋3-1-4)\n文化会館ビル2F展示ホールD \n第74回関東東海花の展覧会 — 主催／後援／協賛一覧\n\n\n\n\n\n区分\n団体名\n\n\n\n\n主催\n栃木県、東京都、埼玉県、千葉県、静岡県、愛知県、茨城県、群馬県、神奈川県、岐阜県、三重県、山梨県\n\n\n主催\n一般社団法人日本花き生産協会、一般社団法人日本花き卸売市場協会、一般社団法人JFTD、一般社団法人日本種苗協会、公益社団法人日本フラワーデザイナー協会\n\n\n後援\n農林水産省、株式会社サンシャインシティ\n\n\n協賛\n（一社）全国農業協同組合中央会、（公社）園芸文化協会、東海地域花き普及・振興協議会、日本洋蘭農業協同組合、家庭園芸肥料・用土協議会、東京花き共同荷受（株）、（公社）2027年国際園芸博覧会協会、千葉県花き園芸組合連合会、東京都花卉園芸組合連合会、三重県花植木振興会、山梨県花き園芸組合連合会、全国農業協同組合連合会主催都県本部（東京都、埼玉県、千葉県、茨城県、群馬県、神奈川県、岐阜県）、静岡県経済農業協同組合連合会、愛知県経済農業協同組合連合会、栃木県農業協同組合中央会、全国農業協同組合連合会栃木県本部、全国共済農業協同組合連合会栃木県本部、（一社）とちぎ農産物マーケティング協会、栃木県植物市場（株）、（一社）全国肥料商連合会栃木県部会、（有）トチミ・グリーン・サービス
URL:https://futureearth.jp/event/kanto-tokai-hana-tenrankai-2026/
LOCATION:池袋・サンシャインシティ 文化会館ビル2F展示ホールD\, 東京都豊島区東池袋3-1-4
CATEGORIES:GREEN×EXPO2027,花き園芸・造園・農関連
ATTACH;FMTTYPE=image/jpeg:https://futureearth.jp/wp-content/uploads/2026/01/20251111065101_ページ_1-e1769382587822.jpg
END:VEVENT
BEGIN:VEVENT
DTSTART;TZID=Asia/Tokyo:20260130T100000
DTEND;TZID=Asia/Tokyo:20260201T170000
DTSTAMP:20260420T070000
CREATED:20260123T070332Z
LAST-MODIFIED:20260130T092615Z
UID:6083-1769767200-1769965200@futureearth.jp
SUMMARY:MINAMI Flower Days
DESCRIPTION:2026年1月30日(金)〜2月1日(日)の3日間、横浜・象の鼻テラスを会場に、愛知県田原市の花文化を紹介するイベント「MINAMI Flower Days」が開催されます。 \n日本一の花き生産量を誇る田原産の花が500品種以上集まり、屋内展示、マルシェ、ブーケワークショップ、いけばなデモンストレーションなど、多彩な花の魅力を体感できる内容です。 \n最終日には展示花の即売会「フラワーバイキング」や、花のプレゼント付き「フラワークルーズ」も行われ、来場者が花のある暮らしを楽しみながら体験できる3日間となります。 \n 
URL:https://futureearth.jp/event/minami-flower-days/
LOCATION:象の鼻テラス\, 神奈川県横浜市中区海岸通1
CATEGORIES:GREEN×EXPO2027,花き園芸・造園・農関連
ATTACH;FMTTYPE=image/jpeg:https://futureearth.jp/wp-content/uploads/2026/01/flowerdays2026_ページ_1-1-e1769382532802.jpg
END:VEVENT
END:VCALENDAR