BEGIN:VCALENDAR
VERSION:2.0
PRODID:-//Future Earth - ECPv6.15.20//NONSGML v1.0//EN
CALSCALE:GREGORIAN
METHOD:PUBLISH
X-ORIGINAL-URL:https://futureearth.jp
X-WR-CALDESC:Future Earth のイベント
REFRESH-INTERVAL;VALUE=DURATION:PT1H
X-Robots-Tag:noindex
X-PUBLISHED-TTL:PT1H
BEGIN:VTIMEZONE
TZID:Asia/Tokyo
BEGIN:STANDARD
TZOFFSETFROM:+0900
TZOFFSETTO:+0900
TZNAME:JST
DTSTART:20250101T000000
END:STANDARD
END:VTIMEZONE
BEGIN:VEVENT
DTSTART;VALUE=DATE:20260120
DTEND;VALUE=DATE:20260304
DTSTAMP:20260419T222523
CREATED:20260125T021654Z
LAST-MODIFIED:20260130T091319Z
UID:6160-1768867200-1772582399@futureearth.jp
SUMMARY:横浜春節祭2026でランタントゥンクトゥンクを
DESCRIPTION:横浜春節祭2026でランタントゥンクトゥンクを\n\n\n\n2026年1月20日（火）～3月3日（火）の期間、横浜中華街・みなとみらい・横浜駅・新横浜駅など市内各エリアにて、冬の街を華やかに彩る「横浜春節祭」が開催されています。 期間中は、龍などの春節モチーフを取り入れた大型ランタンオブジェが約60か所に設置され、商業施設や繁華街を中心にフォトジェニックな景色が広がります。 \n\n\n\n\n横浜春節祭2026　横浜春節祭2026　より\n\n\n\n\n汽車道付近にランタントゥンクトゥンクが！\n\n\n\n桜木町駅近く汽車道の近くに、トゥンクトゥンクのランタンオブジェが設置してあります。 \n\n\n\n\nランタンオブジェ：トゥンクトゥンク（E-4汽車道会場）　（2026.1.22撮影）\n\n\n\n\n夜はライトがつき映えるトゥンク（2026.1.30撮影） \n横浜各地にランタンオブジェが\n\n\n\n街中のランタンを巡ってスタンプを集めるデジタルスタンプラリーも開催中。参加者には抽選で景品が当たるチャンスもあり、横浜の街歩きやグルメと一緒に楽しめます。 \n\n\n\n\nランタンオブジェ：THE MOVEUM YOKOHAMA by TOYOTA GROUP A-16山下ふ頭会場（イマーシブミュージアム）　（2026.1.22撮影）\n\n\n\n\n\nランタンオブジェ：三面柱 B-5馬車道駅会場（2026.1.22撮影）\n\n\n\n\nマップ\n\n\n\n\n横浜春節祭2026 マップ　横浜春節祭2026　より\n\n\n\n\n関連リンク\n\n\n\n\n横浜春節祭2026\n\n\n\n春節2026デジタルスタンプラリー | プラチナマップ
URL:https://futureearth.jp/event/yokohama-happy-lantern-festival-2026/
LOCATION:汽車道\, 神奈川県横浜市中区新港２丁目９
CATEGORIES:GREEN×EXPO2027,トゥンクトゥンク
ATTACH;FMTTYPE=image/jpeg:https://futureearth.jp/wp-content/uploads/2026/01/夜トゥンク.jpg
END:VEVENT
BEGIN:VEVENT
DTSTART;VALUE=DATE:20260130
DTEND;VALUE=DATE:20260131
DTSTAMP:20260419T222523
CREATED:20260127T063305Z
LAST-MODIFIED:20260127T063435Z
UID:6368-1769731200-1769817599@futureearth.jp
SUMMARY:EXPO 2027 オフィシャルストア ジュンク堂書店 三宮店オープン｜トゥンクトゥンク撮影会
DESCRIPTION:関西初の常設店！EXPO 2027 オフィシャルストアが神戸・三宮に誕生｜1/30(金)オープン\n\n\n\n2027年に横浜で開催される「GREEN×EXPO 2027」の魅力を発信する関西初の常設店舗 「EXPO 2027 オフィシャルストア ジュンク堂書店 三宮店」が、2026年1月30日（金）にオープンします。 \n\n\n\nさらに、オープン初日は、公式マスコットキャラクター 「トゥンクトゥンク」 と写真撮影ができるグリーティングイベントも開催され、関西での機運醸成が本格スタートします。 \n\n\n\n\n\n店舗概要\n\n\n\n\n\n\n\n項目\n内容\n\n\n\n\n店舗名\nEXPO 2027 オフィシャルストア ジュンク堂書店 三宮店\n\n\n場所\nジュンク堂書店 三宮店 内 （兵庫県神戸市中央区三宮町1-6-18）\n\n\n営業時間\n10:00〜21:00\n\n\n定休日\nジュンク堂書店 三宮店に準ずる\n\n\n取扱\nトゥンクトゥンク関連商品、公式ライセンス商品 ほか\n\n\n\n\n\n\n\nオープニング記念｜トゥンクトゥンクのグリーティング開催！\n\n\n\n関西初出店を記念し、トゥンクトゥンクが初日にお店に遊びに来ます！2ショット撮影も可能な貴重な機会！ただし、電話での事前予約制なので注意が必要です。予約は1月28日10:00から。 \n\n\n\n\n\n\n\nイベント概要\n\n\n\n\n\n\n\n項目\n内容\n\n\n\n\n日時\n2026年1月30日(金)\n\n\n回数\n①11:00〜／②14:00〜／③16:00〜（各回 約20分）\n\n\n定員\n各回30組\n\n\n申込方法\nTEL予約のみ：078-392-1001\n\n\n予約開始\n1月28日(水) 午前10:00〜\n\n\n注意事項\n1組1枚撮影／開始15分前集合／カメラ持参 ほか\n\n\n\n\n\n\n\n予約についての注意点\n\n\n\n\n申込は代表者1名のみ\n\n\n\n複数枠の申込は不可\n\n\n\n枠が埋まり次第終了\n\n\n\n集合時間を過ぎた場合は参加不可の可能性あり など、混雑緩和のための運用が設定されています。\n\n\n\n\n過去にはポップアップストアも\n\n\n\n関西では過去に期間限定のポップアップストアが展開され、「EXPO 2027 オフィシャルポップアップストア MARUZEN&ジュンク堂書店 梅田店」は、2025年9月23日（火）から11月11日（火）までの期間限定でオープン。 また、「EXPO 2027 オフィシャルポップアップストア あべのハルカス店」も開設され、トゥンクトゥンクのグッズや公式アイテムが販売されました。 これらは、大阪・関西からGREEN×EXPO 2027を盛り上げる取り組みとして注目を集めました。 \n\n\n\n\n\n\n\nEXPO 2027 オフィシャルポップアップストア MARUZEN&ジュンク堂書店 梅田店\n\n\n\n\n\n\n\n\nEXPO 2027 オフィシャルポップアップストア あべのハルカス店\n\n\n\n\n\n\n関連リンク\n\n\n\n\n関西初！常設のEXPO 2027 オフィシャルストアが神戸・三宮に誕生！「ジュンク堂書店 三宮店」1月30日(金)よりオープン｜PRtimes
URL:https://futureearth.jp/event/expo2027-store-sannomiya/
LOCATION:EXPO 2027 オフィシャルストア ジュンク堂書店 三宮店\, 兵庫県神戸市中央区三宮町1-6-18
CATEGORIES:グッズ
ATTACH;FMTTYPE=image/webp:https://futureearth.jp/wp-content/uploads/2026/01/158859-18-b73be75225d292a1145aa927fabff94f-3900x2739.jpg.webp
END:VEVENT
BEGIN:VEVENT
DTSTART;TZID=Asia/Tokyo:20260131T084500
DTEND;TZID=Asia/Tokyo:20260131T103000
DTSTAMP:20260419T222523
CREATED:20260126T011541Z
LAST-MODIFIED:20260126T011541Z
UID:6300-1769849100-1769855400@futureearth.jp
SUMMARY:本牧クリーンアップＤＡＹ！
DESCRIPTION:本牧クリーンアップDAY！初開催｜みんなで本牧をキレイに\n中区を「美しく暮らしやすいまち」にする取り組みとして、2027年開催のGREEN×EXPO2027や中区制100周年に向けた機運づくりを兼ねた『本牧クリーンアップDAY！』が初開催されます。子どもから大人まで参加自由、事前申込不要の清掃イベントです。 \n■ 開催概要\n日程：令和8年1月31日（土）時間：8:45〜10:30会場：本牧いずみ公園（横浜市中区本牧宮原4-1）参加対象：どなたでも参加可能申込：不要（当日参加OK） \n■ タイムスケジュール（予定）\n\n8:45　集合・受付\n9:00　開会式\n9:20　清掃スタート\n10:20　閉会式※小雨決行・荒天中止\n\n■ 参加方法\n当日8:45までに本牧いずみ公園へ集合するだけでOK。必要な清掃用品は会場で準備されています。
URL:https://futureearth.jp/event/honmoku-cleanup-day-2026/
LOCATION:本牧いずみ公園\, 横浜市中区本牧宮原4-1
CATEGORIES:GREEN×EXPO2027,ボランティア
END:VEVENT
BEGIN:VEVENT
DTSTART;TZID=Asia/Tokyo:20260131T170000
DTEND;TZID=Asia/Tokyo:20260131T190000
DTSTAMP:20260419T222523
CREATED:20260127T005207Z
LAST-MODIFIED:20260127T005256Z
UID:6339-1769878800-1769886000@futureearth.jp
SUMMARY:横浜×宇宙大交流会
DESCRIPTION:未来の宇宙ビジネスを“つくる人”、そして“つながる人”へ\n\n\n\n横浜未来機構主催の「横浜×宇宙大交流会」が、2026年1月31日（金）17:00よりTECH HUB YOKOHAMAにて開催されます。 \n \n\n\n\n  \n  \n横浜を拠点に宇宙ビジネスの未来を切りひらく 「横浜×宇宙プロジェクト」 が3年目を迎えます。今回は、これまで本プロジェクトを支えてきた宇宙産業の最前線で活躍する実務家が登壇し、宇宙ビジネス参入の“壁”を低くしながら、横浜発の新しい宇宙ネットワーク創出をめざします。 \n\n\n\nまた、登壇者の多くは昨年大好評で閉幕した 大阪・関西万博 の宇宙関連展示に関わった実践者。さらに、2027年には横浜で国際園芸博覧会（GREEN×EXPO2027／横浜園芸博）が開催予定であり、“未来の暮らし × 宇宙”をテーマに、次の実装の可能性も議論します。 \n\n\n\nこんな人におすすめ\n\n\n\n✔ 宇宙分野に関心があり“聞くだけでは終わりたくない” \n✔ 宇宙×暮らし／教育／ビジネスの未来に興味がある \n✔ 横浜で仲間／挑戦／機会を得たい \n✔ 宇宙領域で仕事・研究・起業・PJを始めたい \n✔ スタートアップ／企業／学生など多様な視点から刺激を得たい \n\n\n\n開催概要\n\n\n\n\n\n\n\n項目\n内容\n\n\n\n\n名称\nC-03：横浜×宇宙大交流会\n\n\n日時\n2026年1月31日（金）17:00〜19:00\n\n\n会場\nTECH HUB YOKOHAMA\n\n\n所在地\n横浜市内（※詳細は予約ページ参照）\n\n\n参加\n要予約\n\n\n予約\nhttps://peatix.com/event/4806818/view\n\n\n\n\n\n\n\n登壇者（Guest）\n\n\n\n\n 森 裕和 カエラムコンシリアム株式会社／世界で活躍する宇宙コンサルタント\n大野 琢也 鹿島建設株式会社 イノベーション推進室 担当部長／ルナグラス開発者\n深浦 希峰 日揮グローバル株式会社／月面プラント開発担当\n淺利 玲欧 公益社団法人2027年国際園芸博覧会協会 2027年横浜開催のGREEN×EXPO2027（横浜園芸博）\n\n\n\n\n企画監修・総合司会\n\n\n\n\n山敷 庸亮 京都大学・SIC有人宇宙学研究センター長\n\n\n\n\nモデレーター\n\n\n\n\n後藤 幸江 横浜未来機構 宇宙ナビゲーター／Mirus合同会社代表\n\n\n\n\nYOXO FESTIVALとは？\n\n\n\n　YOXO FESTIVALは、“横浜でみらい体験”をテーマにした都市型イノベーションイベントです。企業・スタートアップ・アカデミア・個人など、多様なイノベーターやクリエイターが集まり、新しい技術・アイデア・ソリューションを発表します。 \n\n\n\n　子どもから大人まで楽しめるプログラムも多数。“未来が届く街” 横浜らしいイノベーションフェスです。 \n\n\n\n開催概要\n\n\n\n\n\n\n\n項目\n内容\n\n\n\n\n名称\nYOXO FESTIVAL 2026\n\n\nテーマ\n横浜でみらい体験\n\n\n開催期間\n\n【DAY1】2026年1月30日（金）12:00～19:00【DAY2】2026年1月31日（土）11:00～19:00【DAY3】2026年2月1日（日）11:00～17:00 \n\n\n\n会場\nみなとみらい地区\n\n\n入場料\n無料（※一部有料・予約制プログラムあり）\n\n\n主催\n横浜未来機構\n\n\n共催\n横浜市\n\n\n\n\n\n\n\n 
URL:https://futureearth.jp/event/yokohama-space-meetup-2026/
LOCATION:TECH HUB YOKOHAMA\, 横浜市西区みなとみらい２丁目２−１ 横浜ランドマークタワー 敷地内25街区ギャラリー棟
CATEGORIES:GREEN×EXPO2027,シンポジウム
ATTACH;FMTTYPE=image/jpeg:https://futureearth.jp/wp-content/uploads/2026/01/cover-bfVDRJ3Wz1mHM1okiHgDgIwMGEfw3avJ.jpg
END:VEVENT
BEGIN:VEVENT
DTSTART;TZID=Asia/Tokyo:20260131T190000
DTEND;TZID=Asia/Tokyo:20260131T190500
DTSTAMP:20260419T222523
CREATED:20260126T005250Z
LAST-MODIFIED:20260126T005404Z
UID:6269-1769886000-1769886300@futureearth.jp
SUMMARY:YOKOHAMA NIGHT FLOWERS × GREEN×EXPO 2027
DESCRIPTION:花と緑をテーマに横浜の夜空を彩る花火連携キャンペーン\n\n\n\n2027年国際園芸博覧会（GREEN×EXPO 2027）の開幕500日前となる2025年11月4日（火）を契機に、横浜ナイトフラワーズが期間限定の連携キャンペーンを開始します。 \n\n\n\n\n\n\n\nキャンペーン概要\n\n\n\nキャンペーン名称は 「YOKOHAMA NIGHT FLOWERS × GREEN×EXPO 2027」。 \n\n\n\nこの期間中（2025年11月8日〜2027年9月26日）、花火打上げ日は、GREEN×EXPO 2027をイメージし、花と緑をテーマとした演出を中心に展開。都市と自然が調和する横浜の魅力を夜空に映し出します。 \n\n\n\n2025年度の開催情報（概要）\n\n\n\n\n\n\n\n項目\n内容\n\n\n\n\n期間\n2025年11月8日（土）～ 2027年9月26日（日）\n\n\nテーマ\n花と緑（GREEN×EXPO 2027をイメージ）\n\n\n内容\n特別テーマ花火の打上げ\n\n\n主催\n横浜ナイトフラワーズ実行委員会 （横浜市／横浜商工会議所／横浜港振興協会／横浜市観光協会）\n\n\n最新情報\n横浜ナイトフラワーズ公式HP\n\n\n\n\n\n\n\n※日時・詳細は随時更新されるため、公式サイトで最新情報をご確認ください。 \n\n\n\nYOKOHAMA NIGHT FLOWERS 打上げスケジュール（2025年度）\n\n\n\n\n\n\n\n打上日\n時間\n打上場所\n\n\n\n\n11月8日(土)\n19:00〜19:05\n新港ふ頭\n\n\n11月22日(土)\n19:00〜19:05\n新港ふ頭\n\n\n12月24日(水)\n19:00〜19:05\n大さん橋\n\n\n12月31日(水)\n19:00〜19:05\n大さん橋\n\n\n1月24日(土)\n19:00〜19:05\n新港ふ頭\n\n\n1月31日(土)\n19:00〜19:05\n大さん橋\n\n\n2月7日(土)\n19:00〜19:05\n新港ふ頭\n\n\n2月14日(土)\n19:00〜19:05\n新港ふ頭\n\n\n2月21日(土)\n19:00〜19:05\n大さん橋\n\n\n2月28日(土)\n19:00〜19:05\n大さん橋\n\n\n3月21日(土)\n19:00〜19:05\n大さん橋\n\n\n\n\n\n\n\nキャンペーンのねらい\n\n\n\n\nGREEN×EXPO 2027 開催機運の醸成\n\n\n\n市民・観光客へ向けた周知と興味喚起\n\n\n\n夜景・港湾エリアとの連動により横浜の魅力を発信\n\n\n\n花火 × 花と緑 の表現で、横浜らしい夜を演出\n\n\n\n\n 関連リンク\n\n\n\n\n横浜ナイトフラワーズ公式（最新情報） https://www.yokohama-nightflowers.com
URL:https://futureearth.jp/event/yokohama-night-flowers-greenxexpo-20260131/
LOCATION:大さん橋\, 横浜市中区海岸通1-1-4
CATEGORIES:GREEN×EXPO2027
ATTACH;FMTTYPE=image/jpeg:https://futureearth.jp/wp-content/uploads/2025/11/スクリーンショット-2025-11-12-7.26.29-e1769389310470.jpg
END:VEVENT
END:VCALENDAR