BEGIN:VCALENDAR
VERSION:2.0
PRODID:-//Future Earth - ECPv6.15.20//NONSGML v1.0//EN
CALSCALE:GREGORIAN
METHOD:PUBLISH
X-WR-CALNAME:Future Earth
X-ORIGINAL-URL:https://futureearth.jp
X-WR-CALDESC:Future Earth のイベント
REFRESH-INTERVAL;VALUE=DURATION:PT1H
X-Robots-Tag:noindex
X-PUBLISHED-TTL:PT1H
BEGIN:VTIMEZONE
TZID:Asia/Tokyo
BEGIN:STANDARD
TZOFFSETFROM:+0900
TZOFFSETTO:+0900
TZNAME:JST
DTSTART:20250101T000000
END:STANDARD
END:VTIMEZONE
BEGIN:VEVENT
DTSTART;VALUE=DATE:20260519
DTEND;VALUE=DATE:20260520
DTSTAMP:20260420T081630
CREATED:20260303T015034Z
LAST-MODIFIED:20260329T002938Z
UID:7818-1779148800-1779235199@futureearth.jp
SUMMARY:記念切手「２０２７年国際園芸博覧会（寄付金付）」発売
DESCRIPTION:　日本郵便株式会社より、GREEN×EXPO 2027（正式名称：２０２７年国際園芸博覧会）の開催を記念して、特殊切手「２０２７年国際園芸博覧会（寄付金付）」を発行することが発表されました。 \n本特殊切手には、公式ロゴマークと、公式マスコットキャラクター「トゥンクトゥンク」がデザインされています。本切手は、2026年5月19日（火）から7月21日（火）までの期間限定で、全国の郵便局などで販売されます。 \n　なお、1枚につき10円が寄付金となり、GREEN×EXPO 2027の準備および運営に役立てられます。 \n \n  \n　日本郵便は２０２７年国際園芸博覧会に関する記念特殊切手の発売を、2026年5月19日と2027年3月12日に予定しています。 \n\n\n\n\n\n\n\n発売日\n切手名\n\n\n\n\n2026年5月19日（火）\n「２０２７年国際園芸博覧会（寄付金付）」\n\n\n2027年3月12日（金）\n「２０２７年国際園芸博覧会」\n\n\n\n\n\n\n\n開催前年には寄付金付切手、そして開幕直前には公式記念切手が登場予定。開催機運の高まりとともに、コレクション性もさらに注目されそうです。
URL:https://futureearth.jp/event/stamp20260519/
CATEGORIES:グッズ
ATTACH;FMTTYPE=image/jpeg:https://futureearth.jp/wp-content/uploads/2026/03/97656-86-2c842dac7cfe2d0211f30feaf6b1cd39-1022x2700.jpg-1.jpeg
END:VEVENT
BEGIN:VEVENT
DTSTART;TZID=Asia/Tokyo:20260523T110000
DTEND;TZID=Asia/Tokyo:20260523T150000
DTSTAMP:20260420T081630
CREATED:20260416T131033Z
LAST-MODIFIED:20260416T131107Z
UID:10273-1779534000-1779548400@futureearth.jp
SUMMARY:GREEN×EXPO 2027 開催300日前記念　瀬谷駅前青空カフェ ～みんなで咲かせる未来の花～
DESCRIPTION:瀬谷駅前で開催！青空カフェで体験する「未来の花」\n\n\n\n　GREEN×EXPO 2027 開催300日前記念イベントとして、瀬谷駅前に1日限定の青空カフェが登場します。　会場では、未来の花をテーマにした体験型ワークショップや、地域団体による飲食ブースなど、子どもから大人まで楽しめる企画が盛りだくさん。 \n\n\n\nイベントの見どころ\n\n\n\n\n\n\n\nちょっとひと休みフード＆ドリンク\n\n\n\n\n福祉作業所によるドリンク・焼き菓子販売\n\n\n\n瀬谷産野菜の販売\n\n\n\nキッチンカーによる軽食（例：野菜カレーなど）\n\n\n\n\nみんなで楽しむ体験ワークショップ\n\n\n\n\n子育て応援ネットワークによるモール工作\n\n\n\n地域ケアプラザによるお花のレンジ作品づくり\n\n\n\n\nGREEN×EXPO紹介ブース\n\n\n\n\n花の種の配布\n\n\n\nノベルティ配布（数量限定）\n\n\n\nシェアサイクルなどの紹介\n\n\n\n\n開催概要\n\n\n\n項目内容イベント名瀬谷駅前青空カフェ ～みんなで咲かせる未来の花～日時2026年5月23日（土）11:00～15:00雨天中止（中止時は告知あり）会場瀬谷駅北口駅前広場参加費無料主催瀬谷区役所協力中屋敷地域ケアプラザ、瀬谷駅北口駅前広場活用推進協議会、横浜国際園芸博覧会瀬谷区推進協議会後援公益社団法人2027年国際園芸博覧会協会\n\n\n\nチラシデータ（PDF：333KB）
URL:https://futureearth.jp/event/300daystogo-seya/
LOCATION:瀬谷駅北口駅前広場\, 神奈川県横浜市瀬谷区中央１３−１１
CATEGORIES:区主催・地域イベント
ATTACH;FMTTYPE=image/jpeg:https://futureearth.jp/wp-content/uploads/2025/11/greenexpo瀬谷500日前.jpeg
END:VEVENT
BEGIN:VEVENT
DTSTART;TZID=Asia/Tokyo:20260602T075000
DTEND;TZID=Asia/Tokyo:20260602T174000
DTSTAMP:20260420T081630
CREATED:20260416T132526Z
LAST-MODIFIED:20260416T132817Z
UID:10282-1780386600-1780422000@futureearth.jp
SUMMARY:【GREEN×EXPO 2027連携イベント】～水道水の道のりをたどる～水道施設見学バスツアー
DESCRIPTION:【GREEN×EXPO 2027連携イベント】～水道水の道のりをたどる～水道施設見学バスツアー\n\n\n\n　2026年6月、水道週間にあわせて開催される特別企画「水道施設見学バスツアー」。2027年に開催される「GREEN×EXPO 2027」の会場にもつながる水のルートを、実際にたどる体験型イベントです。 \n\n\n\n　ツアーでは、神奈川県の水道水の源流である山梨県道志村を訪問。良質な水を支える「水源林」の役割を学び、その後、横浜の水道インフラを支える施設を巡ります。普段はなかなか入ることのできない施設を見学できる、貴重な機会となっています。 \n\n\n\n水道施設見学バスツアー｜横浜市　より\n\n\n\n開催概要\n\n\n\n項目内容イベント名【GREEN×EXPO 2027連携イベント】～水道水の道のりをたどる～水道施設見学バスツアー開催日2026年6月2日(火)　7:50～17:40開催場所山梨県道志村（水源林管理所、道の駅どうし）、青山沈でん池、川井浄水場参加方法事前申込制申込フォーム（横浜市電子申請システム）定員約40名（応募多数の場合は抽選）申込期間2026年4月17日(金)～5月18日(月)当落連絡2026年5月20日(水)までにメール連絡費用無料対象小学生以上（※小学生は保護者同伴）主催横浜市水道局後援公益社団法人2027年国際園芸博覧会協会注意事項昼食は各自持参\n\n\n\nイベントチラシ（PDF：1\,172KB）
URL:https://futureearth.jp/event/green-expo2027-water-tour-20260602/
LOCATION:山梨県道志村（水源林管理所、道の駅どうし）、青山沈でん池、川井浄水場\, 山梨県南都留郡道志村東神地９０２０
CATEGORIES:子ども向け・親子向けイベント,横浜イベント
ATTACH;FMTTYPE=image/png:https://futureearth.jp/wp-content/uploads/2026/04/0001_20260401.png
END:VEVENT
BEGIN:VEVENT
DTSTART;TZID=Asia/Tokyo:20260619T000000
DTEND;TZID=Asia/Tokyo:20260620T235959
DTSTAMP:20260420T081630
CREATED:20260419T111855Z
LAST-MODIFIED:20260419T112144Z
UID:10370-1781827200-1781999999@futureearth.jp
SUMMARY:FLOWER Fes 2026
DESCRIPTION:FLOWER Fes 2026\n\n\n\n　横濱花博連絡協議会は、横浜園芸博開催予定地である旧上瀬谷通信施設跡地にて、FLOWER Fes 2026（フラワーフェス2026）を2026年6月19日(土)・20日(日)に開催します。 \n\n\n\n横濱花博連絡協議会とは\n\n\n\n　横濱花博連絡協議会は、GREEN×EXPO 2027を地域から盛り上げる民間企業などによる団体です。横浜園芸博に花・緑出展することが決定しており、三ツ境駅前の花壇整備のほか、2023年から毎年旧上瀬谷通信施設跡地会場にて、「Flower Fes」を開催しています。 \n\n\n\n開催概要\n\n\n\n名称FLOWER Fes 2026（フラワーフェス2026）日時2026年6月19日(土)・20日(日)場所旧上瀬谷通信施設跡地（GREEN×EXPO 2027開催予定地）主催横濱花博連絡協議会共催公益財団法人２０２７年国際園芸博覧会協会（予定）\n\n\n\n2025年の様子\n\n\n\n　2025年3月22日（土）・23日（日）の2日間、「FLOWER Fes 2025」が旧上瀬谷通信施設跡地（GREEN×EXPO 2027開催予定地）で開催されました。 \n\n\n\nFlower Fes 2025　より\n\n\n\n　会場では、地域の高校生や公募団体によるステージパフォーマンスをはじめ、「ブンブン音頭」をみんなで踊る参加型企画、絵画コンテスト受賞者の表彰式など、多彩なプログラムが展開されます。さらに、キッチンカーや屋台、各種ブースの出店に加え、フラワーアレンジメントやキッズスポーツの無料体験も実施され、子どもから大人まで楽しめる内容となりました。 \n\n\n\n　23日（日）には、来場者先着2027名への花のプレゼントや、会場内スタンプラリーも行われるほか、シンガーのクリス・ハートによるスペシャルライブ（18:30～）、打ち上げ花火（19:00～）も予定されており、イベントを華やかに締めくくりました。 \n\n\n\n会場への無料送迎バスも\n\n\n\n　なお、会場へは相鉄瀬谷駅北口バスターミナルから無料送迎バスが運行されました。
URL:https://futureearth.jp/event/flower-fes-2026/
LOCATION:旧上瀬谷通信施設跡地（GREEN×EXPO 2027開催予定地）\, 神奈川県横浜市瀬谷区瀬谷町２４６
CATEGORIES:GREEN×EXPO2027
ATTACH;FMTTYPE=image/jpeg:https://futureearth.jp/wp-content/uploads/2026/04/FLOWER-Fes-2026.jpg
END:VEVENT
BEGIN:VEVENT
DTSTART;VALUE=DATE:20260919
DTEND;VALUE=DATE:20260920
DTSTAMP:20260420T081630
CREATED:20260303T024149Z
LAST-MODIFIED:20260303T024449Z
UID:7830-1789776000-1789862399@futureearth.jp
SUMMARY:開催半年前発表会｜GREEN×EXPO2027
DESCRIPTION:　横浜市は、2026年9月19日(土)前後に、GREEN×EXPO2027 開幕半年前発表会を計画しています。
URL:https://futureearth.jp/event/six-months-to-go/
CATEGORIES:横浜イベント
ATTACH;FMTTYPE=image/jpeg:https://futureearth.jp/wp-content/uploads/2025/11/IMG_3144.jpeg
END:VEVENT
BEGIN:VEVENT
DTSTART;VALUE=DATE:20261209
DTEND;VALUE=DATE:20261210
DTSTAMP:20260420T081630
CREATED:20260202T015053Z
LAST-MODIFIED:20260303T024425Z
UID:6579-1796774400-1796860799@futureearth.jp
SUMMARY:開幕100日前｜GREEN×EXPO2027
DESCRIPTION:2026年12月9日(水)、GREEN×EXPO2027（2027年国際園芸博覧会）は開幕100日前を迎えます。
URL:https://futureearth.jp/event/100daystogo/
CATEGORIES:GREEN×EXPO2027
END:VEVENT
BEGIN:VEVENT
DTSTART;VALUE=DATE:20261209
DTEND;VALUE=DATE:20261210
DTSTAMP:20260420T081630
CREATED:20260303T024412Z
LAST-MODIFIED:20260303T024412Z
UID:7832-1796774400-1796860799@futureearth.jp
SUMMARY:開幕100日前発表会｜GREEN×EXPO2027
DESCRIPTION:横浜市は、2026年12月9日(水)前後に、GREEN×EXPO2027 開幕100日前発表会を計画しています。
URL:https://futureearth.jp/event/100daystogo-yokohama/
CATEGORIES:横浜イベント
ATTACH;FMTTYPE=image/jpeg:https://futureearth.jp/wp-content/uploads/2025/11/IMG_3144.jpeg
END:VEVENT
BEGIN:VEVENT
DTSTART;VALUE=DATE:20270312
DTEND;VALUE=DATE:20270313
DTSTAMP:20260420T081630
CREATED:20260303T015207Z
LAST-MODIFIED:20260303T015207Z
UID:7822-1804809600-1804895999@futureearth.jp
SUMMARY:記念切手「２０２７年国際園芸博覧会」発売
DESCRIPTION:日本郵便株式会社は２０２７年国際園芸博覧会に関する記念特殊切手の発売を、2026年5月19日と2027年3月12日に予定しています。\n\n \n\n\n\n\n発売日\n切手名\n\n\n\n\n2026年5月19日（火）\n「２０２７年国際園芸博覧会（寄付金付）」\n\n\n2027年3月12日（金）\n「２０２７年国際園芸博覧会」\n\n\n\n\n \n\n開催前年には寄付金付切手、そして開幕直前には公式記念切手が登場予定。開催機運の高まりとともに、コレクション性もさらに注目されそうです。
URL:https://futureearth.jp/event/stamp20270312/
CATEGORIES:グッズ
END:VEVENT
END:VCALENDAR