BEGIN:VCALENDAR
VERSION:2.0
PRODID:-//Future Earth - ECPv6.15.20//NONSGML v1.0//EN
CALSCALE:GREGORIAN
METHOD:PUBLISH
X-ORIGINAL-URL:https://futureearth.jp
X-WR-CALDESC:Future Earth のイベント
REFRESH-INTERVAL;VALUE=DURATION:PT1H
X-Robots-Tag:noindex
X-PUBLISHED-TTL:PT1H
BEGIN:VTIMEZONE
TZID:Asia/Tokyo
BEGIN:STANDARD
TZOFFSETFROM:+0900
TZOFFSETTO:+0900
TZNAME:JST
DTSTART:20250101T000000
END:STANDARD
END:VTIMEZONE
BEGIN:VEVENT
DTSTART;VALUE=DATE:20260401
DTEND;VALUE=DATE:20260518
DTSTAMP:20260420T062515
CREATED:20260331T122834Z
LAST-MODIFIED:20260402T140809Z
UID:9602-1775001600-1779062399@futureearth.jp
SUMMARY:横浜赤レンガ倉庫にトゥンクトゥンク巨大モニュメントが登場
DESCRIPTION:横浜の夜を彩る！トゥンクトゥンク巨大モニュメントが登場\n\n\n\n横浜市は、2027年3月に開幕する「GREEN×EXPO 2027（2027年国際園芸博覧会）」の機運を盛り上げるため、公式マスコットキャラクター「トゥンクトゥンク」の大型モニュメントを横浜赤レンガ倉庫に4月1日（水）〜 5月中旬頃まで設置することが発表されました。   \n\n\n\n昼と夜、2つの表情が楽しめる\n\n\n\n\n「GREEN×EXPO 2027」開催に向けて前進！「トゥンクトゥンク」の大型モニュメントを横浜赤レンガ倉庫に設置します｜横浜市　より\n\n\n\n\n  \n今回の展示の見どころは、時間帯によって異なる演出です。 \n\n\n\n\n昼間： 前進ポーズを決めた「トゥンクトゥンク」の躍動感ある姿を楽しめます。\n\n\n\n夜間： 17時から24時までライトアップを実施。内照式の仕掛けにより、キャラクターがやわらかく光り輝き、幻想的な雰囲気を醸し出します。\n\n\n\n\nSNS映え間違いなしのフォトスポットとして、横浜の新しいシンボルになりそうです。   \n  \n \n\n\n\n\n\n\n\n\n\n\n\n\n\n\n\n \n  \n\n\n\n設置概要\n\n\n\n\n\n\n\n項目\n内容\n\n\n\n\n設置場所\n横浜赤レンガ倉庫 2号館入口脇（横浜市中区新港1-1-2）\n\n\n設置期間\n2026年4月1日（水）〜 5月中旬頃（予定）\n\n\nサイズ\n高さ 2\,760mm × 幅 2\,000mm\n\n\n点灯時間\n17:00 〜 24:00（予定）\n\n\n\n \n\n\n\n関連リンク\n\n\n\n\n「GREEN×EXPO 2027」開催に向けて前進！「トゥンクトゥンク」の大型モニュメントを横浜赤レンガ倉庫に設置します｜横浜市\n\n\n\nあわせて読みたい横浜赤レンガ倉庫『FLOWER GARDEN 2026』
URL:https://futureearth.jp/event/yokohama-green-expo-2027-monument-red-brick-warehouse/
LOCATION:横浜赤レンガ倉庫\, 神奈川県横浜市中区新港１丁目１−１
CATEGORIES:トゥンクトゥンク
ATTACH;FMTTYPE=image/jpeg:https://futureearth.jp/wp-content/uploads/2026/04/赤レンガトゥンク7.jpeg
END:VEVENT
BEGIN:VEVENT
DTSTART;TZID=Asia/Tokyo:20260516T000000
DTEND;TZID=Asia/Tokyo:20260517T235959
DTSTAMP:20260420T062516
CREATED:20260419T142611Z
LAST-MODIFIED:20260419T142612Z
UID:10396-1778889600-1779062399@futureearth.jp
SUMMARY:Yokohama Nature Week 2026
DESCRIPTION:Yokohama Nature Week 2026\n\n\n\n　相鉄グループと横浜市旭区役所は、2026年5月16日（土）・17日（日）の2日間、こども自然公園にて、自然体験イベント「Yokohama Nature Week 2026」を開催します。 \n\n\n\n　本イベントは、相鉄線沿線の魅力発信を目的に2017年からスタートし、今回で7回目の開催。「くらしを遊ぶ。しぜんと育つ。」をコンセプトに、“横浜の自然とともに暮らす楽しさ”を家族で体感できる人気イベントです。 \n\n\n\n前回開催時の「Yokohama Nature Week 2025」の様子「Yokohama Nature Week（ヨコハマ ネイチャー ウイーク）2026」を開催　より\n\n\n\n　会場では、木製レールを自由につなげて遊ぶ「コロコロレール」をはじめとしたワークショップ、ロードトレインの運行、ライブステージ、キッチンカーの出店など、多彩なコンテンツを展開予定。子どもから大人まで一日中楽しめる内容となっています。 \n\n\n\n　また、相鉄線沿線では2027年にGREEN×EXPO 2027の開催も控えており、本イベントはその機運醸成にもつながる取り組みの一つとなっています。 \n\n\n\n開催概要\n\n\n\n項目内容イベント名Yokohama Nature Week 2026日時2026年5月16日（土）・17日（日）10:00～17:30（予定）小雨決行・荒天中止開催場所こども自然公園（横浜市旭区大池町65-1）相鉄線 二俣川駅から徒歩約20分／無料シャトルバス予定、南万騎が原駅から徒歩約7分入場料無料（※一部コンテンツ・飲食は有料）主催Yokohama Nature Week実行委員会共催横浜市旭区役所特別協賛相鉄グループ公式サイトhttps://www.sotetsu.co.jp/ynw/
URL:https://futureearth.jp/event/yokohama-nature-week-2026/
LOCATION:こども自然公園\, 神奈川県横浜市旭区大池町６５−１
CATEGORIES:子ども向け・親子向けイベント
ATTACH;FMTTYPE=image/jpeg:https://futureearth.jp/wp-content/uploads/2026/04/r26-41-ph01.jpg
END:VEVENT
END:VCALENDAR