BEGIN:VCALENDAR
VERSION:2.0
PRODID:-//Future Earth - ECPv6.15.20//NONSGML v1.0//EN
CALSCALE:GREGORIAN
METHOD:PUBLISH
X-ORIGINAL-URL:https://futureearth.jp
X-WR-CALDESC:Future Earth のイベント
REFRESH-INTERVAL;VALUE=DURATION:PT1H
X-Robots-Tag:noindex
X-PUBLISHED-TTL:PT1H
BEGIN:VTIMEZONE
TZID:Asia/Tokyo
BEGIN:STANDARD
TZOFFSETFROM:+0900
TZOFFSETTO:+0900
TZNAME:JST
DTSTART:20250101T000000
END:STANDARD
END:VTIMEZONE
BEGIN:VEVENT
DTSTART;TZID=Asia/Tokyo:20260602T075000
DTEND;TZID=Asia/Tokyo:20260602T174000
DTSTAMP:20260420T075927
CREATED:20260416T132526Z
LAST-MODIFIED:20260416T132817Z
UID:10282-1780386600-1780422000@futureearth.jp
SUMMARY:【GREEN×EXPO 2027連携イベント】～水道水の道のりをたどる～水道施設見学バスツアー
DESCRIPTION:【GREEN×EXPO 2027連携イベント】～水道水の道のりをたどる～水道施設見学バスツアー\n\n\n\n　2026年6月、水道週間にあわせて開催される特別企画「水道施設見学バスツアー」。2027年に開催される「GREEN×EXPO 2027」の会場にもつながる水のルートを、実際にたどる体験型イベントです。 \n\n\n\n　ツアーでは、神奈川県の水道水の源流である山梨県道志村を訪問。良質な水を支える「水源林」の役割を学び、その後、横浜の水道インフラを支える施設を巡ります。普段はなかなか入ることのできない施設を見学できる、貴重な機会となっています。 \n\n\n\n水道施設見学バスツアー｜横浜市　より\n\n\n\n開催概要\n\n\n\n項目内容イベント名【GREEN×EXPO 2027連携イベント】～水道水の道のりをたどる～水道施設見学バスツアー開催日2026年6月2日(火)　7:50～17:40開催場所山梨県道志村（水源林管理所、道の駅どうし）、青山沈でん池、川井浄水場参加方法事前申込制申込フォーム（横浜市電子申請システム）定員約40名（応募多数の場合は抽選）申込期間2026年4月17日(金)～5月18日(月)当落連絡2026年5月20日(水)までにメール連絡費用無料対象小学生以上（※小学生は保護者同伴）主催横浜市水道局後援公益社団法人2027年国際園芸博覧会協会注意事項昼食は各自持参\n\n\n\nイベントチラシ（PDF：1\,172KB）
URL:https://futureearth.jp/event/green-expo2027-water-tour-20260602/
LOCATION:山梨県道志村（水源林管理所、道の駅どうし）、青山沈でん池、川井浄水場\, 山梨県南都留郡道志村東神地９０２０
CATEGORIES:子ども向け・親子向けイベント,横浜イベント
ATTACH;FMTTYPE=image/png:https://futureearth.jp/wp-content/uploads/2026/04/0001_20260401.png
END:VEVENT
END:VCALENDAR