BEGIN:VCALENDAR
VERSION:2.0
PRODID:-//Future Earth - ECPv6.15.20//NONSGML v1.0//EN
CALSCALE:GREGORIAN
METHOD:PUBLISH
X-WR-CALNAME:Future Earth
X-ORIGINAL-URL:https://futureearth.jp
X-WR-CALDESC:Future Earth のイベント
REFRESH-INTERVAL;VALUE=DURATION:PT1H
X-Robots-Tag:noindex
X-PUBLISHED-TTL:PT1H
BEGIN:VTIMEZONE
TZID:Asia/Tokyo
BEGIN:STANDARD
TZOFFSETFROM:+0900
TZOFFSETTO:+0900
TZNAME:JST
DTSTART:20250101T000000
END:STANDARD
END:VTIMEZONE
BEGIN:VEVENT
DTSTART;VALUE=DATE:20260313
DTEND;VALUE=DATE:20260316
DTSTAMP:20260420T115604
CREATED:20260125T021209Z
LAST-MODIFIED:20260125T231149Z
UID:6156-1773360000-1773619199@futureearth.jp
SUMMARY:「麦食音祭2026」40カ国が集結！万博閉幕後“初”パビリオン登場｜アフターEXPOの国際フェス
DESCRIPTION:「麦食音祭2026」40カ国が集結！万博閉幕後“初”パビリオン登場｜アフターEXPOの国際フェス\n2025年の大阪・関西万博閉幕から約半年。あの熱量を「終わり」にせず、次の未来へと引き継ぐ大型国際フェスティバルが始まります。 2026年3月13日（金）〜3月15日（日）の3日間、万博記念公園（大阪府吹田市）にて、入場無料の国際フェスティバル「麦食音祭（ばくしょくおんさい）2026 〜 アフターEXPO 〜」が開催されます。 本イベントは、万博をきっかけに生まれた国際的なつながり・文化交流を、クラフトビール・食・音楽・カルチャーと共に楽しむ“アフター万博”を象徴する企画。ドイツをはじめとする40カ国以上が参加予定で、多国籍フードや音楽、パフォーマンスを一体的に体感できるのが特徴です。    \n\nアフター万博史上最大級の規模と多文化性\n\n\n\n今回の麦食音祭は、国籍も世代も越えて楽しめる多文化フェスとして企画されており、以下の特徴を持ちます： \n\n\n\n\n参加国：40カ国以上\n\n\n\nクラフトビール×多国籍フード×カルチャー\n\n\n\n音楽・DJ・ダンス・パフォーマンスが集結\n\n\n\n大人から子どもまで楽しめる国際交流型イベント\n\n\n\n\n会場では世界各国のクラフトビール、国を象徴する料理、伝統文化や踊りなどが楽しめる予定で、「食べる万博」「聴く万博」「体感する万博」の三位一体構造になっています。 \n\n\n\n万博閉幕後“初”のパビリオンもイベント参加へ\n\n\n\n注目は、万博閉幕後では“初”となるパビリオンのイベント参加が予定されている点。 \n\n\n\n「見る万博」から「体感するアフター万博」へと移行し、万博での学びや文化交流を日常に接続する新しい試みとして期待が集まっています。 \n\n\n\n「麦食音祭」とは？\n\n\n\n麦食音祭は、クラフトビールと食、音楽、カルチャーを融合させたフェスティバルで、これまで各地で開催されてきました。今回はその枠組みを拡張し、“アフター万博”として国際性が強化された形で開催されます。 \n\n\n\n世界の食と文化、音楽のライブパフォーマンスを通じて、万博が残した国際的なネットワークを次につなげる狙いがあります。 \n\n\n\n万博記念公園で開催される理由\n\n\n\n会場となる万博記念公園は、1970年日本万博の跡地であり、現在も大阪を代表する文化・交流拠点として多くのイベントが開催される場所です。 \n\n\n\n象徴的な“太陽の塔”に見守られながら、再び“万博のその先”を描くイベントが行われるという点でも象徴性があります。 \n\n\n\n開催概要\n\n\n\n\n\n\n\n項目\n内容\n\n\n\n\n名称\n麦食音祭2026\n\n\n開催日時\n2026年3月13日（金）～3月15日（日）\n\n\n入場料\n無料\n\n\n会場\n万博記念公園（大阪府吹田市）\n\n\nアクセス\n大阪モノレール「万博記念公園駅」\n\n\n参加規模\n40カ国以上（予定）\n\n\n主催\n麦食音祭実行委員会（西尾レントオール株式会社／株式会社Color create／FoodFes株式会社）\n\n\n公式Instagram\nhttps://www.instagram.com/bakushoku_afterexpo\n\n\n\n\n\n\n\n今後の情報更新について\n\n\n\n\n参加国\n\n\n\nアーティスト\n\n\n\nパフォーマンス内容\n\n\n\nパビリオン詳細\n\n\n\n追加コンテンツ\n\n\n\n\nなどは順次発表される予定とのこと。 \n\n\n\n情報は公式Instagramで随時更新予定です： \n\n\n\n👉 https://www.instagram.com/bakushoku_afterexpo \n\n\n\nまとめ：万博ロスに応える“アフターEXPO”の本格始動\n\n\n\n2025年の万博閉幕後、全国で“アフター万博”イベントが続いていますが、ここまでの国際規模で多文化的な催事は珍しく、まさにレガシーが日常へ定着するフェーズが始まったと言えます。 \n\n\n\n万博が生み出した文化交流が次の場所に根付いていく—— その過程を体感できる3日間になるはずです。 \n\n\n\n今後の詳細発表にも注目していきます。 \n\n\n\n関連リンク\n\n\n\n\n万博の熱狂を再び！40カ国以上のフード・カルチャーが集結するイベント「麦食音祭2026 ～ アフターEXPO ～」｜PRtimes
URL:https://futureearth.jp/event/bakushokuon-2026/
LOCATION:万博記念公園\, 大阪府吹田市千里万博公園
CATEGORIES:大阪・関西万博
ATTACH;FMTTYPE=image/webp:https://futureearth.jp/wp-content/uploads/2026/01/96737-81-50faaca61435d1a8fbf28f78c1c747ee-1126x1126.jpg-e1769382702466.webp
END:VEVENT
BEGIN:VEVENT
DTSTART;VALUE=DATE:20260216
DTEND;VALUE=DATE:20260220
DTSTAMP:20260420T115604
CREATED:20260125T022725Z
LAST-MODIFIED:20260125T022954Z
UID:6175-1771200000-1771545599@futureearth.jp
SUMMARY:EXPO2025オフィシャルカフェ
DESCRIPTION:＼EXPO2025の余韻を味わう4日間／\n「EXPO2025オフィシャルカフェ」期間限定オープン｜ミャクミャク感謝祭2026と連動 \n　2025大阪・関西万博マスターライセンスオフィス（以下、2025MLO）は、「ミャクミャク感謝祭2026 in OSAKA」の開催に連動し、2026年2月16日(月)〜19日(木)の４日間限定で「EXPO2025オフィシャルカフェ」をオープンします。会場はJR大阪駅直結の「ＫＩＴＴＥ大阪」2階にある＠ＪＰ Ｃａｆｅ。 \n　万博の思い出とともに心温まるひとときを楽しめる空間として、限定オープン期間中のみ体験できる特別企画となっています。　なお、会場にミャクミャクの来訪はありません。 \n \nEXPO2025オフィシャルカフェ概要\n\n\n\n\n\n項目\n内容\n\n\n\n\n名称\nEXPO2025オフィシャルカフェ\n\n\n会場\nＫＩＴＴＥ大阪2階 ＠ＪＰ Ｃａｆｅ（〒530-0001 大阪府大阪市北区梅田3丁目2番2号）\n\n\nアクセス\nJR大阪駅直結\n\n\n期間\n2026年2月16日(月)〜19日(木)\n\n\n営業時間\n11:00〜20:00\n\n\n備考\nミャクミャクの来訪はありません\n\n\n\n\n\n参加方法（LINE予約制）\n体験方法はイートイン（抽選）とテイクアウト（当日先着）の2種。 \n▼ ❶ イートイン（事前抽選制）\n\n\nLINE予約システムで抽選 \n\n\n当選者のみ入店可能 \n\n\n詳細はLINE登録後に配信 \n\n\n応募期間2026年1月23日(金)10:00 ～ 1月29日(木)23:59 \n▼ ❷ テイクアウト（当日先着）\n\n\n各日10:00〜LINE予約で受付 \n\n\n先着順 \n\n\n整理券必須 \n\n\n予約受付方法\nLINE友だち登録後、各種受付へ進む方式。 \n登録（URL）https://lin.ee/uQjG4fS※偽アカウントに注意 \n注意事項\n\n\n当日は整理券をお持ちでない方の来場は不可 \n\n\n会場での整理券配布はなし \n\n\n混雑回避のため当日飛び入り不可 \n\n\n詳細はLINE登録後に案内 \n\n\n 
URL:https://futureearth.jp/event/expo2025-official-cafe-osaka-2026/
LOCATION:ＫＩＴＴＥ大阪2階 ＠ＪＰ Ｃａｆｅ\, 大阪府大阪市北区梅田3丁目2番2号
CATEGORIES:ミャクミャク,公式イベント,大阪・関西万博
ATTACH;FMTTYPE=image/jpeg:https://futureearth.jp/wp-content/uploads/2026/01/official-cafe-e1769308189200.jpg
END:VEVENT
BEGIN:VEVENT
DTSTART;VALUE=DATE:20260216
DTEND;VALUE=DATE:20260217
DTSTAMP:20260420T115604
CREATED:20260125T022215Z
LAST-MODIFIED:20260125T231449Z
UID:6171-1771200000-1771286399@futureearth.jp
SUMMARY:ミャクミャク感謝祭2026 in OSAKA
DESCRIPTION:『ミャクミャク感謝祭2026 in OSAKA』開催決定\n\n\n\n2025大阪・関西万博マスターライセンスオフィス（2025MLO）は、大阪駅直結のJPタワー大阪「SkyシアターMBS」にて、2026年2月16日（月）に『ミャクミャク感謝祭2026 in OSAKA』を開催します。 当日はミャクミャクとの交流を楽しめるパフォーマンスやクイズ、記念撮影など盛りだくさん。昼・夜の2部制で実施され、各回800名を収容予定です。 \n\n\n\n\n\n\n\n参加にはイベント参加券付き商品の購入が必要となり、抽選販売はチケットぴあにて1月22日（木）正午より開始予定。万博終了後もアフター万博の動きが各地で進む中、ミャクミャクと直接ふれあえる貴重なイベントとなりそうです。 \n\n\n\n開催概要\n\n\n\n\n\n\n\n項目\n内容\n\n\n\n\nイベント名\nミャクミャク感謝祭2026 in OSAKA\n\n\n主催\n2025大阪・関西万博マスターライセンスオフィス（2025MLO）\n\n\n日時\n2026年2月16日（月） ① 15:00〜16:00（開場14:00） ② 18:30〜19:30（開場17:30）\n\n\n会場\nSkyシアターMBS（JPタワー大阪6F）\n\n\n住所\n大阪府大阪市北区梅田3-2-2\n\n\n収容人数\n各回800名\n\n\n内容\nミャクミャクパフォーマンス、クイズ大会、記念撮影など\n\n\n参加方法\nイベント参加券付き商品が必要\n\n\n抽選販売\nチケットぴあ\n\n\n抽選受付\n2026年1月22日（木）正午〜 予定\n\n\n\n\n\n\n\n見どころ\n\n\n\n✔ ミャクミャクとじっくり交流できる数少ない機会 ✔ クイズ大会や撮影会など“参加体験型”コンテンツ多数 ✔ 大阪駅徒歩すぐのアクセス抜群な立地 ✔ 各回800名の大規模開催 \n\n\n\nイベント入場券付き商品（2列構成）\n\n\n\n\n\n\n\nコース・価格\n内容\n\n\n\n\n① 梅コース／2\,000円（税込）\nセット内容： ・シリコンリストバンド＋入場券 グッズ仕様： ・シリコンリストバンド：直径約65mm／素材：シリコン ※イベント特別デザイン ※デザインはイメージ、仕様変更の場合あり\n\n\n② 竹コース／5\,000円（税込）\nセット内容： ・シリコンリストバンド＋トートバッグ＋キーホルダー＋入場券 グッズ仕様： ・シリコンリストバンド：梅コース同様 ・トートバッグ：W360×H370×D110mm／綿100% ・キーホルダー：約75mm／本体PVC・チェーン鉄／対象年齢6歳以上 ※イベント特別デザイン ※詳細は当日公開／仕様変更の場合あり\n\n\n③ 松コース／10\,000円（税込）\nセット内容： ・シリコンリストバンド＋トートバッグ＋キーホルダー＋アクリルフォトフレーム＋入場券 ・2ショット記念撮影付き グッズ仕様： ・シリコンリストバンド：梅コース同様 ・トートバッグ：竹コース同様 ・キーホルダー：竹コース同様 ・アクリルフォトフレーム：H191×W145mm／本体アクリル・脚鉄／対象年齢15歳以上 ※イベント特別デザイン ※詳細は当日公開／仕様変更の場合あり\n\n\n\n\n\n\n\n\n\n\n\n\n\n\n\n\n\n\n\n\n\n\n\n\n\n購入方法\n\n\n\nチケットぴあにて、抽選販売（2026/01/22（木）12:00から） https://w.pia.jp/t/myakumyaku-thankyoufestival/ \n\n\n\n抽選スケジュール\n\n\n\n\n\n\n\n項目\n日時\n\n\n\n\n受付開始\n2026/01/22（木）12:00\n\n\n受付終了\n2026/01/27（火）23:59\n\n\n抽選日\n2026/01/29（木）\n\n\n当落発表\n2026/01/29（木）20:00\n\n\n\n\n\n\n\n関連リンク\n\n\n\n\n感謝の気持ちをファンに届ける！ミャクミャク感謝祭2026 in OSAKA開催決定！
URL:https://futureearth.jp/event/myakumyaku-thanks-2026-osaka/
LOCATION:SkyシアターMBS\, 大阪府大阪市北区梅田3-2-2
CATEGORIES:ミャクミャク,公式イベント,大阪・関西万博
ATTACH;FMTTYPE=image/jpeg:https://futureearth.jp/wp-content/uploads/2026/01/20260121_myakukansyasai-1.jpg
END:VEVENT
BEGIN:VEVENT
DTSTART;TZID=Asia/Tokyo:20260214T130000
DTEND;TZID=Asia/Tokyo:20260214T170000
DTSTAMP:20260420T115604
CREATED:20260125T020028Z
LAST-MODIFIED:20260125T231416Z
UID:6150-1771074000-1771088400@futureearth.jp
SUMMARY:藤本壮介氏ら登壇「Landscape Challenge 2025」｜都市デザインと万博レガシーを語る大阪フォーラム
DESCRIPTION:藤本壮介氏ら登壇「Landscape Challenge 2025」｜都市デザインと万博レガシーを語る大阪フォーラム\nLandscape Challenge は、JLAU ナショナルアクション本部が今年度から新設した全国フォーラム。ランドスケープ分野を中心に、建築・地域・行政・民間など、業界と地域の垣根を越えてつながりをつくることを目的としています。 \n初回となる2025年度版は、万博閉幕後の大阪を舞台に、「万博とは何だったのか？」をテーマとしたトークセッション・セミナーを展開。会場とWEBの両参加形式に対応し、全国から参加できる環境が整えられています。 \n \n  \n開催概要\n\n\n\n\n項目\n内容\n\n\n\n\nイベント名\nLandscape Challenge 2025\n\n\n開催日\n2026年2月14日（土）13:00〜17:00（12:30開場）\n※17:00〜18:00 懇親会\n\n\n会場\n大阪難波御堂筋ホール b2ホール（難波御堂筋ビル地下2F）\n\n\n住所\n大阪府大阪市中央区難波４丁目２−１\n\n\n主催\nJLAU ナショナルアクション本部\n\n\n形式\n会場参加 + WEB参加（Zoom）\n\n\n定員\n会場：200名 ／ WEB参加：制限なし\n\n\nCPD\n造園CPD申請中（3.66単位）\n\n\n申込締切\n2026年2月10日（火）まで\n\n\n\n\n今回のテーマ：「万博とは、何だったのか？」\n大阪・関西万博が幕を閉じた後も、まちの議論は終わらない。\n本フォーラムでは、万博に深く関わったクリエイターが登壇し、 \n\n万博のデザイン\nまちと万博の接続\nレガシーの行方\n跡地利用と都市の未来\n\nといったテーマを、多角的に議論します。 \n登壇ゲスト\nランドスケープ・建築・都市戦略・クリエイティブ・民間実践など、多領域から豪華メンバーが登壇： \n\n藤本壮介（SOU FUJIMOTO ARCHITECTS）\n└ 万博会場デザインプロデューサー\n忽那裕樹（株式会社E-DESIGN）\n└ ランドスケープデザインディレクター\n花岡（㈱人間）\n引地耕太（株式会社VISIONs）\n今村治世（㈱三菱総合研究所）\n寺浦薫（株式会社E-DESIGN）\n盛岡諄平（Hügel Design）\n\nタイムスケジュール\n\n\n\n\n時間\n内容\n\n\n\n\n13:00\n開会・趣旨説明\n\n\n13:05〜14:05\n第一部｜メイントークセッション\nテーマ：『万博とは、何だったのか？』\n藤本壮介 × 忽那裕樹\n\n\n14:15〜15:45\n第二部｜「まちごと万博」ダイジェストプレゼン\n登壇：一般社団法人demo！EXPO / 花岡（㈱人間） / 引地耕太（VISIONs） ほか\n\n\n15:50〜17:00\n第三部｜みどりのまちづくり構想トークセッション\n 万博レガシー／跡地利用／都市構想「GREEN ARROW」提案\n\n\n17:00〜18:00\n会場懇親会\n\n\n17:00\n閉会\n\n\n\n\n参加料金\n\n\n\n\n区分\n会場参加（講演のみ）\n会場＋懇親会\nWEB参加\n\n\n\n\n会員\n¥2\,500\n¥4\,500\n¥2\,000\n\n\n非会員\n¥3\,000\n¥5\,000\n¥2\,500\n\n\n\n\n※WEB参加者には後日案内メール送付\n※会場参加のうち一部チケットは販売終了 \n  \nみどころ・注目ポイント\n 万博閉幕後の大阪を議論する希少機会\n 都市とランドスケープの視点からレガシーを検証\n “まちごと万博” を提唱した demo！EXPO が登壇\n 跡地活用・GREEN ARROW構想まで言及\n 会場＋WEB の ハイブリッド開催\n 専門家だけでなく まちづくり関係者にも価値のある内容 \n関連リンク\n\nLandscape Challenge 2025【WEB開催あり】｜Peatix
URL:https://futureearth.jp/event/landscape-challenge-2025-osaka/
LOCATION:大阪難波御堂筋ホール b2ホール（難波御堂筋ビル地下2F）\, 大阪府大阪市中央区難波４丁目２−１
CATEGORIES:シンポジウム,大阪・関西万博
ATTACH;FMTTYPE=image/jpeg:https://futureearth.jp/wp-content/uploads/2026/01/cover-xWisgXSdvHWXEsNqYGkNrOtqef5Z8Siq.jpeg
END:VEVENT
BEGIN:VEVENT
DTSTART;TZID=Asia/Tokyo:20260130T190000
DTEND;TZID=Asia/Tokyo:20260130T213000
DTSTAMP:20260420T115604
CREATED:20260125T230542Z
LAST-MODIFIED:20260125T230620Z
UID:6187-1769799600-1769808600@futureearth.jp
SUMMARY:EXPO酒場 関内店
DESCRIPTION:EXPO酒場、横浜・関内にオープン！GREEN×EXPOを前に「共創の入口」をつくる夜\n\n\n\n大阪・関西万博のレガシーは終わらない。 2027年に横浜で開催される GREEN×EXPO 2027 を前に、「関わりたいけど、何から始めればいいかわからない」という市民や企業の熱量を受け止める新しい“入口”が誕生します。 \n\n\n\nその名も 『EXPO酒場 関内店』。 共創プロジェクトを独自に仕掛けてきたクリエイター集団 demo!expo が主催し、横浜の中心地・関内で開催されます。 \n\n\n\n\n\n\n\n「園芸博は遠いイベントじゃない」参加のハードルを下げる場づくり\n\n\n\n大阪万博を契機に、まち単位で万博を楽しむ動き（まちごと万博）が全国に芽生えました。その思想を横浜に持ち込み、園芸博を「国家イベント」から “自分ごと化できるテーマ” へ変換するのが今回の狙いです。 \n\n\n\n\nEXPO酒場・まちごと万博とは\n\n\n\nGREEN×EXPO 2027をチャンスにする視点\n\n\n\n横浜版“共創の場”「ヨコハマ未来創造会議」の紹介\n\n\n\n参加者同士のアイデアブレスト／交流\n\n\n\n\n「集まり、語り、知る」 万博への関わり方を考える最初のステップを提供します。 \n\n\n\nイベント概要\n\n\n\n\n\n\n\n項目\n内容\n\n\n\n\n名称\nEXPO酒場 関内店\n\n\n日時\n2026年1月30日（金）19:00-21:30（開場18:30）\n\n\n場所\nリストリンクラウンジ（神奈川県横浜市中区尾上町4-47 リスト関内ビル1階） JR関内駅（北口）徒歩3分\n\n\n料金\nドリンク＋軽食付 3\,000円（税込・現地払い）\n\n\n特典\nG Innovation Hub YOKOHAMAを利用料500円で19時まで利用可（要チケット提示）\n\n\n定員\n40名（先着順）\n\n\n主催\n一般社団法人 demo!expo\n\n\n\n\n\n\n\nタイムテーブル\n\n\n\n\n18:30-19:00　受付\n\n\n\n19:00-19:10　挨拶・乾杯\n\n\n\n19:10-19:40　EXPO酒場／まちごと万博とは\n\n\n\n19:40-20:00　ヨコハマ未来創造会議とは\n\n\n\n20:00-20:20　トークセッション 「GREEN×EXPO 2027をチャンスに！」\n\n\n\n20:20-20:50　アイデアブレスト\n\n\n\n20:50-21:00　中締め・集合写真\n\n\n\n21:00-21:30　交流タイム\n\n\n\n21:30　終了\n\n\n\n\n店長：町山和生 氏（共創デザイナー／地域コーディネーター）\n\n\n\n広告・商品開発・公共空間プロジェクトなどの企画～実装を横断するクリエーター。 関内エリアでの音楽文化×公共空間×大学×行政連携など、地域資源を活かした共創の実装 を強みに持つ人物。 \n\n\n\n「共創を構想で終わらせない」 関係者調整→企画→現場実行まで一気通貫で走らせるプロジェクト力が特徴。 \n\n\n\nヨコハマ未来創造会議：次世代×横浜×園芸博のマイルストーン\n\n\n\nGREEN×EXPO 2027を世代交代の契機に 大学生や若手社会人が横浜の未来や環境共生社会について議論し、実際のアクションまでつなげる横浜市の共創スキーム。 \n\n\n\n→ https://next-gen.city.yokohama.lg.jp/ \n\n\n\nEXPO酒場はこの会議とも連携し、 「横浜がどう未来を創るか」を自分たちの言葉で考える入口 を作ります。 \n\n\n\ndemo!expo―万博を勝手に面白くする集団\n\n\n\n主催する demo!expo は万博公式組織ではなく、 企業の垣根を越えたプロデューサー／クリエーターの非公式集団。 \n\n\n\n掲げる原点はシンプル： \n\n\n\n「自分たちができることを勝手に考える」 \n\n\n\n大阪万博で来場者体験やまちのレガシー創出を数多く提案してきた実績があり、 今回の園芸博でも 「共創」をコアにした市民的ムーブメント を生み出そうとしているのが特徴です。 \n\n\n\n関連リンク\n\n\n\n\nEXPO酒場 横浜関内店
URL:https://futureearth.jp/event/expo-sakaba-kannai/
LOCATION:リストリンクラウンジ\, 神奈川県横浜市中区尾上町4-47 リスト関内ビル1階
CATEGORIES:GREEN×EXPO2027
ATTACH;FMTTYPE=image/jpeg:https://futureearth.jp/wp-content/uploads/2026/01/cover-k12GAqhsIXgnHJHnK4ipNGMyDq002wf1.jpeg
END:VEVENT
BEGIN:VEVENT
DTSTART;TZID=Asia/Tokyo:20260126T190000
DTEND;TZID=Asia/Tokyo:20260126T213000
DTSTAMP:20260420T115604
CREATED:20260125T012838Z
LAST-MODIFIED:20260125T022819Z
UID:6136-1769454000-1769463000@futureearth.jp
SUMMARY:EXPOを「自分ごと」にする企画会議 #2
DESCRIPTION:横浜の若者が動き出す──GREEN×EXPO 2027へ向けた「未来作戦会議」開催へ\n2027年のGREEN×EXPOに向けて、横浜から新たな動きが始まります。 \n2026年1月26日（月）、横浜駅そばの「Vlag yokohama」にて、若者同士がアイデアを語り合うミートアップイベント『EXPOを「自分ごと」にする企画会議 #2』が開催されます。テーマは「GREEN×EXPOを自分たちの手で面白くすること」。ワールドカフェ形式の対話セッションと交流会を通じて、横浜の未来づくりに関心を持つ若者がつながり、アクションの種を育てる場となります。参加費は無料、飲食持ち込みOK。これからの横浜を一緒に考えたい方におすすめのイベントです。 \n \n  \n登壇者\n● 井出 さゆり（An-Nahal／コンサルタント）\n\nDE&I推進\n世界青年の船 日本代表（2022）\nキャリアコンサルタント\n\n● 南山 祐太朗（ヨコハマ未来創造会議 若者実行委員会）\n\n環境・都市領域を学ぶ現役大学生\n無印良品WS企画や関内まちづくりに参加\n森のオト学生ライター\n2025年度YNUアーバニストスクール最年少受講\n\n● 藤井 優花（ピープルポート株式会社）\n\n難民雇用創出の事業に携わる社会起業分野の実践者\nZERO PC事業統括経験\n難民包摂社会に向け企業・自治体等と協働推進\n\nヨコハマ未来創造会議 若者実行委員会\n今回のイベントを主催するヨコハマ未来創造会議 若者実行委員会は、GREEN×EXPO 2027開催を契機に、大学生・若手社会人が横浜の未来について語り合い、20年・30年先につながるアクションを生むための場として立ち上がりました。\nGREEN×EXPOをマイルストーンに、若者の感性とアイデアで“これからの横浜”を共に創ることを目指しています。 \n関連リンク\n\n01/26(月)夜 横浜駅直結！EXPOを「自分ごと」にする企画会議 #2｜Peatix\nヨコハマ未来創造会議
URL:https://futureearth.jp/event/meetup-greenexpo-2027-yokohama-20260126/
LOCATION:Vlag yokohama（フラグヨコハマ）\, 横浜市神奈川区鶴屋町１丁目４１ THE YOKOHAMA FRONT 42階
CATEGORIES:GREEN×EXPO2027,シンポジウム
ATTACH;FMTTYPE=image/jpeg:https://futureearth.jp/wp-content/uploads/2026/01/cover-SwrL0Ls1pLq1wRORT1L6qlKzX1uf6dWX-1.jpg
END:VEVENT
BEGIN:VEVENT
DTSTART;VALUE=DATE:20260120
DTEND;VALUE=DATE:20260304
DTSTAMP:20260420T115604
CREATED:20260125T021654Z
LAST-MODIFIED:20260130T091319Z
UID:6160-1768867200-1772582399@futureearth.jp
SUMMARY:横浜春節祭2026でランタントゥンクトゥンクを
DESCRIPTION:横浜春節祭2026でランタントゥンクトゥンクを\n\n\n\n2026年1月20日（火）～3月3日（火）の期間、横浜中華街・みなとみらい・横浜駅・新横浜駅など市内各エリアにて、冬の街を華やかに彩る「横浜春節祭」が開催されています。 期間中は、龍などの春節モチーフを取り入れた大型ランタンオブジェが約60か所に設置され、商業施設や繁華街を中心にフォトジェニックな景色が広がります。 \n\n\n\n\n横浜春節祭2026　横浜春節祭2026　より\n\n\n\n\n汽車道付近にランタントゥンクトゥンクが！\n\n\n\n桜木町駅近く汽車道の近くに、トゥンクトゥンクのランタンオブジェが設置してあります。 \n\n\n\n\nランタンオブジェ：トゥンクトゥンク（E-4汽車道会場）　（2026.1.22撮影）\n\n\n\n\n夜はライトがつき映えるトゥンク（2026.1.30撮影） \n横浜各地にランタンオブジェが\n\n\n\n街中のランタンを巡ってスタンプを集めるデジタルスタンプラリーも開催中。参加者には抽選で景品が当たるチャンスもあり、横浜の街歩きやグルメと一緒に楽しめます。 \n\n\n\n\nランタンオブジェ：THE MOVEUM YOKOHAMA by TOYOTA GROUP A-16山下ふ頭会場（イマーシブミュージアム）　（2026.1.22撮影）\n\n\n\n\n\nランタンオブジェ：三面柱 B-5馬車道駅会場（2026.1.22撮影）\n\n\n\n\nマップ\n\n\n\n\n横浜春節祭2026 マップ　横浜春節祭2026　より\n\n\n\n\n関連リンク\n\n\n\n\n横浜春節祭2026\n\n\n\n春節2026デジタルスタンプラリー | プラチナマップ
URL:https://futureearth.jp/event/yokohama-happy-lantern-festival-2026/
LOCATION:汽車道\, 神奈川県横浜市中区新港２丁目９
CATEGORIES:GREEN×EXPO2027,トゥンクトゥンク
ATTACH;FMTTYPE=image/jpeg:https://futureearth.jp/wp-content/uploads/2026/01/夜トゥンク.jpg
END:VEVENT
END:VCALENDAR