BEGIN:VCALENDAR
VERSION:2.0
PRODID:-//Future Earth - ECPv6.15.20//NONSGML v1.0//EN
CALSCALE:GREGORIAN
METHOD:PUBLISH
X-ORIGINAL-URL:https://futureearth.jp
X-WR-CALDESC:Future Earth のイベント
REFRESH-INTERVAL;VALUE=DURATION:PT1H
X-Robots-Tag:noindex
X-PUBLISHED-TTL:PT1H
BEGIN:VTIMEZONE
TZID:Asia/Tokyo
BEGIN:STANDARD
TZOFFSETFROM:+0900
TZOFFSETTO:+0900
TZNAME:JST
DTSTART:20250101T000000
END:STANDARD
END:VTIMEZONE
BEGIN:VEVENT
DTSTART;VALUE=DATE:20260418
DTEND;VALUE=DATE:20260420
DTSTAMP:20260423T064912
CREATED:20260403T072002Z
LAST-MODIFIED:20260410T144631Z
UID:9730-1776470400-1776643199@futureearth.jp
SUMMARY:【関東の国営公園5ヵ所】横浜グリーンエクスポのオリジナルグッズを先着配布
DESCRIPTION:【関東の国営公園5ヵ所】横浜グリーンエクスポのオリジナルグッズを先着配布！4月11日から\n\n\n\n　2027年に開催される国際園芸博覧会「GREEN×EXPO 2027（横浜グリーンエクスポ）」の開幕まで残り1年を切る中、国土交通省はPRイベントとして、関東地方の国営公園5ヵ所でオリジナルグッズの配布を実施します。 \n\n\n\n　実施日は2026年4月11日（土）から計4日間。各公園のSNSフォローなどの条件を満たすことで、非売品のクリアファイルや、昭和記念公園限定のネックストラップを手に入れることができます。 \n\n\n\n \n\n\n\n国営昭和記念公園公式X より\n\n\n\nイベント概要\n\n\n\n項目内容実施日程2026年4月11日(土)・12日(日)・18日(土)・19日(日)実施場所国営昭和記念公園＜クリアファイル・ネックストラップ＞10：00～　みんなの原っぱ（はらっぱ南売店北側）東京臨海広域防災公園＜クリアファイル＞10:00～17:00　１階そなえカフェ国営ひたち海浜公園＜クリアファイル＞各日10：00～ 無くなり次第終了配布場所4月11日（土） チューリップのミニブーケづくり、古民家昔語り4月12日（日） チューリップガイドツアー、沢田湧水ガイドツアー4月18日（土） 沢田湧水ガイドツアー、4月19日（日）ネモフィラガイドツアー、ウグイス笛づくり、沢田湧水ガイドツアー国営武蔵丘陵森林公園＜クリアファイル＞10：00～12:00　都市緑化公園カラーリーフガーデン前国営アルプスあづみの公園＜クリアファイル＞大町・松川地区　インフォメーションセンター（各日50名）堀金・穂高地区　ガイドセンター（各日50名）\n\n\n\n配布グッズと獲得条件\n\n\n\nオリジナルクリアファイル\n\n\n\n\n各日先着100名\n\n\n\n条件：「国営公園」および「GREEN×EXPO 2027」のSNSをフォローしている方※SNSの種類は問いません。\n\n\n\n\nネックストラップ（国営昭和記念公園限定）＆オリジナルクリアファイル\n\n\n\n\n各日先着50名\n\n\n\n条件1：「国営昭和記念公園」および「GREEN×EXPO 2027」のSNSをフォローしている方\n\n\n\n条件2：横浜グリーンエクスポ入場券購入者（チケットインフォメーションはこちら）\n\n\n\n\n関連リンク\n\n\n\n\n横浜グリーンエクスポのオリジナルグッズ配布について｜国営昭和記念公園\n\n\n\nSNSフォローで、２０２７年国際園芸博覧会（GREEN × EXPO2027）のクリアファイルをプレゼント！｜東京臨海広域防災公園\n\n\n\n横浜グリーンエクスポ（GREEN×EXPO 2027）のオリジナルグッズ配布について｜国営ひたち海浜公園\n\n\n\nGREEN×EXPO 2027 オリジナルクリアファイルを配布します！｜国営武蔵丘陵森林公園\n\n\n\n国営アルプスあずみの公園\n\n\n\n\n\n昭和記念公園では、開催まで1年を切った「横浜グリーンエクスポ（GREEN×EXPO 2027）」のPRとして、クリアファイル・ネックストラップの配布を4/11(土)・12(日)・18(土)・19(日)に行います◎配布には、横浜グリーンエクスポのSNSフォローやチケット購入などの条件がありますので、ご注意ください。… pic.twitter.com/ZaV2PcR6pE — 国営昭和記念公園 (@showakinenpark) April 9\, 2026\n\n\n\n\n\n#そなエリア東京 では、開催まで1年を切った #２０２７年国際園芸博覧会(#GREENEXPO2027)のPRとして、クリアファイルをプレゼントします。4/11(土)・12(日)・18(土)・19(日)に、１階そなえカフェで、2027年国際園芸博覧会と東京臨海広域防災公園SNSのフォロー済画面をカウンターでご提示ください。 pic.twitter.com/6GSzSK6tmy — 東京臨海広域防災公園 (@Parksrinkai) April 9\, 2026\n\n\n\n\n\n開催まで1年を切った横浜グリーンエクスポ（GREEN×EXPO 2027）。『横浜グリーンエクスポ（GREEN×EXPO 2027）』『国営武蔵丘陵森林公園【公式】』の両方のSNSアカウントをフォローいただいた方に、オリジナルクリアファイルをプレゼントします！各日100名様限定ですので、どうぞお早めに♪♪ pic.twitter.com/lS7pE88XPh — 国営武蔵丘陵森林公園 (@musashi_shinrin) April 10\, 2026\n\n\n\n\n\n今週末11日(土)・12日(日)に横浜GreenEXPO2027 SNSアカウントフォローキャンペーンにて、オリジナルクリアファイルをプレゼントいたします！【場所】インフォメーションセンター【対象】横浜GreenEXPO2027と当公園の、両方のSNSアカウントをフォロー各日50名様限定なのでお早めに✨ pic.twitter.com/m3x6Iw1iSQ — 国営アルプスあづみの公園　大町・松川地区 (@azumino_OM) April 10\, 2026\n\n\n\n\n\n今週末11日(土)・12日(日)に横浜GreenEXPO2027 SNSアカウントフォローキャンペーンにて、オリジナルクリアファイルをプレゼントいたします！【場所】ガイドセンター【対象】横浜GreenEXPO2027と当公園の、両方のSNSアカウントをフォロー各日50名様限定なのでお早めに✨ pic.twitter.com/arG75DWvPD — 国営アルプスあづみの公園　堀金・穂高地区 (@azumino_HH) April 10\, 2026
URL:https://futureearth.jp/event/national-parks-greenexpo-campaign-2/
LOCATION:国営ひたち海浜公園、国営武蔵丘陵森林公園、国営昭和記念公園、東京臨海広域防災公園、国営アルプスあづみの公園
CATEGORIES:GREEN×EXPO2027
ATTACH;FMTTYPE=image/jpeg:https://futureearth.jp/wp-content/uploads/2026/04/HFcbWgea8AE88lB.jpeg
END:VEVENT
BEGIN:VEVENT
DTSTART;VALUE=DATE:20260411
DTEND;VALUE=DATE:20260413
DTSTAMP:20260423T064912
CREATED:20260403T071825Z
LAST-MODIFIED:20260410T143611Z
UID:9726-1775865600-1776038399@futureearth.jp
SUMMARY:【関東の国営公園5ヵ所】横浜グリーンエクスポのオリジナルグッズを先着配布
DESCRIPTION:【関東の国営公園5ヵ所】横浜グリーンエクスポのオリジナルグッズを先着配布！4月11日から\n\n\n\n　2027年に開催される国際園芸博覧会「GREEN×EXPO 2027（横浜グリーンエクスポ）」の開幕まで残り1年を切る中、国土交通省はPRイベントとして、関東地方の国営公園5ヵ所でオリジナルグッズの配布を実施します。 \n\n\n\n　実施日は2026年4月11日（土）から計4日間。各公園のSNSフォローなどの条件を満たすことで、非売品のクリアファイルや、昭和記念公園限定のネックストラップを手に入れることができます。 \n\n\n\n \n\n\n\n国営昭和記念公園公式X より\n\n\n\nイベント概要\n\n\n\n項目内容実施日程2026年4月11日(土)・12日(日)・18日(土)・19日(日)実施場所国営昭和記念公園＜クリアファイル・ネックストラップ＞10：00～　みんなの原っぱ（はらっぱ南売店北側）東京臨海広域防災公園＜クリアファイル＞10:00～17:00　１階そなえカフェ国営ひたち海浜公園＜クリアファイル＞各日10：00～ 無くなり次第終了配布場所4月11日（土） チューリップのミニブーケづくり、古民家昔語り4月12日（日） チューリップガイドツアー、沢田湧水ガイドツアー4月18日（土） 沢田湧水ガイドツアー、4月19日（日）ネモフィラガイドツアー、ウグイス笛づくり、沢田湧水ガイドツアー国営武蔵丘陵森林公園＜クリアファイル＞10：00～12:00　都市緑化公園カラーリーフガーデン前国営アルプスあづみの公園＜クリアファイル＞大町・松川地区　インフォメーションセンター（各日50名）堀金・穂高地区　ガイドセンター（各日50名）\n\n\n\n配布グッズと獲得条件\n\n\n\nオリジナルクリアファイル\n\n\n\n\n各日先着100名\n\n\n\n条件：「国営公園」および「GREEN×EXPO 2027」のSNSをフォローしている方※SNSの種類は問いません。\n\n\n\n\nネックストラップ（国営昭和記念公園限定）＆オリジナルクリアファイル\n\n\n\n\n各日先着50名\n\n\n\n条件1：「国営昭和記念公園」および「GREEN×EXPO 2027」のSNSをフォローしている方\n\n\n\n条件2：横浜グリーンエクスポ入場券購入者（チケットインフォメーションはこちら）\n\n\n\n\n関連リンク\n\n\n\n\n横浜グリーンエクスポのオリジナルグッズ配布について｜国営昭和記念公園\n\n\n\nSNSフォローで、２０２７年国際園芸博覧会（GREEN × EXPO2027）のクリアファイルをプレゼント！｜東京臨海広域防災公園\n\n\n\n横浜グリーンエクスポ（GREEN×EXPO 2027）のオリジナルグッズ配布について｜国営ひたち海浜公園\n\n\n\nGREEN×EXPO 2027 オリジナルクリアファイルを配布します！｜国営武蔵丘陵森林公園\n\n\n\n国営アルプスあずみの公園\n\n\n\n\n\n昭和記念公園では、開催まで1年を切った「横浜グリーンエクスポ（GREEN×EXPO 2027）」のPRとして、クリアファイル・ネックストラップの配布を4/11(土)・12(日)・18(土)・19(日)に行います◎配布には、横浜グリーンエクスポのSNSフォローやチケット購入などの条件がありますので、ご注意ください。… pic.twitter.com/ZaV2PcR6pE — 国営昭和記念公園 (@showakinenpark) April 9\, 2026\n\n\n\n\n\n#そなエリア東京 では、開催まで1年を切った #２０２７年国際園芸博覧会(#GREENEXPO2027)のPRとして、クリアファイルをプレゼントします。4/11(土)・12(日)・18(土)・19(日)に、１階そなえカフェで、2027年国際園芸博覧会と東京臨海広域防災公園SNSのフォロー済画面をカウンターでご提示ください。 pic.twitter.com/6GSzSK6tmy — 東京臨海広域防災公園 (@Parksrinkai) April 9\, 2026\n\n\n\n\n\n開催まで1年を切った横浜グリーンエクスポ（GREEN×EXPO 2027）。『横浜グリーンエクスポ（GREEN×EXPO 2027）』『国営武蔵丘陵森林公園【公式】』の両方のSNSアカウントをフォローいただいた方に、オリジナルクリアファイルをプレゼントします！各日100名様限定ですので、どうぞお早めに♪♪ pic.twitter.com/lS7pE88XPh — 国営武蔵丘陵森林公園 (@musashi_shinrin) April 10\, 2026\n\n\n\n\n\n今週末11日(土)・12日(日)に横浜GreenEXPO2027 SNSアカウントフォローキャンペーンにて、オリジナルクリアファイルをプレゼントいたします！【場所】インフォメーションセンター【対象】横浜GreenEXPO2027と当公園の、両方のSNSアカウントをフォロー各日50名様限定なのでお早めに✨ pic.twitter.com/m3x6Iw1iSQ — 国営アルプスあづみの公園　大町・松川地区 (@azumino_OM) April 10\, 2026\n\n\n\n\n\n今週末11日(土)・12日(日)に横浜GreenEXPO2027 SNSアカウントフォローキャンペーンにて、オリジナルクリアファイルをプレゼントいたします！【場所】ガイドセンター【対象】横浜GreenEXPO2027と当公園の、両方のSNSアカウントをフォロー各日50名様限定なのでお早めに✨ pic.twitter.com/arG75DWvPD — 国営アルプスあづみの公園　堀金・穂高地区 (@azumino_HH) April 10\, 2026
URL:https://futureearth.jp/event/national-parks-greenexpo-campaign/
LOCATION:国営ひたち海浜公園、国営武蔵丘陵森林公園、国営昭和記念公園、東京臨海広域防災公園、国営アルプスあづみの公園
CATEGORIES:GREEN×EXPO2027
ATTACH;FMTTYPE=image/jpeg:https://futureearth.jp/wp-content/uploads/2026/04/HFcbWgea8AE88lB.jpeg
END:VEVENT
BEGIN:VEVENT
DTSTART;TZID=Asia/Tokyo:20260228T100000
DTEND;TZID=Asia/Tokyo:20260315T163000
DTSTAMP:20260423T064912
CREATED:20260213T090341Z
LAST-MODIFIED:20260301T115107Z
UID:7176-1772272800-1773592200@futureearth.jp
SUMMARY:日本の万国博覧会 1970–2025 ＋ 描かれた未来と夢
DESCRIPTION:展覧会「日本の万国博覧会 1970–2025 ＋ 描かれた未来と夢」\n\n\n\n1970年の大阪万博から2025年の大阪・関西万博まで、日本が歩んできた万博の軌跡と、子どもたちが描く未来の姿を展望する企画展が開催されます。 \n\n\n\n\n\n\n\n入館方法のご案内\n\n\n\n観覧スタイルや曜日によって、「入口」と「料金」が異なりますのでご注意ください。 \n\n\n\n\n\n\n\n観覧方法\n入館ルート\n料金\n\n\n\n\n展覧会のみ（平日のみ）\n湯島地方合同庁舎 正門\n無料\n\n\n庭園＋展覧会（土日祝・平日）\n都立旧岩崎邸庭園 正門\n有料 (一般400円)\n\n\n\n\n\n\n\n開催概要\n\n\n\n\n\n\n\n項目\n内容\n\n\n\n\n会期\n2026年2月28日（土）～ 3月15日（日）\n\n\n会場\n文化庁国立近現代建築資料館（東京都文京区湯島4-6-15）\n\n\n開館時間\n10:00～16:30（最終入構 16:15）　休館日：月曜日\n\n\n主催\n文化庁\n\n\n共催\n特定非営利活動法人子供地球基金\n\n\n企画\n株式会社エイチ・アイ・エス\n\n\n公式サイト\nhttps://nama.bunka.go.jp/exhibitions/2602\n\n\n\n\n\n\n\n展示の見どころ\n\n\n\n本展は3つのセクションで構成され、過去・現代・未来の視点から万博と建築を紐解きます。 \n\n\n\n\nセクションⅠ：「日本の万国博覧会 1970–2005」―1970 年大阪万博の熱狂と希望、これまでの日本の万国博覧会の軌跡 1970年大阪万博から2005年愛・地球博まで、過去5回の万博を貴重な図面や資料で振り返ります。\n\n\n\nセクションⅡ：いのち輝く現代。2025 年大阪・関西万博の創造 記憶に新しい「大屋根リング」や各パビリオンの設計図、会場写真を通して、持続可能な未来社会の構想を紹介します。\n\n\n\nセクションⅢ：子どもたちが描く未来の建築と夢 約100人の子どもたちと日米のアーティストがコラボレーションした10mの巨大作品や、現代美術家・鬼頭健吾氏の監修による色彩豊かな絵画インスタレーションを展示します。\n\n\n\n\n\n日本の万国博覧会 1970-2005 展示状況 「日本の万国博覧会 1970–2025 ＋ 描かれた未来と夢」開催のご案内　より\n「日本の万国博覧会 1970–2025 ＋ 描かれた未来と夢」開催のご案内　より
URL:https://futureearth.jp/event/expo-1970-2025-exhibition-nama/
LOCATION:文化庁国立近現代建築資料館\, 東京都文京区湯島4-6-15
CATEGORIES:大阪・関西万博
ATTACH;FMTTYPE=image/webp:https://futureearth.jp/wp-content/uploads/2026/02/47048-1127-5fd3e9308d08fba822a96311b246dc76-3900x1402.png.webp
END:VEVENT
BEGIN:VEVENT
DTSTART;TZID=Asia/Tokyo:20260205T100000
DTEND;TZID=Asia/Tokyo:20260205T180000
DTSTAMP:20260423T064912
CREATED:20260129T085152Z
LAST-MODIFIED:20260204T235853Z
UID:6428-1770285600-1770314400@futureearth.jp
SUMMARY:神奈川宇宙サミット2026
DESCRIPTION:神奈川宇宙サミット\n宇宙県かながわに集え。共に創る、宇宙の「これから」\n神奈川県では、宇宙産業・宇宙ビジネスの最前線を発信する大型イベント「神奈川宇宙サミット」 を、令和8年2月5日（木）に開催します。 \n本サミットでは、野口聡一 氏をはじめ、宇宙開発・産業・研究・自治体・エンターテインメントなど、多様な分野の第一線で活躍する登壇者が集結。 \n既存技術の宇宙活用、サステナビリティ、宇宙医学、データ利活用、そして「宇宙県・神奈川」の未来像まで――“今すぐ使える宇宙”と“これからの宇宙”を同時に考える一日です。 \n開催概要\n\n\n\n\n\n項目\n内容\n\n\n\n\nイベント名\n神奈川宇宙サミット\n\n\n開催日\n令和8年2月5日（木）\n\n\n時間\n10:00～18:00（予定）\n※レセプション：18:00～20:00（予定）\n\n\n会場\nアニヴェルセル みなとみらい横浜（横浜市中区新港2-1-4）\n\n\n入場料\n無料（事前来場登録はこちら）\n\n\n主催\n神奈川宇宙サミット実行委員会\n\n\n\n\n\n  \n横浜園芸博のPRブースも！\n　会場１階には、神奈川県国際園芸博覧会推進室／ＧＲＥＥＮ×ＥＸＰＯ協会のブースも出展されます。 \n \n会場マップ \n神奈川宇宙サミット｜全プログラム一覧\n「プログラム等の詳細」（PDF：535KB） \nパンフレット（PDF）
URL:https://futureearth.jp/event/kanagawa-space-summit-2026/
LOCATION:アニヴェルセル みなとみらい横浜\, 横浜市中区新港2-1-4
CATEGORIES:シンポジウム
ATTACH;FMTTYPE=image/png:https://futureearth.jp/wp-content/uploads/2026/01/kanagawaspacesummit.png
END:VEVENT
END:VCALENDAR