BEGIN:VCALENDAR
VERSION:2.0
PRODID:-//Future Earth - ECPv6.15.20//NONSGML v1.0//EN
CALSCALE:GREGORIAN
METHOD:PUBLISH
X-WR-CALNAME:Future Earth
X-ORIGINAL-URL:https://futureearth.jp
X-WR-CALDESC:Future Earth のイベント
REFRESH-INTERVAL;VALUE=DURATION:PT1H
X-Robots-Tag:noindex
X-PUBLISHED-TTL:PT1H
BEGIN:VTIMEZONE
TZID:Asia/Tokyo
BEGIN:STANDARD
TZOFFSETFROM:+0900
TZOFFSETTO:+0900
TZNAME:JST
DTSTART:20250101T000000
END:STANDARD
END:VTIMEZONE
BEGIN:VEVENT
DTSTART;VALUE=DATE:20260122
DTEND;VALUE=DATE:20260629
DTSTAMP:20260420T114446
CREATED:20260125T233244Z
LAST-MODIFIED:20260318T120733Z
UID:6211-1769040000-1782691199@futureearth.jp
SUMMARY:グラン・パレ ムラージュ工房～心奪われる名彫刻達 Coup de foudre -ひと目惚れ-展
DESCRIPTION:ミャクミャク＆フランス館の名彫刻が横浜・山下ふ頭に集結｜THE MOVEUM「ひと目惚れ展」1/22開幕\n\n\n\nTOYOTA GROUPは、横浜・山下ふ頭のアート拠点「THE MOVEUM YOKOHAMA by TOYOTA GROUP」にて、企画展『グラン・パレ ムラージュ工房～心奪われる名彫刻達 Coup de foudre -ひと目惚れ-展』を2026年1月22日（木）〜6月28日（日）まで開催します（会期が延長されました）。 \n\n\n\nフランス館にて展示された彫刻が横浜に！\n\n\n\n本展は、フランスの文化遺産と職人技が生んだ名彫刻を紹介し、文化教育と芸術の継承に寄与することを目的とした展覧会です。今回横浜の地に来る作品は、2025年大阪・関西万博フランス館にて展示された大型複製彫刻4点に加えて、古代ギリシャから20世紀の近代に至るまでの代表作11点を加えた合計15点が展示されます。（会場では12点が展示され、会期中順次入れ替わり展示されます） \n\n\n\n\n「Coup de foudre = ひと目惚れ」展　屋外展示（2026.1.22撮影）\n\n\n\n\n\n大阪・関西万博　フランス館「プシュケを持ち上げるメルクリウス」　（2025.8.20筆者撮影）\n\n\n\n\n【レポート】室内にも展示があります\n\n\n\n室内入ったところにも展示があり、フランス館正面にあった「ブシュケを持ち上げるメルクリウス（ブシュケを誘拐するメルクリウス）」の複製彫刻もありました。 \n\n\n\n\n「Coup de foudre = ひと目惚れ」展　屋内展示（2026.1.22撮影）\n\n\n\n\n屋内展示の様子\n\n\n\n\n\n\n\n\n\n\n\n\n\n\n\n\n\n\n\n\n\n「Coup de foudre = ひと目惚れ」展とは\n\n\n\n「Coup de foudre = ひと目惚れ」展は、フランスの文化遺産と卓越した職人技を体現する15点の彫刻を通じて、その美と精神を紹介するものです。 本展に並ぶのは、フランスの GrandPalais Rmn（RMN-Grand Palais） ムラージュ工房が手がける複製彫刻の中から厳選されたコレクションです。普段はヨーロッパを代表する美術館に所蔵され、通常は館外に出ることのない名品の数々が、国家認定職人によって精緻に再現され、この度『THE MOVEUM YOKOHAMA』に展示されることになりました。 ムラージュ工房は1794年に始まるルーヴル美術館の技術的系譜を継承し、オリジナル作品の厳密な調査に基づいて、その造形と表面特性を高精度に再現する専門機関です。 今回展示する作品群は、伝統的な技法とデジタル技術などの革新的な技術を融合させた独自の制作工程によって、オリジナル作品の意匠を忠実に尊重し命を吹き込まれた複製彫刻です。 本展では、2025年大阪・関西万博フランス館で展示されていた大型複製彫刻4点に加え、古代ギリシャから20世紀の近代に至る代表的作品11点を合わせた計15点が、会期中に入れ替わり展示されます。 また、その匠の技に呼応する形で、トヨタの最新の廃材アップサイクル技術を活用して制作された大理石風の台座も一部の作品の展示に使用されています。 プシュケとアモルの神話、古代ギリシャ神像の気品、モディリアーニの洗練された造形──名品との出会いは、観る者の心に電撃のような感動を呼び覚ますことでしょう。 “ひと目惚れ”という言葉に象徴される、芸術との鮮烈な邂逅。その瞬間が、あなたを永遠の美の旅へと誘います。 \n\n\n\n\n「Coup de foudre = ひと目惚れ」展（2026.1.22撮影）\n\n\n\n\n初日にはミャクミャクもやってくる！【時間変更】\n\n\n\n初日1月22日（木）には、なんと大阪・関西万博公式キャラクター「ミャクミャク」が2回登場予定です！ \n\n\n\nミャクミャク登場予定日時【時間が変更になりました】\n\n\n\n①11:50〜12:10頃/②13:50〜14:10頃 ※個別撮影会なし ※予告なく変更の可能性あり \n\n\n\n\n【公式】THE MOVEUM YOKOHAMA by TOYOTA GROUP｜X より\n\n\n\n\n\n【公式】THE MOVEUM YOKOHAMA by TOYOTA GROUP｜X より\n\n\n\n\n横浜の港にミャクミャクが登場する、万博リレーの象徴的な瞬間となります。 \n\n\n\n【レポート】撮影会の様子\n\n\n\n\nhttps://youtu.be/BL2l8lmHqVQ\n\n\n\n\n開催概要\n\n\n\n\n\n\n\n項目\n内容\n\n\n\n\n企画展名\nグラン・パレ ムラージュ工房～心奪われる名彫刻達 Coup de foudre -ひと目惚れ-展\n\n\n会期\n2026年1月22日（木）〜2026年6月28日（日） 日曜日～木曜日・祝日 10:30～19:30 金曜日・土曜日・祝前日 10:30～20:30\n\n\n会場\nTHE MOVEUM YOKOHAMA by TOYOTA GROUP\n\n\n所在地\n神奈川県横浜市中区山下町279-9（山下ふ頭4号上屋）\n\n\n主催\nTOYOTA GROUP\n\n\n後援（企画展）\n在日フランス大使館、アンスティチュ・フランセ日本\n\n\n特別協力（企画展）\nアトリエ・エトワール\n\n\n施設後援\n横浜市にぎわいスポーツ文化局、横浜港ハーバーリゾート協会、横浜市観光協会、横浜市芸術文化振興財団、横浜商工会議所、朝日新聞社、神奈川新聞社、tvk、FMヨコハマ、J-WAVE\n\n\n施設協力\n文化庁、山下公園通り会、元町エスエス会、横浜中華街発展会協同組合、横浜港振興協会、横浜高速鉄道、Y Cruise、横浜マリンタワー、ホテルニューグランド、神奈川トヨタ自動車、ウエインズトヨタ神奈川\n\n\n休館日\n会期中無休（雨天催行、荒天時中止の可能性あり）\n\n\n備考\n中止等は公式サイトやSNSで告知・内容は予告なく変更の可能性あり\n\n\n公式サイト\nhttps://global.toyota/info/themoveum/\n\n\n\n\n\n\n\nアクセス\n\n\n\nモビリティ「e-palette」もしくはマイクロバス「COASTER」が頻繁に出ているので、少し並んでもスムーズに会場へと向かうことができました。モビリティは定員（10名程度）が少ないので、並びたくない方はマイクロバスがおすすめです。 \n\n\n\n\n\n\n\n\n\n\n\n\n\n\n\n\n\n【モビリティによる移動体験】山下ふ頭バス待合所 ⇔THE MOVEUM YOKOHAMA\n\n\n\n山下ふ頭バス待合所発、THE MOVEUM YOKOHAMA 発ともに、以下の時間帯で、おおよそ5～10分間隔で運行しています。 \n\n\n\n運行時間帯 : 10:25 ～ 19:40 (金曜日・土曜日・祝前日は20:40まで運行） \n\n\n\n\n所要時間は約5分です。\n\n\n\n無料で移動体験を利用可能です。\n\n\n\n乗車定員に限りがあるので、満席の際は乗車できない場合があります。\n\n\n\n予告なく運行の中止や時間変更を行う場合があります。\n\n\n\n\n関連リンク\n\n\n\n\nTHE MOVEUM YOKOHAMA\n\n\n\n「THE MOVEUM YOKOHAMA by TOYOTA GROUP」にて企画展『グラン・パレ ムラージュ工房～心奪われる名彫刻達 Coup de foudre -ひと目惚れ-展』2026年1月22日（木）より開催\n\n\n\n大阪・関西万博　フランス館
URL:https://futureearth.jp/event/coup-de-foudre-yokohama-2026/
LOCATION:THE MOVEUM YOKOHAMA by TOYOTA GROUP\, 神奈川県横浜市中区山下町279-9
CATEGORIES:大阪・関西万博
ATTACH;FMTTYPE=image/jpeg:https://futureearth.jp/wp-content/uploads/2026/01/IMG_7151.jpeg
END:VEVENT
END:VCALENDAR