BEGIN:VCALENDAR
VERSION:2.0
PRODID:-//Future Earth - ECPv6.15.20//NONSGML v1.0//EN
CALSCALE:GREGORIAN
METHOD:PUBLISH
X-WR-CALNAME:Future Earth
X-ORIGINAL-URL:https://futureearth.jp
X-WR-CALDESC:Future Earth のイベント
REFRESH-INTERVAL;VALUE=DURATION:PT1H
X-Robots-Tag:noindex
X-PUBLISHED-TTL:PT1H
BEGIN:VTIMEZONE
TZID:Asia/Tokyo
BEGIN:STANDARD
TZOFFSETFROM:+0900
TZOFFSETTO:+0900
TZNAME:JST
DTSTART:20250101T000000
END:STANDARD
END:VTIMEZONE
BEGIN:VEVENT
DTSTART;VALUE=DATE:20260125
DTEND;VALUE=DATE:20260126
DTSTAMP:20260420T165253
CREATED:20260126T104408Z
LAST-MODIFIED:20260126T104408Z
UID:6315-1769299200-1769385599@futureearth.jp
SUMMARY:クララとそうぞうのき ARアドベンチャー発売
DESCRIPTION:絵本の世界に没入できるARアプリ＆カード教材\n『クララとそうぞうのき ARアドベンチャー』発売 ― 万博レガシーから生まれた親子向けSTEAM教材 \n　株式会社steAm（代表：中島さち子）は、絵本『クララとそうぞうのき』の世界を拡張するAR（拡張現実）アプリ・カード教材 『クララとそうぞうのき　ARアドベンチャー』 を発売しました。　アプリは2026年1月21日（水）、ARカードは1月25日（日）に販売開始。家庭の読み聞かせ時間を“没入型アトラクション”へと変える、新しい親子体験教材として注目されています。 \n  \n \n  \n商品概要\nクララAR絵本アプリ\n\n価格：330円（税込）\n発売日：2026年1月21日（水）\n対象年齢：4歳以上\n入手：App Store\nURL：（https://apps.apple.com/jp/app/クララar絵本アプリ/id6756299386）\n\n※幼児は保護者と一緒に使用することが推奨される。 \nクララAR絵本カード\n\n価格：1\,870円（税込）\n発売日：2026年1月25日（日）\n発送開始予定：2026年2月2日（月）\n対象年齢：3歳以上\n購入：・steAm公式EC（https://steam21.official.ec/）・Amazon（予定）\n\n安全面にも配慮され、誤飲や口入れに関する注意書きが添付されている。
URL:https://futureearth.jp/event/clarasteam-ar/
CATEGORIES:グッズ,大阪・関西万博
END:VEVENT
BEGIN:VEVENT
DTSTART;TZID=Asia/Tokyo:20260129T110000
DTEND;TZID=Asia/Tokyo:20260131T210000
DTSTAMP:20260420T165253
CREATED:20260125T235549Z
LAST-MODIFIED:20260128T000358Z
UID:6235-1769684400-1769893200@futureearth.jp
SUMMARY:TOKYO PROTOTYPE｜大阪・関西万博で話題を呼んだ「ふしぎな石ころ“echorb”」が東京に
DESCRIPTION:大阪・関西万博で話題を呼んだ「ふしぎな石ころ“echorb”」が東京に\n\n\n\n大阪・関西万博シグネチャーパビリオン”Better Co-Being”で、多くの来場者を魅了した案内デバイス、ふしぎな石ころ「echorb（エコーブ）」。そのechorbを手がけた株式会社ミライセンスが、虎ノ門ヒルズを舞台とする都市型フェスTOKYO PROTOTYPEに出展します。 \n\n\n\n\n虎ノ門ヒルズを舞台にクリエイター・企業の実験的なプロダクトやアートが集う新たな祭典「TOKYO PROTOTYPE」出展者決定｜PRtimes　より\n\n\n\n\n今回の展示は、単なるテクノロジーの“再利用“ではなく、記憶と共鳴の継承、そして未来への飛躍です。万博が未来の都市を描いたなら、TOKYO PROTOTYPEでは“未来と文化が交差する場“として、響きによる人と人との共鳴の新しいカルチャーを定義します。 \n\n\n\n\n株式会社ミライセンス　虎ノ門ヒルズを舞台にクリエイター・企業の実験的なプロダクトやアートが集う新たな祭典「TOKYO PROTOTYPE」出展者決定｜PRtimes　より\n\n\n\n\n「TOKYO PROTOTYPE」開催概要\n\n\n\n\n\n\n\n項目\n内容\n\n\n\n\nイベント名\nTOKYO PROTOTYPE（トーキョー・プロトタイプ）\n\n\n趣旨\n虎ノ門ヒルズを都市の実験場として クリエイター・企業・研究機関による実験的プロダクト アートを公開する都市型クリエイティブフェス\n\n\n日時\n2026年1月29日（木）～1月31日（土）11:00～21:00\n\n\n会場\n虎ノ門ヒルズ街なか各所／TOKYO NODE B2F ステーションアトリウム・虎ノ門ヒルズカフェ 8F TOKYO NODE エントランス・TOKYO NODE LAB・TOKYO NODE CAFE 45F TOKYO NODE アライバルホール 46F TOKYO NODE HALL 49F TOKYO NODE SKY GARDEN & POOL\n\n\n出展数\n計26組（クリエイター、アーティスト、企業、研究機関）\n\n\n主催\n森ビル株式会社 TOKYO NODE LAB、日本テレビ放送網株式会社\n\n\n協力\n文化庁\n\n\n料金\n無料\n\n\n特徴\n万博・国際芸術祭等で注目された作品を含む「未完成＝プロトタイプ」の展示 出展者常駐による対話型体験\n\n\n関連展示\n同時期開催：「攻殻機動隊展 ～Ghost and the Shell～」 （TOKYO NODE GALLERY）\n\n\n公式サイト\nhttps://tokyoprototype.jp\n\n\n\n\n\n\n\nふしぎな石ころ「echorb」体験｜事前予約のご案内\n　大阪・関西万博で話題となった“ふしぎな石ころ”こと ユニバーサルハプティクスデバイス「echorb」 を体験できる展示が登場。「石が語りかけ、鼓動を響かせ、未来をともにひらく」──触覚から始まる新しい体験を楽しめます。 \n体験内容\n\n1グループ最大5名\n鼓動体験（約5分）\n協奏・共創体験（約5分）\n所要時間：約10分\n\n体験方法（事前予約制）\n混雑が予想されるため、オンライン事前予約制となります。 \n\n20分ごとに15名枠\n予約時間に来場された方から順次ご案内\n\n予約サイト\n\nふしぎな石ころ”echorb”体験予約 1/29(木)\nふしぎな石ころ”echorb”体験予約 1/30(金)\nふしぎな石ころ”echorb”体験予約 1/31(土)\n\nWhat’s「Better Co-Being」？\n\n\n\nechorbが生まれた体験の原点 \n\n\n\nechorbが活躍したのは、万博のシグネチャーパビリオンBetter Co-Being。 \n\n\n\n屋根も壁もない開かれた空間で、人と人、人と世界、人と未来の「共鳴」をアートを軸に体験するパビリオンです。来場者は、ふしぎな石ころechorbを手にすることで体験が始まります。 \n\n\n\nechorbは、共に興味を持ったアートを巡るにつれて色を変え、 まるで持ち主の意思を映すかのように、おすすめの作品へと導いていきます。 石ころに手を引かれ、空間を巡る―― その不思議な感覚こそが、Better Co-Beingの「共鳴体験の第一歩」でした。 \n\n\n\n\nhttps://www.youtube.com/watch?v=1RnxoRM_Sps\n\n\n\n\nふしぎな石ころ“echorb”を支える独自技術\n\n\n\nechorbには、村田製作所の先端技術が集約されています。 \n\n\n\n\n特殊な振動で「引っ張られる錯覚」を生む3Dハプティクス\n\n\n\n位置を検知するLFアンテナ\n\n\n\nアプリと連携するRFID\n\n\n\n鼓動を宿すバイタルセンサ\n\n\n\n保管庫に置くだけで充電できる空洞共振方式充電\n\n\n\n\nこれらにより、echorbは体験者の嗜好や状態に応じて、個別最適化された誘導を実現しました。単なるガジェットではなく、身体感覚そのものに働きかけるメディアである点が、世界的にも注目されています。 \n\n\n\n関連リンク\n\n\n\n\nTOKYO PROTOTYPE公式サイト\n\n\n\n虎ノ門ヒルズを舞台にクリエイター・企業の実験的なプロダクトやアートが集う新たな祭典「TOKYO PROTOTYPE」出展者決定｜PRtimes　2026年1月7日 11時00分\n\n\n\n大阪・関西万博 ～ふしぎな石ころ”echorb”～| 村田製作所
URL:https://futureearth.jp/event/tokyo-prototype2026/
LOCATION:虎ノ門ヒルズ\, 東京都 港区虎ノ門２丁目６−２ 虎ノ門ヒルズステーションタワー
CATEGORIES:大阪・関西万博
ATTACH;FMTTYPE=image/webp:https://futureearth.jp/wp-content/uploads/2026/01/48109-344-a206350bf2838ab84bef1569cbc38042-1280x720.jpg.webp
END:VEVENT
BEGIN:VEVENT
DTSTART;TZID=Asia/Tokyo:20260313T100000
DTEND;TZID=Asia/Tokyo:20260313T173000
DTSTAMP:20260420T165253
CREATED:20260302T234659Z
LAST-MODIFIED:20260302T234659Z
UID:7800-1773396000-1773423000@futureearth.jp
SUMMARY:【申込終了】null²公式長編記録映画「さようなら、ホモサピエンス」上映会
DESCRIPTION:【申込終了】null²公式長編記録映画「さようなら、ホモサピエンス」上映会\n\n\n\n2026年3月13日（金）、東京都現代美術館にて開催中の企画展「ミッション∞インフィニティ｜宇宙＋量子＋芸術」関連プログラムとして、null²公式長編記録映画『さようなら、ホモサピエンス』の特別上映会が実施されます。 \n\n\n\n本作は、2025年の2025年大阪・関西万博で大きな話題を呼んだシグネチャーパビリオン「null²」の全貌を追ったドキュメンタリー。 総合監修を務めたのはメディアアーティストの落合陽一。監督は森孝介、制作統括は大木彩子。多くの有識者へのインタビューを通して、null²とは何だったのか、その思想と構造を読み解きます。 \n\n\n\n上映日は、シグネチャーパビリオンnull²の“月命日”である13日。展示空間での体験と映像記録を往還しながら、万博の記憶と未来像を再考する特別な一日となります。なお、上映会の1回目と2回目には落合陽一氏も登壇します。 \n\n\n\n開催概要\n\n\n\n\n\n\n\n項目\n内容\n\n\n\n\nイベント名\nnull²公式長編記録映画「さようなら、ホモサピエンス」上映会\n\n\n日時\n2026年3月13日（金） ①10:30-12:00（開場10:00） ②13:30-15:00（開場13:00） ③16:00-17:30（開場15:30）\n\n\n登壇\n①上映後・②上映前に落合陽一氏登壇予定\n\n\n上映時間\n約90分（全回同内容）\n\n\n定員\n各回180名\n\n\n会場\n東京都現代美術館 B2F 講堂\n\n\n参加費\n当日有効の本展チケット（MOTパスポート含む）または身体障害者手帳等の提示\n\n\n申込\n事前申込制（先着順）※申込は締め切りました\n\n\n申込締切\n3月12日（木）18:00\n\n\n協賛\nブルームバーグL.P.\n\n\n協力\n一般社団法人計算機と自然\n\n\n\n\n\n\n\n\n\n\n\n\n\n 
URL:https://futureearth.jp/event/null2-sayonara-homosapiens-mot-20260313/
LOCATION:東京都現代美術館\, 東京都江東区三好4-1-1
CATEGORIES:アート・サイエンス,大阪・関西万博
ATTACH;FMTTYPE=image/jpeg:https://futureearth.jp/wp-content/uploads/2026/02/null2.jpeg
END:VEVENT
END:VCALENDAR