BEGIN:VCALENDAR
VERSION:2.0
PRODID:-//Future Earth - ECPv6.15.20//NONSGML v1.0//EN
CALSCALE:GREGORIAN
METHOD:PUBLISH
X-WR-CALNAME:Future Earth
X-ORIGINAL-URL:https://futureearth.jp
X-WR-CALDESC:Future Earth のイベント
REFRESH-INTERVAL;VALUE=DURATION:PT1H
X-Robots-Tag:noindex
X-PUBLISHED-TTL:PT1H
BEGIN:VTIMEZONE
TZID:Asia/Tokyo
BEGIN:STANDARD
TZOFFSETFROM:+0900
TZOFFSETTO:+0900
TZNAME:JST
DTSTART:20250101T000000
END:STANDARD
END:VTIMEZONE
BEGIN:VEVENT
DTSTART;TZID=Asia/Tokyo:20260302T173000
DTEND;TZID=Asia/Tokyo:20260302T200000
DTSTAMP:20260420T152505
CREATED:20260221T023128Z
LAST-MODIFIED:20260221T023128Z
UID:7408-1772472600-1772481600@futureearth.jp
SUMMARY:YOKOHAMA サーキュラーエコノミーplus セッション 2026 ～GREEN×EXPO 2027に向けて横浜瀬谷の地から「学・福・農・商」のつながりを創る～
DESCRIPTION:YOKOHAMA サーキュラーエコノミーplus セッション 2026 ～GREEN×EXPO 2027に向けて横浜瀬谷の地から「学・福・農・商」のつながりを創る～\n\n\n\n横浜市と一般社団法人セヤミツラボは、2026年3月2日（月）、瀬谷区民文化センター あじさいプラザにて「YOKOHAMA サーキュラーエコノミーplus セッション 2026」を開催します。 \n\n\n\n本セッションは、2027年開催のGREEN×EXPO 2027を見据え、農業・福祉・教育・商業など多分野の実践者が集い、地域循環型経済（サーキュラーエコノミーplus）の未来と“共創の仕組みづくり”を議論する場です。 \n\n\n\n開催概要\n\n\n\n\n\n\n\n項\n内容\n\n\n\n\nイベント名\nYOKOHAMA サーキュラーエコノミーplus セッション 2026\n\n\n副題\nGREEN×EXPO 2027に向けて横浜瀬谷の地から学・福・農・商のつながりを創る\n\n\n日時\n2026年3月2日（月）17:30～20:00\n\n\n会場\n瀬谷区民文化センター「あじさいプラザ」4F 音楽多目的室相鉄本線「瀬谷駅」南口直結 徒歩1分\n\n\n申込\nhttps://shinsei.city.yokohama.lg.jp/cu/141003/ea/residents/procedures/apply/6f3a69a6-9f31-422c-8b3d-57f975876549/start\n\n\n主催\n横浜市、一般社団法人セヤミツラボ\n\n\n対象\nローカルゼブラ企業、福祉事業者、教育関係者、市民団体、商店街関係者など\n\n\n\n\n\n\n\nプログラム（予定）\n\n\n\n\n趣旨説明（横浜市・セヤミツラボ）\n\n\n\n農業・福祉・教育・商業 各分野の取組ピッチ\n\n\n\nワークショップ 「GREEN×EXPO 2027に向けた“学福農商”体制づくり」\n\n\n\nまとめ\n\nチラシのダウンロード
URL:https://futureearth.jp/event/yokohama-circular-economy-plus-session-2026/
LOCATION:瀬谷区民文化センター「あじさいプラザ」\, 神奈川県横浜市瀬谷区瀬谷４丁目４−１０ ライブゲート瀬谷 3階・4階
CATEGORIES:企業・団体向けイベント,共創・連携,横浜イベント
ATTACH;FMTTYPE=image/png:https://futureearth.jp/wp-content/uploads/2026/02/a597d6_94033e2d6d9642baad5475a4638403a2mv2.png
END:VEVENT
BEGIN:VEVENT
DTSTART;TZID=Asia/Tokyo:20260224T190000
DTEND;TZID=Asia/Tokyo:20260224T213000
DTSTAMP:20260420T152505
CREATED:20260215T124637Z
LAST-MODIFIED:20260215T124655Z
UID:7198-1771959600-1771968600@futureearth.jp
SUMMARY:EXPO企画会議 vol.3 EXPOで「なにか」仕掛けたい学生×応援したい社会人
DESCRIPTION:EXPO企画会議 vol.3｜EXPOで『なにか』仕掛けたい学生 × 応援したい社会人\n\n\n\n2026年2月24日（火）、ヨコハマ未来創造会議 若者実行委員会（仮称）が主催する「EXPO企画会議 vol.3｜EXPOで『なにか』仕掛けたい学生 × 応援したい社会人」が開催されます。 地上42階からの絶景を望む開放的な空間で、GREEN×EXPO 2027に向けて行動したい学生と、それを支えたい社会人が出会い、未来への一歩を描く“作戦会議”が始まります。 \n\n\n\n\n\n開催概要\n\n\n\n\n\n\n\n項目\n内容\n\n\n\n\nイベント名\nEXPO企画会議 vol.3｜EXPOで「なにか」仕掛けたい学生 × 応援したい社会人\n\n\n日時\n2026年2月24日（火）19:00〜21:30\n\n\n場所\nVlag yokohama（フラグヨコハマ）\n\n\n参加費\n無料\n\n\n定員\n40名\n\n\n主催\nヨコハマ未来創造会議 若者実行委員会\n\n\n備考\n飲み物・ご飯の持ち込みOK\n\n\n申込サイト\nhttps://peatix.com/event/4868405
URL:https://futureearth.jp/event/expo-planning-meeting-vol3-greenexpo-yokohama/
LOCATION:Vlag yokohama（フラグヨコハマ）\, 横浜市神奈川区鶴屋町１丁目４１ THE YOKOHAMA FRONT 42階
CATEGORIES:共創・連携
ATTACH;FMTTYPE=image/jpeg:https://futureearth.jp/wp-content/uploads/2026/02/cover-M8V12LUgHkOxaDkNb7JktmZEEGn6lUqh.jpg
END:VEVENT
BEGIN:VEVENT
DTSTART;VALUE=DATE:20260213
DTEND;VALUE=DATE:20260215
DTSTAMP:20260420T152505
CREATED:20260125T233732Z
LAST-MODIFIED:20260211T033654Z
UID:6218-1770940800-1771113599@futureearth.jp
SUMMARY:グリーン共創EXPO2026
DESCRIPTION:グリーン共創EXPO2026開催　ミャクミャク来場＆プレゼント企画も｜京都KRPで2月13–14日\n\n\n\n環境問題の解決や持続可能な未来の構築に向けて、産学公民の多様なステークホルダーが集い、最新の事例共有・議論・体験を行う「グリーン共創EXPO2026」が2026年2月13日（金）・14日（土）に京都リサーチパーク（KRP）で開催されます（オンライン配信も一部あり）。 \n\n\n\n2月14日(土)には、なんと大阪・関西万博公式キャラクターのミャクミャクが来場！さらに、万博関係者からの寄贈品をゲットできるかも？（ごみゼロアプリを使って、来場までに５日以上の清掃活動） \n\n\n\n\nグリーン共創EXPO2026 ～共創を競争しよう！～ – SDGs KYOTO TIMES　より\n\n\n\n\n開催概要\n\n\n\n\n\n\n\n項目\n内容\n\n\n\n\n名称\nグリーン共創EXPO2026 ～共創を競争しよう！～\n\n\n開催日時\n2026年2月13日（金）・14日（土）\n\n\n会場\n京都リサーチパーク（KRP）1号館4F & GOCONC\n\n\n配信\n一部オンライン配信あり\n\n\n参加対象\n大学・学生・企業・自治体・NPO・一般　ほか\n\n\n主催\nRIHNグリーンナレッジセンター（RIHN-GKC）、大学等コアリション ほか\n\n\n共催\n京都超SDGsコンソーシアム、(一社)steAm BAND、NPO法人加音西京極作業所 ほか\n\n\n協力\n京都リサーチパーク（KRP）ほか\n\n\n参加申込\nhttps://forms.gle/i3o4wMmmet1sjCcT6\n\n\n出展募集\nパネル展示・アート作品等（締切：1月20日）\n\n\n\n\n\n\n\nプログラム\n \n\n\n\n\n\nグリーン共創EXPOとは？\n\n\n\n環境問題を克服し、持続可能な社会を構築するため、様々な技術・システムの開発・変革を加速することが求められています。同時に、私たちの暮らしや価値観の変革も不可欠です。 ですが、一人ひとりが何をすればよいのか、また何かをすれば解決できるのか、理解や対話、合意が難しいのも事実・・・ そこで、環境問題を解決し、持続可能な社会にするために、産学公民が協力しあったり、地域・組織間で連携したりするなどして、共創により、創造的なアプローチを行っている事例（英知）を集め、学びあう場を創出します。 出会い、互いに学びあうことで、共創の輪が広がること、新たな共創が生まれることを目指します。 「競争」が激化する現代社会ですが、人と自然環境の未来を担う本分野は、まずは「共創」により一定の基盤を築くフェーズにあると考えています。 \n\n\n\n注目セッション①『EXPO2025グリーン共創事例をレガシーに― 資源循環・行動変容の最前線』\n\n\n\n注目セッションの１つ目は、2月13日(金)10:00〜12:00に第２会場で実施される『EXPO2025グリーン共創事例をレガシーに― 資源循環・行動変容の最前線』です。 2025年大阪・関西万博では、「持続可能性」を中核に、資源循環や行動変容を社会実装する数々の取り組みが行われました。 万博における成果や課題を振り返りながら、産学公民が連携して取り組んだ“グリーン実装”を、いかにして次世代イベントや政策へ継承（レガシー化）するかを議論します。 特に、GREEN×EXPO 2027（2027年国際園芸博覧会）への接続や、花き業界の資源循環チャレンジなど、次の展開に焦点を当てた構成が特徴です。 \n\n\n\n＜第1部：EXPO2025のレビュー＞\n\n\n\n\n\n\n\n時間帯\n登壇者・所属\n\n\n\n\n1. 万博グリーンビジョンの成果と課題\n永見 靖 氏 （公益財団法人2025年日本国際博覧会協会 持続可能性局長）\n\n\n2. 万博会場3Rステーションに関する調査結果の報告\n北井 弘 氏 （ごみ減量ネットワーク 代表）\n\n\n3. 意見交換・質疑応答\n \n\n\n\n\n\n\n\n＜第2部：産業の実践例から GREEN EXPO 2027 等への展開を考える＞\n\n\n\n\n\n\n\n項目\n登壇者・所属\n\n\n\n\n1. 行動変容の主流化する試み\n調整中\n\n\n2. 花き業界の取り組み紹介 ～ 花き業界における課題と、横浜園芸博に向けた資源循環チャレンジ ～\n① well-blooming project・大阪府事業の概要 小川 典子 氏（フラワーシーン・プロデューサー／（一社）花の国日本協議会 プロモーション推進室長） ② 大阪府事業の取り組み速報（保水容器の資源循環） 関根 久仁子 氏　（花の国日本協議会／環境アドバイザー） ③ 「フローラルフォーム」の出口活用 等 宇山 浩 氏　（大阪大学大学院 教授）\n\n\n3. まとめ 意見交換・質疑応答／総括\n宇山 浩 氏（大阪大学大学院 教授）\n\n\n\n\n\n\n\n注目セッション②『給水がインフラになる日～ 万博、オフィス、大学、地域等における挑戦 ～』\n\n\n\n注目セッションの２つ目は、2月13日(金)13:00〜15:00に第２会場で実施される『給水がインフラになる日～ 万博、オフィス、大学、地域等における挑戦 ～』です。 マイボトル利用と給水スポットの整備は、プラスチック削減と行動変容を同時に実現できる施策として注目されています。大阪・関西万博での実装経験を契機に、大学・オフィス・行政・地域での取り組みが全国的に広がりつつあります。 本セッションでは、国・自治体・企業・大学・学生など、多様な担い手が事例を共有し、成功要因・課題・持続可能な運用モデルについて議論します。 \n\n\n\n\n\n\n\n項目\n登壇者・所属\n\n\n\n\n1. 国・自治体の取り組み\n・永見 靖 氏 （（公財）2025年日本国際博覧会協会 持続可能性局長） ― 万博給水の位置づけ、これまでの歴史と成功事例 ・古川 久美子 氏 （多摩市 環境部 資源循環推進課／4R推進担当 主査） ― 行政の後方支援 × 市民団体による地域実装モデル\n\n\n2. 企業・大学等の事例紹介\n・毛洲 雅博 氏 （（株）OSGコーポレーション 営業戦略室 室長） ―「命の給水」パビリオン実施報告、オフィス・スポーツ分野への展開 ・坂上 充敏 氏 （（株）サトー 国内営業本部 新市場戦略部 営業推進グループ エキスパート） × ・岩本 雄平 氏 （象印マホービン（株）生産開発本部 商品企画部 企画グループ長） ― オフィス展開・マイカップに関する事例 ・宇都宮 和磨 氏 （学校法人上智学院 ダイバーシティ・サステナビリティ推進室 室長補佐） ― 大学における学生主体・学内実装の可能性 ・安藤 優花 さん／川合 こころ さん （阪大マイボトル推進プロジェクト Carry My Bottle） ― 学生団体による取り組み\n\n\n3. 意見交換\n会場参加者からの質疑応答・コメント\n\n\n\n\n\n\n\n✧ 司会進行 関根 久仁子 氏（（株）これやこの／環境カウンセラー） ✧ ファシリテーター 花嶋 温子 氏 （大阪産業大学 建築・環境デザイン学部教授） ✧ 企画・運営 株式会社これやこの \n\n\n\nEXPO2025とのつながり & ミャクミャク登場\n\n\n\n\n2月13日（金） シンガーソングライター Yaeさん によるミニコンサートを開催。 気候変動や自然との共生をテーマに、音楽とトークで会場を盛り上げます。 \n\n2月14日（土） 大阪・関西万博公式キャラクター ミャクミャク がKRPに来場予定！ チラシにも「14日に行くよ！」と登場しており、子どもから大人まで楽しめるフォトタイムになりそうです。 \n\nアップサイクルファッションショーや、EXPO会場を彩った企画のスピンオフなど、 万博の現場から生まれた取り組みも紹介されます。 \n\n\n\n\n\n来場者へのスペシャルプレゼント\n\n\n\nグリーン共創EXPO2026では来場者向け特典も充実しています。 \n\n\n\n\n[1] バレンタインプレゼント 開催期間中はバレンタインデーにあわせ、参加者の中から各日先着で 福祉施設の美味しいお菓子（sweet heart project）をプレゼント。\n\n\n\n[2] 万博を毎日思い出せるプレゼント 万博関係者から提供された“思い出の品”など、万博にゆかりのあるプレゼントも登場予定。ごみゼロアプリを使用して、来場までに５日以上清掃活動をした方限定です。\n\n\n\n[3] 大好評「のみのいち」 レアものが並ぶ「ちきゅうん のみのいち」がKRPに出張。 世界の民族衣装や子ども服、専門書など、眠っていたお宝が新たな持ち主のもとへ旅立ちます。\n\n\n\n\n共創とサーキュラーデザインの考え方を、楽しく・お得に体験できる仕掛けになっています。 \n\n\n\n関連リンク\n\n\n\n\n【申し込み開始】グリーン共創EXPO2026 ～共創を競争しよう！～ – SDGs KYOTO TIMES
URL:https://futureearth.jp/event/green-co-creation-expo-2026/
LOCATION:京都リサーチパーク（KRP）1号館4F & GOCONC
CATEGORIES:シンポジウム,ミャクミャク,大阪・関西万博
ATTACH;FMTTYPE=image/jpeg:https://futureearth.jp/wp-content/uploads/2026/01/2b0f7a6c4810ca5cdfd4d603e5b23dea-1-e1769384245261.jpg
END:VEVENT
BEGIN:VEVENT
DTSTART;TZID=Asia/Tokyo:20260130T190000
DTEND;TZID=Asia/Tokyo:20260130T213000
DTSTAMP:20260420T152505
CREATED:20260125T230542Z
LAST-MODIFIED:20260125T230620Z
UID:6187-1769799600-1769808600@futureearth.jp
SUMMARY:EXPO酒場 関内店
DESCRIPTION:EXPO酒場、横浜・関内にオープン！GREEN×EXPOを前に「共創の入口」をつくる夜\n\n\n\n大阪・関西万博のレガシーは終わらない。 2027年に横浜で開催される GREEN×EXPO 2027 を前に、「関わりたいけど、何から始めればいいかわからない」という市民や企業の熱量を受け止める新しい“入口”が誕生します。 \n\n\n\nその名も 『EXPO酒場 関内店』。 共創プロジェクトを独自に仕掛けてきたクリエイター集団 demo!expo が主催し、横浜の中心地・関内で開催されます。 \n\n\n\n\n\n\n\n「園芸博は遠いイベントじゃない」参加のハードルを下げる場づくり\n\n\n\n大阪万博を契機に、まち単位で万博を楽しむ動き（まちごと万博）が全国に芽生えました。その思想を横浜に持ち込み、園芸博を「国家イベント」から “自分ごと化できるテーマ” へ変換するのが今回の狙いです。 \n\n\n\n\nEXPO酒場・まちごと万博とは\n\n\n\nGREEN×EXPO 2027をチャンスにする視点\n\n\n\n横浜版“共創の場”「ヨコハマ未来創造会議」の紹介\n\n\n\n参加者同士のアイデアブレスト／交流\n\n\n\n\n「集まり、語り、知る」 万博への関わり方を考える最初のステップを提供します。 \n\n\n\nイベント概要\n\n\n\n\n\n\n\n項目\n内容\n\n\n\n\n名称\nEXPO酒場 関内店\n\n\n日時\n2026年1月30日（金）19:00-21:30（開場18:30）\n\n\n場所\nリストリンクラウンジ（神奈川県横浜市中区尾上町4-47 リスト関内ビル1階） JR関内駅（北口）徒歩3分\n\n\n料金\nドリンク＋軽食付 3\,000円（税込・現地払い）\n\n\n特典\nG Innovation Hub YOKOHAMAを利用料500円で19時まで利用可（要チケット提示）\n\n\n定員\n40名（先着順）\n\n\n主催\n一般社団法人 demo!expo\n\n\n\n\n\n\n\nタイムテーブル\n\n\n\n\n18:30-19:00　受付\n\n\n\n19:00-19:10　挨拶・乾杯\n\n\n\n19:10-19:40　EXPO酒場／まちごと万博とは\n\n\n\n19:40-20:00　ヨコハマ未来創造会議とは\n\n\n\n20:00-20:20　トークセッション 「GREEN×EXPO 2027をチャンスに！」\n\n\n\n20:20-20:50　アイデアブレスト\n\n\n\n20:50-21:00　中締め・集合写真\n\n\n\n21:00-21:30　交流タイム\n\n\n\n21:30　終了\n\n\n\n\n店長：町山和生 氏（共創デザイナー／地域コーディネーター）\n\n\n\n広告・商品開発・公共空間プロジェクトなどの企画～実装を横断するクリエーター。 関内エリアでの音楽文化×公共空間×大学×行政連携など、地域資源を活かした共創の実装 を強みに持つ人物。 \n\n\n\n「共創を構想で終わらせない」 関係者調整→企画→現場実行まで一気通貫で走らせるプロジェクト力が特徴。 \n\n\n\nヨコハマ未来創造会議：次世代×横浜×園芸博のマイルストーン\n\n\n\nGREEN×EXPO 2027を世代交代の契機に 大学生や若手社会人が横浜の未来や環境共生社会について議論し、実際のアクションまでつなげる横浜市の共創スキーム。 \n\n\n\n→ https://next-gen.city.yokohama.lg.jp/ \n\n\n\nEXPO酒場はこの会議とも連携し、 「横浜がどう未来を創るか」を自分たちの言葉で考える入口 を作ります。 \n\n\n\ndemo!expo―万博を勝手に面白くする集団\n\n\n\n主催する demo!expo は万博公式組織ではなく、 企業の垣根を越えたプロデューサー／クリエーターの非公式集団。 \n\n\n\n掲げる原点はシンプル： \n\n\n\n「自分たちができることを勝手に考える」 \n\n\n\n大阪万博で来場者体験やまちのレガシー創出を数多く提案してきた実績があり、 今回の園芸博でも 「共創」をコアにした市民的ムーブメント を生み出そうとしているのが特徴です。 \n\n\n\n関連リンク\n\n\n\n\nEXPO酒場 横浜関内店
URL:https://futureearth.jp/event/expo-sakaba-kannai/
LOCATION:リストリンクラウンジ\, 神奈川県横浜市中区尾上町4-47 リスト関内ビル1階
CATEGORIES:GREEN×EXPO2027
ATTACH;FMTTYPE=image/jpeg:https://futureearth.jp/wp-content/uploads/2026/01/cover-k12GAqhsIXgnHJHnK4ipNGMyDq002wf1.jpeg
END:VEVENT
BEGIN:VEVENT
DTSTART;TZID=Asia/Tokyo:20260128T113000
DTEND;TZID=Asia/Tokyo:20260128T122000
DTSTAMP:20260420T152505
CREATED:20260125T011840Z
LAST-MODIFIED:20260125T230813Z
UID:6127-1769599800-1769602800@futureearth.jp
SUMMARY:GREEN×EXPO2027が目指す共創の風景
DESCRIPTION:2027年開催の国際園芸博覧会（GREEN×EXPO 2027）の意義や\n「グリーンインフラ」の可能性について、協会・民間企業の担当者が議論。\nカーボンニュートラルや生物多様性保全が\nビジネス・暮らしに与える影響を探るセッション。 \n  \n  \n \n  \nグリーンインフラ産業展2026\n\n\n\n\n\n項目\n内容\n\n\n\n\n名称\nグリーンインフラ産業展2026\n\n\n主催\n日刊工業新聞社\n\n\n共催\nグリーンインフラ官民連携プラットフォーム\n\n\n後援\n国土交通省、環境省、金融庁（申請予定先、順不同）\n\n\n協賛\n雨水貯留浸透技術協会、街路樹診断協会、経団連自然保護協議会、建設コンサルタンツ協会、公園財団、交通環境整備ネットワーク、全国銀行協会、都市再生機構、都市緑化機構、日本建設業連合会、日本下水道協会、日本公園緑地協会、日本造園建設業協会、日本緑化センター、不動産協会、ランドスケープコンサルタンツ協会（申請予定先、法人格略、50音順）\n\n\n同時開催\n防災産業展、国際宇宙産業展、G空間EXPO
URL:https://futureearth.jp/event/greenexpo2027-co-creation/
LOCATION:東京ビッグサイト 東7・8ホール\, 東京都江東区有明3-11-1
CATEGORIES:GREEN×EXPO2027,グリーンシティ,シンポジウム
ATTACH;FMTTYPE=image/jpeg:https://futureearth.jp/wp-content/uploads/2026/01/tmp_webinar_movie_3727771f42a97b5a0d8d52c6c0fff8a893756ce2272e251126163751.png.jpeg
END:VEVENT
BEGIN:VEVENT
DTSTART;TZID=Asia/Tokyo:20260126T190000
DTEND;TZID=Asia/Tokyo:20260126T213000
DTSTAMP:20260420T152505
CREATED:20260125T012838Z
LAST-MODIFIED:20260125T022819Z
UID:6136-1769454000-1769463000@futureearth.jp
SUMMARY:EXPOを「自分ごと」にする企画会議 #2
DESCRIPTION:横浜の若者が動き出す──GREEN×EXPO 2027へ向けた「未来作戦会議」開催へ\n2027年のGREEN×EXPOに向けて、横浜から新たな動きが始まります。 \n2026年1月26日（月）、横浜駅そばの「Vlag yokohama」にて、若者同士がアイデアを語り合うミートアップイベント『EXPOを「自分ごと」にする企画会議 #2』が開催されます。テーマは「GREEN×EXPOを自分たちの手で面白くすること」。ワールドカフェ形式の対話セッションと交流会を通じて、横浜の未来づくりに関心を持つ若者がつながり、アクションの種を育てる場となります。参加費は無料、飲食持ち込みOK。これからの横浜を一緒に考えたい方におすすめのイベントです。 \n \n  \n登壇者\n● 井出 さゆり（An-Nahal／コンサルタント）\n\nDE&I推進\n世界青年の船 日本代表（2022）\nキャリアコンサルタント\n\n● 南山 祐太朗（ヨコハマ未来創造会議 若者実行委員会）\n\n環境・都市領域を学ぶ現役大学生\n無印良品WS企画や関内まちづくりに参加\n森のオト学生ライター\n2025年度YNUアーバニストスクール最年少受講\n\n● 藤井 優花（ピープルポート株式会社）\n\n難民雇用創出の事業に携わる社会起業分野の実践者\nZERO PC事業統括経験\n難民包摂社会に向け企業・自治体等と協働推進\n\nヨコハマ未来創造会議 若者実行委員会\n今回のイベントを主催するヨコハマ未来創造会議 若者実行委員会は、GREEN×EXPO 2027開催を契機に、大学生・若手社会人が横浜の未来について語り合い、20年・30年先につながるアクションを生むための場として立ち上がりました。\nGREEN×EXPOをマイルストーンに、若者の感性とアイデアで“これからの横浜”を共に創ることを目指しています。 \n関連リンク\n\n01/26(月)夜 横浜駅直結！EXPOを「自分ごと」にする企画会議 #2｜Peatix\nヨコハマ未来創造会議
URL:https://futureearth.jp/event/meetup-greenexpo-2027-yokohama-20260126/
LOCATION:Vlag yokohama（フラグヨコハマ）\, 横浜市神奈川区鶴屋町１丁目４１ THE YOKOHAMA FRONT 42階
CATEGORIES:GREEN×EXPO2027,シンポジウム
ATTACH;FMTTYPE=image/jpeg:https://futureearth.jp/wp-content/uploads/2026/01/cover-SwrL0Ls1pLq1wRORT1L6qlKzX1uf6dWX-1.jpg
END:VEVENT
END:VCALENDAR