BEGIN:VCALENDAR
VERSION:2.0
PRODID:-//Future Earth - ECPv6.15.20//NONSGML v1.0//EN
CALSCALE:GREGORIAN
METHOD:PUBLISH
X-WR-CALNAME:Future Earth
X-ORIGINAL-URL:https://futureearth.jp
X-WR-CALDESC:Future Earth のイベント
REFRESH-INTERVAL;VALUE=DURATION:PT1H
X-Robots-Tag:noindex
X-PUBLISHED-TTL:PT1H
BEGIN:VTIMEZONE
TZID:Asia/Tokyo
BEGIN:STANDARD
TZOFFSETFROM:+0900
TZOFFSETTO:+0900
TZNAME:JST
DTSTART:20250101T000000
END:STANDARD
END:VTIMEZONE
BEGIN:VEVENT
DTSTART;TZID=Asia/Tokyo:20260329T140000
DTEND;TZID=Asia/Tokyo:20260329T163000
DTSTAMP:20260420T101342
CREATED:20260315T235721Z
LAST-MODIFIED:20260315T235742Z
UID:8438-1774792800-1774801800@futureearth.jp
SUMMARY:GREEN×EXPO TALK! - ときめき、ひらく- ｜引地耕太氏が登壇するトークイベント
DESCRIPTION:GREEN×EXPO TALK! – ときめき、ひらく- 開催　引地耕太氏が登壇するトークイベント（3/29）\n\n\n\n2027年3月19日に開幕する GREEN×EXPO 2027（2027年国際園芸博覧会） に向けたトークイベント「GREEN×EXPO TALK! – ときめき、ひらく-」 が、2026年3月29日（日）に横浜・BankPark YOKOHAMAで開催されます。 \n  \n\n\n\n\n\n\n\n  \n　本イベントは、EXPOへの期待や未来の横浜について語り合う「トーク＆ミートアップイベント」。大阪・関西万博のデザインシステム「こみゃく」を手がけたクリエイティブディレクター 引地耕太さん をゲストに迎え、EXPOから生まれるムーブメントや、誰もが参加できるEXPOの可能性について語ります。 \n\n\n\n　また、GREEN×EXPO 2027に出展予定の企業の若手メンバーも参加し、EXPOに向けた取り組みや構想を紹介。デザイン・建築・環境などの視点から、「誰もがトゥンク（ときめき）、楽しく参加できるEXPO」のあり方を考えます。 \n\n\n\n※記載の情報は2026年3月13日（金）時点の情報です。登壇者やプログラムは変更・追加される可能性があります。 \n\n\n\n開催概要\n\n\n\n\n\n\n\n項目\n内容\n\n\n\n\nイベント名\nGREEN×EXPO TALK! – ときめき、ひらく-\n\n\n日時\n2026年3月29日（日）14:00〜16:30（開場13:30）\n\n\n会場\nBankPark YOKOHAMA\n\n\n住所\n神奈川県横浜市中区本町6-50-1\n\n\nアクセス\n馬車道駅1b出口直結 / 桜木町駅 徒歩約5分\n\n\n定員\n80名 GREEN×EXPO 2027に興味のある10〜30代の方が対象\n\n\n参加費\n無料（要事前申込）\n\n\n申込締切\n2026年3月29日（日）10:00\n\n\n申込サイト\nhttps://greenexpo-talk-20260329.peatix.com\n\n\n主催\nヨコハマ未来創造会議\n\n\n\n\n\n\n\nタイムテーブル（予定）\n\n\n\n\n\n\n\n時間\n内容\n\n\n\n\n14:00\n開会・オープニング\n\n\n14:10\nGUEST TALK\n\n\n14:30\nPANEL TALK\n\n\n15:30\nCONTENTS\n\n\n15:45\nクロージング\n\n\n〜16:30\n自由交流\n\n\n\n\n\n\n\nGUEST TALK　大阪から横浜へ ― EXPOから生まれるムーブメントとは？\n\n\n\n大阪・関西万博で「こみゃく」として親しまれるデザインシステムを手がけた、クリエイティブディレクター 引地耕太さん が登壇。大阪・関西万博での経験をもとに、 誰もが楽しく参加できる“ひらかれたEXPO”をどう実現するかについて語ります。2026年には、万博とその先の未来を見据えた取り組みとして 一般社団法人COMMONs を設立しました。 \n\n\n\nTALK SESSION　誰もが楽しく参加できる仕掛けとは？\n\n\n\nGREEN×EXPO 2027に出展予定の企業の若手メンバーが参加し、各社の取り組みを紹介します。また、 \n\n\n\n\nEXPOをより多くの人が楽しめる場にするためのアイデア\n\n\n\nデザイン・建築・環境の視点からのEXPOの可能性\n\n\n\n1年後の開催に向けた構想\n\n\n\n\nなどについて議論が行われます。 ※登壇者は後日発表予定 \n\n\n\nスペシャル展示「地球人として、トゥンクする。」\n\n\n\n会場では、地球環境への想いをテーマにした特別展示も実施されます。 \n\n\n\n環境への思いを 少女漫画風の“ときめくシーン” として表現し、「環境」というテーマを身近に感じられる展示となっています。
URL:https://futureearth.jp/event/greenexpo-talk-20260329/
LOCATION:BankPark YOKOHAMA\, 神奈川県横浜市中区本町6-50-1
CATEGORIES:共創・連携
ATTACH;FMTTYPE=image/jpeg:https://futureearth.jp/wp-content/uploads/2026/03/cover-EbFwAADj7FBoPfGbhjdlIqQ6tjvMYnCn.jpeg
END:VEVENT
BEGIN:VEVENT
DTSTART;VALUE=DATE:20260318
DTEND;VALUE=DATE:20260330
DTSTAMP:20260420T101342
CREATED:20260310T073658Z
LAST-MODIFIED:20260311T012609Z
UID:8117-1773792000-1774828799@futureearth.jp
SUMMARY:ミャクミャクが横浜みなとみらいに登場！ヤマハでストリートピアノ＆撮影イベント開催
DESCRIPTION:ミャクミャクが横浜に登場！ストリートピアノ＆撮影イベント開催\n\n\n\n大阪・関西万博の公式キャラクター ミャクミャク が、横浜みなとみらいに登場します。2026年3月18日（水）〜29日（日）、ヤマハミュージック 横浜みなとみらい に、ミャクミャクなどをデザインしたストリートピアノが設置されます。 \n\n\n\nさらに 3月21日（土）にはミャクミャクが会場に登場！写真・動画撮影を楽しめるイベント「ヤマハミュージック 横浜みなとみらいにミャクミャクがやってくる！」が開催されます。 \n\n\n\n\nミャクミャクがストリートピアノ会場に登場　「ヤマハミュージック 横浜みなとみらいにミャクミャクがやってくる！」開催　より\n\n\n\n\nミャクミャク登場イベント 開催概要\n\n\n\n\n\n\n\n項目\n内容\n\n\n\n\nイベント名\nヤマハミュージック 横浜みなとみらいにミャクミャクがやってくる！\n\n\n開催日\n2026年3月21日（土） ①12:30～13:00 / ②14:30～15:00 / ③16:30～17:00\n\n\n会場\nヤマハミュージック 横浜みなとみらい 2F 店舗入口横（グランモールプラザ）\n\n\n定員\n②③ 各回20組（1組5名まで） ①は主催イベントのため抽選対象外／抽選なしでも見学可能\n\n\n参加方法\n予約制（抽選） ＜申込フォーム＞ https://member.jp.yamaha.com/event/6462\n\n\n申込期間\n2026年3月10日（火）11:00 ～ 3月15日（日）23:59\n\n\n当選発表\n2026年3月17日（予定）\n\n\n\n\n\n\n\n※雨天または当日の状況により内容が変更・中止となる場合があります。 \n\n\n\nミャクミャクデザインのストリートピアノ\n\n\n\n大阪・関西万博の会場で話題となった ミャクミャクデザインのストリートピアノ を設置。期間中は 誰でも自由に演奏することができます。 \n\n\n\nストリートピアノ設置概要\n\n\n\n\n\n\n\n項目\n内容\n\n\n\n\n設置期間\n2026年3月18日（水）～3月29日（日）\n\n\n時間\n11:00～18:00\n\n\n会場\nヤマハミュージック 横浜みなとみらい 2F 店舗入口横（グランモールプラザ）\n\n\n所在地\n神奈川県横浜市西区みなとみらい5-1-2 横浜シンフォステージ ウエストタワー\n\n\n参加\n誰でも演奏可能\n\n\n演奏不可時間\n3月21日（土）11:00～13:00 / 14:15～15:15 / 16:15～17:15\n\n\n休止日\n3月24日（火）定休日\n\n\n\n\n\n\n\n※演奏の際は現地掲示のルールを確認 ※状況により設置が中止となる場合があります \n\n\n\n万博から全国へ広がる“音楽でつながる”企画\n\n\n\nこのストリートピアノは、「国や世代を超えて人々が音楽でつながる場をつくる」という構想のもと、日本国際博覧会協会 と ヤマハ が協働して実施した取り組みです。 \n\n\n\n大阪・関西万博会場で多くの来場者に親しまれた後、2025年11月からヤマハ楽器店で巡回展示が行われてきました。横浜みなとみらいが 全国巡回のラスト会場 となります。 \n\n\n\n関連リンク\n\n\n\n\nミャクミャクがストリートピアノ会場に登場　「ヤマハミュージック 横浜みなとみらいにミャクミャクがやってくる！」開催\n\n\n\n大阪・関西万博の人気キャラクター「ミャクミャク」などをデザインしたストリートピアノがヤマハの各店に登場！
URL:https://futureearth.jp/event/myakumyaku-street-piano-yamaha-yokohama/
LOCATION:ヤマハミュージック 横浜みなとみらい\, 神奈川県横浜市西区みなとみらい5-1-2 横浜シンフォステージ ウエストタワー
CATEGORIES:ミャクミャク
ATTACH;FMTTYPE=image/webp:https://futureearth.jp/wp-content/uploads/2026/03/10414-427-a7ca4209e779b1714a0f003f6995a72a-1200x694.jpg.webp
END:VEVENT
BEGIN:VEVENT
DTSTART;TZID=Asia/Tokyo:20260314T110000
DTEND;TZID=Asia/Tokyo:20260314T170000
DTSTAMP:20260420T101342
CREATED:20260312T023356Z
LAST-MODIFIED:20260312T023623Z
UID:8205-1773486000-1773507600@futureearth.jp
SUMMARY:アフター万博イベント「またね。万博」
DESCRIPTION:ミャクミャク＆トゥンクトゥンクが京都駅に登場！万博スタンプ14種も押せるアフター万博イベント「またね。万博」開催（3/14）\n\n\n\nミャクミャク、トゥンクトゥンクが京都駅前広場に登場します。2026年3月14日（土）、京都駅前広場で開催される「またね。万博」では、万博を振り返る展示やスタンプ企画、キャラクターグリーティングを実施。 \n\n\n\nさらに、万博の次に関西で開催される大型イベント \n\n\n\n\nGREEN×EXPO 2027（2027年国際園芸博覧会）\n\n\n\n第43回全国都市緑化フェア in 京都丹波\n\n\n\nワールドマスターズゲームズ2027関西\n\n\n\n\nなどのPRも行われます。万博ファンにとっては、万博の思い出を振り返りながら、次のイベントにつながる特別な1日になりそうです。 \n\n\n\nミャクミャク＆トゥンクトゥンクなどキャラクター集合\n\n\n\n会場ではキャラクターグリーティングも開催！ \n\n\n\n\nミャクミャク（大阪・関西万博公式キャラクター）\n\n\n\nトゥンクトゥンク（GREEN×EXPO 2027公式マスコット）\n\n\n\n明智かめまる\n\n\n\nさくらちゃん\n\n\n\n京丹波味夢くん\n\n\n\nまゆまろ（京都府広報監）\n\n\n\nスフラ（ワールドマスターズゲームズ2027関西マスコット）\n\n\n\n\n万博から次の国際イベントへとつながる、豪華キャラクター共演です。 \n\n\n\n\nミャクミャク　トゥンクトゥンク（未来につなぐ万博展より 2026.2.19撮影）\n\n\n\n\n開催概要\n\n\n\n\n\n\n\n項目\n内容\n\n\n\n\nイベント名\nアフター万博イベント「またね。万博」\n\n\n日時\n2026年3月14日（土）11:00～17:00\n\n\n会場\n京都駅前広場\n\n\n所在地\n京都府京都市下京区東塩小路町 京都駅ビル（JR京都駅中央口すぐ）\n\n\n主催\n大阪・関西万博きょうと推進委員会\n\n\n共催\n京都駅周辺エリアまるごとゲートウェイ事業実行委員会\n\n\n後援\n（公社）2025年日本国際博覧会協会、（公社）2027年国際園芸博覧会協会、第43回全国都市緑化フェアin京都丹波実行委員会、（公財）ワールドマスターズゲームズ2021関西組織委員会\n\n\n\n\n\n\n\n万博スタンプ14種類が登場（12:00〜17:00）\n\n\n\n会場では、万博関連のスタンプを集めることができます。トゥンクトゥンクのスタンプも登場！ \n\n\n\n\n\n\n\n1\n大阪・関西万博公式スタンプラリー「関西パビリオン京都府ver.」\n\n\n2\n大阪・関西万博公式スタンプラリー「JR京都駅ver.」\n\n\n3\n関西パビリオン京都ゾーンオリジナルスタンプ\n\n\n4\nEKIspotKYOTOオリジナルスタンプ\n\n\n5\n大阪・関西万博公式スタンプラリー「シグネチャーパビリオンいのちの未来」\n\n\n6\n大阪・関西万博公式スタンプラリー「RITE未来の森」\n\n\n7\n大阪・関西万博公式スタンプ「来場者数1\,000万人達成記念スタンプ」\n\n\n8\n大阪・関西万博公式スタンプ「4月・5月限定来場記念スタンプ（4月限定・桜）」\n\n\n9\n大阪・関西万博公式スタンプ「4月・5月限定来場記念スタンプ（4月限定・たこ焼き）」\n\n\n10\n大阪・関西万博公式スタンプ「4月・5月限定来場記念スタンプ（5月前半限定・鯉のぼり）」\n\n\n11\n大阪・関西万博公式スタンプ「4月・5月限定来場記念スタンプ（5月前半限定・かぶと）」\n\n\n12\n大阪・関西万博公式スタンプ「4月・5月限定来場記念スタンプ（5月後半限定・紫陽花）」\n\n\n13\n大阪・関西万博公式スタンプ「4月・5月限定来場記念スタンプ（5月後半限定・ツバメ）」\n\n\n14\nGREEN×EXPO2027公式マスコットキャラクター トゥンクトゥンク スタンプ\n\n\n\n\n\n\n\n合計 14種類 のスタンプが設置されます。 \n\n\n\n※スタンプコーナーは11:00から開始 ※列への並びは16:30まで \n\n\n\n\nトゥンクトゥンクスタンプ（2025.9.23撮影）\n\n\n\n\nステージイベント（13:00/15:50）\n\n\n\nステージイベント1及びステージイベント2を観覧エリアにてご覧いただくには、スタンプコーナー横に設置予定の待機列にお並びいただく必要があります。（各回先着100名） 待機列にはそれぞれ以下の時間からお並びいただけます。 多くの方にご参加いただけるよう、待機列に並ぶのは下記のうちいずれか1回にしてください。 \n\n\n\n\nステージイベント1：12時30分\n\n\n\nステージイベント2：15時20分\n\n\n\n\n※スタッフの指示に従ってお並びください。 \n\n\n\n\n\n\n\nイベント\n内容\n\n\n\n\nステージイベント1 13:00～14:00\n①京都の万博レガシー継承・活用の取組を発表 ・「きょうと応援SNS（仮称）」創設 ・JR京都駅構内に「第43回全国都市緑化フェアin京都丹波」情報発信コーナー設置 ②今後開催される大型イベントのPR ・都市緑化フェア ・ワールドマスターズゲームズ ・GREEN×EXPO2027 ③キャラクターグリーティング ・大阪・関西万博公式キャラクター「ミャクミャク」 ・GREEN×EXPO2027公式マスコットキャラクター「トゥンクトゥンク」 ・第43回全国都市緑化フェアin京都丹波イメージキャラクター「明智かめまる」、「さくらちゃん」、「京丹波味夢くん」 ・京都府広報監まゆまろ ・ワールドマスターズゲームズ2027関西大会マスコット「スフラ」\n\n\nステージイベント2 15:50～16:30\n①「第43回全国都市緑化フェア in 京都丹波」のPR ②キャラクターグリーティング ・大阪・関西万博公式キャラクター「ミャクミャク」 ・GREEN×EXPO2027公式マスコットキャラクター「トゥンクトゥンク」 ・第43回全国都市緑化フェアin京都丹波イメージキャラクター「明智かめまる」、「さくらちゃん」、「京丹波味夢くん」 ・京都府広報監まゆまろ ・ワールドマスターズゲームズ2027関西大会マスコット「スフラ」\n\n\n\n\n\n\n\n\nBlooming Ring配布も！\n\n\n\n　ステージイベント1終了後の14：15～「Blooming Ring」の配布を予定しています（予定個数配布次第終了）。 \n\n\n\n\nBloomingRingAction\n\n\n関西パビリオン京都ゾーン振り返り展示（12:00～17:00)\n\n\n\n\n関西パビリオン京都ゾーンの入り口を模したフォトスポットでの記念撮影\n\n\n\nアテンダントユニフォーム試着体験\n\n\n\n京都ゾーンの展示を振り返るダイジェスト映像放映\n\n\n\n\n万博ロスの人は京都へ\n\n\n\n大阪・関西万博の後も、関西では多くの国際イベントが続きます。 \n\n\n\n\n都市緑化フェア\n\n\n\nワールドマスターズゲームズ\n\n\n\nGREEN×EXPO 2027\n\n\n\n\nこのイベントでは、万博のレガシーと次のイベントをつなぐ取り組みが紹介されます万博ロスのみなさんは、ぜひ京都駅前広場へ。 \n\n\n\n関連リンク\n\n\n\n\nミャクミャクが京都に！アフター万博イベント「またね。万博」を3月14日に開催！｜京都府\n\n\n\n公益社団法人2027年国際園芸博覧会協会\n\n\n\n第43回全国都市緑化フェアin京都丹波\n\n\n\nワールドマスターズゲームズ2027関西
URL:https://futureearth.jp/event/after-expo-caravan-kyoto-20260314/
LOCATION:京都駅前広場\, 京都府京都市下京区東塩小路町 京都駅ビル
ATTACH;FMTTYPE=image/jpeg:https://futureearth.jp/wp-content/uploads/2026/02/未来につなぐ万博展10.jpg
END:VEVENT
BEGIN:VEVENT
DTSTART;TZID=Asia/Tokyo:20260313T100000
DTEND;TZID=Asia/Tokyo:20260313T173000
DTSTAMP:20260420T101342
CREATED:20260302T234659Z
LAST-MODIFIED:20260302T234659Z
UID:7800-1773396000-1773423000@futureearth.jp
SUMMARY:【申込終了】null²公式長編記録映画「さようなら、ホモサピエンス」上映会
DESCRIPTION:【申込終了】null²公式長編記録映画「さようなら、ホモサピエンス」上映会\n\n\n\n2026年3月13日（金）、東京都現代美術館にて開催中の企画展「ミッション∞インフィニティ｜宇宙＋量子＋芸術」関連プログラムとして、null²公式長編記録映画『さようなら、ホモサピエンス』の特別上映会が実施されます。 \n\n\n\n本作は、2025年の2025年大阪・関西万博で大きな話題を呼んだシグネチャーパビリオン「null²」の全貌を追ったドキュメンタリー。 総合監修を務めたのはメディアアーティストの落合陽一。監督は森孝介、制作統括は大木彩子。多くの有識者へのインタビューを通して、null²とは何だったのか、その思想と構造を読み解きます。 \n\n\n\n上映日は、シグネチャーパビリオンnull²の“月命日”である13日。展示空間での体験と映像記録を往還しながら、万博の記憶と未来像を再考する特別な一日となります。なお、上映会の1回目と2回目には落合陽一氏も登壇します。 \n\n\n\n開催概要\n\n\n\n\n\n\n\n項目\n内容\n\n\n\n\nイベント名\nnull²公式長編記録映画「さようなら、ホモサピエンス」上映会\n\n\n日時\n2026年3月13日（金） ①10:30-12:00（開場10:00） ②13:30-15:00（開場13:00） ③16:00-17:30（開場15:30）\n\n\n登壇\n①上映後・②上映前に落合陽一氏登壇予定\n\n\n上映時間\n約90分（全回同内容）\n\n\n定員\n各回180名\n\n\n会場\n東京都現代美術館 B2F 講堂\n\n\n参加費\n当日有効の本展チケット（MOTパスポート含む）または身体障害者手帳等の提示\n\n\n申込\n事前申込制（先着順）※申込は締め切りました\n\n\n申込締切\n3月12日（木）18:00\n\n\n協賛\nブルームバーグL.P.\n\n\n協力\n一般社団法人計算機と自然\n\n\n\n\n\n\n\n\n\n\n\n\n\n 
URL:https://futureearth.jp/event/null2-sayonara-homosapiens-mot-20260313/
LOCATION:東京都現代美術館\, 東京都江東区三好4-1-1
CATEGORIES:アート・サイエンス,大阪・関西万博
ATTACH;FMTTYPE=image/jpeg:https://futureearth.jp/wp-content/uploads/2026/02/null2.jpeg
END:VEVENT
BEGIN:VEVENT
DTSTART;TZID=Asia/Tokyo:20260304T050000
DTEND;TZID=Asia/Tokyo:20260304T193000
DTSTAMP:20260420T101342
CREATED:20260302T000408Z
LAST-MODIFIED:20260302T000408Z
UID:7753-1772600400-1772652600@futureearth.jp
SUMMARY:つながる、その先へ　～大阪・関西万博２０２５のレガシーをGREEN×EXPO 2027、そしてポスト２０３０へ～
DESCRIPTION:つながる、その先へ　～大阪・関西万博２０２５のレガシーをGREEN×EXPO 2027、そしてポスト２０３０へ～\n\n\n\n公益社団法人２０２７年国際園芸博覧会協会は、2026年3月4日（水）、国際女性デーにあわせて特別イベント「つながる、その先へ ～大阪・関西万博２０２５のレガシーをGREEN×EXPO 2027、そしてポスト2030へ～」 を開催します。 本イベントは、2025年の大阪・関西万博で高まったジェンダー平等・女性活躍への関心を、次なる国際博覧会へとつなぎ、持続可能な社会の実現を目指すものです。 \n\n\n\n万博レガシーを未来へ\n\n\n\n2025年の 大阪・関西万博 では、女性のエンパワーメントを発信する「ウーマンズパビリオン」が大きな注目を集めました。その理念を受け継ぐのが、2027年に横浜で開催される GREEN×EXPO 2027 です。 同博覧会では「幸せを創る明日の風景」をテーマに掲げ、“Inclusion（包摂）”を一人ひとりの「I（私）」として行動へつなげる「ダブル・アイ・プロジェクト」 を展開。ジェンダー平等を単なる理念ではなく、未来社会の実装へと結びつける取り組みを進めます。 \n\n\n\n開催概要\n\n\n\n\n\n\n\n項目\n内容\n\n\n\n\nイベント名\n国際女性デー「GREEN×EXPO 2027」×「AtoW」連携イベント 「つながる、その先へ ～大阪・関西万博２０２５のレガシーをGREEN×EXPO 2027、そしてポスト2030へ～」\n\n\n日時\n2026年3月4日（水） 【第1部】17:00～18:30（受付16:30～） 【第2部】18:30～19:30\n\n\n会場\n横浜市役所1階 アトリウム（横浜市中区本町6-50-10）\n\n\n参加費\n無料（事前申込制）\n\n\n定員\n先着順（定員に達し次第終了）\n\n\n主催\nGREEN×EXPO協会、AtoW、農林水産省、国土交通省\n\n\n後援\n横浜市、横浜商工会議所、経団連、経済同友会ほか\n\n\n\n\n\n\n\nプログラム\n\n\n\n■ 特別講演\n\n\n\n「ジェンダー平等・女性活躍を取り巻く現状と今後の展望」 登壇：大崎麻子 氏 （第70回国連女性の地位委員会 日本代表） \n\n\n\n■ パネルディスカッション\n\n\n\n「ポスト2030の世界にむけたアクション ～GREEN×EXPO 2027を機に～」 \n\n\n\nモデレーター 西経子 氏（農林水産省） \n\n\n\nパネリスト \n\n\n\n\n国連責任投資原則 理事／日本生命執行役員　木村武氏\n\n\n\n大林組 理事　赤松真弥氏\n\n\n\nGREEN×EXPO協会理事　吉高まり氏\n\n\n\n国土交通省都市局デジタル政策課長　川合紀子氏
URL:https://futureearth.jp/event/greenexpo2027-international-womens-day-20260304/
LOCATION:横浜市役所1階 アトリウム\, 神奈川県横浜市中区本町６丁目５０−１０
CATEGORIES:GREEN×EXPO2027,企業・団体向けイベント,公式イベント
ATTACH;FMTTYPE=image/jpeg:https://futureearth.jp/wp-content/uploads/2026/02/名称未設定のデザイン-2.jpg
END:VEVENT
BEGIN:VEVENT
DTSTART;VALUE=DATE:20260218
DTEND;VALUE=DATE:20260414
DTSTAMP:20260420T101342
CREATED:20260203T065918Z
LAST-MODIFIED:20260308T143545Z
UID:6695-1771372800-1776124799@futureearth.jp
SUMMARY:「みゃくみゃくとつなぐ展 ～万博とひらく未来～」｜日本科学未来館
DESCRIPTION:「みゃくみゃくとつなぐ展 ～万博とひらく未来～」日本科学未来館で開催\n\n\n\n2025年の大阪・関西万博で生まれた技術・デザイン・建築の挑戦を、次の時代へと“脈々（みゃくみゃく）”とつないでいく――。 東京・お台場の日本科学未来館では、アフター万博企画の第一弾として 「みゃくみゃくとつなぐ展 ～万博とひらく未来～」 を2026年2月18日（水）から開催します。 \n\n\n\n本展は、大阪・関西万博のテーマであった「未来社会の実験場」を振り返り、その成果を“展示”として再編集する試みです。未来の食、医療、ロボット技術、そしてデザインシステムや建築思想まで、万博が生み出した多面的な価値を体験できます。 \n\n\n\n開催概要\n\n\n\n\n\n\n\n項目\n内容\n\n\n\n\nタイトル\nみゃくみゃくとつなぐ展 ～万博とひらく未来～\n\n\n会期\n2026年2月18日（水）～4月13日（月）\n\n\n会場\n日本科学未来館 1階 シンボルゾーン\n\n\n開館時間\n10:00～17:00 ※初日2/18のみ13:00開始\n\n\n入館料\n無料（常設展・ドームシアターは別料金）\n\n\n主催\n日本科学未来館\n\n\n後援\n公益社団法人2025年日本国際博覧会協会\n\n\nクリエイティブ／アートディレクション\n引地耕太（VISIONs）\n\n\n協力\n株式会社ワントゥーテン、一般社団法人COMMONs\n\n\n\n\n\n\n\n見どころ①未来の食・ヘルスケア・ロボット ― 万博の実物展示が東京初公開\n\n\n\n大阪・関西万博で大きな話題となった先端科学技術の「実物」が、東京で初めてまとまって公開されます。 \n\n\n\n主な展示内容\n\n\n\n\n家庭で作る霜降り肉（東京初公開） 和牛細胞を培養し、3Dバイオプリントで作製された培養肉。食料問題や持続可能な食文化を問いかけます。\n\n\n\niPS細胞による心筋シート 心臓病治療の最前線。拍動する細胞のつながりから、生命のダイナミズムを体感できます。\n\n\n\nミライ人間洗濯機 1970年大阪万博の「人間洗濯機」を現代技術で再解釈。※入浴体験はなし。\n\n\n\n自律型ナビゲーションロボット「AIスーツケース」 視覚障害者の移動支援を目指すロボット。万博での実証実験の成果を引き継ぎ、社会実装へ向けた開発が続いています。\n\n\n\n\n“未来はもう始まっている”ことを、実物の質量と存在感で感じられるセクションです \n\n\n\n\n\n\n\n\n\n\n\n\n\n\n\n\n\n\n\n\n\n見どころ②みんなが関わりたくなるデザイン ― “こみゃく”と共創の力\n\n\n\n大阪・関西万博を象徴する現象のひとつが、市民による二次創作「こみゃく」の爆発的な広がりでした。 その背景にあったのが、「開かれたデザイン」を掲げた万博のデザインシステムです。 \n\n\n\n本展では、 \n\n\n\n\n万博デザインシステムのプロポーザル資料\n\n\n\n年表で振り返る制作プロセス\n\n\n\n市民が生み出した“こみゃく”展示\n\n\n\n会場を包んだサウンドスケープの再現\n\n\n\n\nなどを通して、「参加と共創をうながすデザイン」の仕組みを解き明かします。 トップダウンではなく、ボトムアップで社会を動かすデザインの可能性を体感できる貴重な機会です。 \n\n\n\n\n大阪・関西万博の成果を未来へ「みゃくみゃくとつなぐ展」を開催｜PRtimesより\n\n\n\n\n見どころ③建築の挑戦 ― 大屋根リングと若手建築家たち\n\n\n\n万博の象徴建築「大屋根リング」の設計思想を映像で紹介するとともに、若手建築家による実験的な施設建築にも光を当てます。 \n\n\n\n紹介予定の建築作品\n\n\n\n\n休憩所2「Time-scape Pavilion」（工藤浩平）\n\n\n\nトイレ3「レスポンシブ・ストラクチャー」（小俣裕亮）\n\n\n\nトイレ5「積み木のような建築」（米澤隆）\n\n\n\n\n石材によるコスト再考、空気膜構造の再解釈、会期後活用を見据えた設計思想など、万博が“建築の実験場”でもあったことが浮かび上がります。 \n\n\n\n\n大阪・関西万博の成果を未来へ「みゃくみゃくとつなぐ展」を開催｜PRtimesより\n\n\n\n\n \n未来館のミュージアムショップに2025大阪・関西万博公式ライセンス商品が登場！\n \n\n\n\n\nラインナップ\nプリントクッキー、バルーン、クリアファイル・付箋等文具、御守り、巾着など※商品によっては品切れとなる場合がございます。あらかじめご了承ください。\n\n\n販売開始日\n2026年2月18日（水）10:00～\n\n\n販売場所\n1Fミュージアムショップ\n\n\n\n\n \n  \n\n  \n万博は終わらない。「アフター万博」という次のフェーズへ\n\n\n\n「みゃくみゃくとつなぐ展」は、単なる回顧展ではありません。 技術・デザイン・建築という3つの視点から、万博が社会に残した“問い”を次世代へ渡す試みです。 \n\n\n\n大阪で生まれた実験が、東京で再び芽吹き、そして各地へ広がっていく――。 万博のレガシーを体感できる、まさに“アフター万博”の出発点となる展覧会といえるでしょう。 \n\n\n\n関連リンク\n\n\n\n\nみゃくみゃくとつなぐ展 ～万博とひらく未来～\n\n\n\n大阪・関西万博の成果を未来へ「みゃくみゃくとつなぐ展」を開催｜PRtimes
URL:https://futureearth.jp/event/myakumyaku-future-expo-miraikan-2026/
LOCATION:日本科学未来館\, 東京都江東区青海２丁目３−６
CATEGORIES:大阪・関西万博
ATTACH;FMTTYPE=image/webp:https://futureearth.jp/wp-content/uploads/2026/02/63283-72-85dd0a48d0dfe60cba88c8f90cbc8f0b-1601x1200.png.webp
END:VEVENT
BEGIN:VEVENT
DTSTART;VALUE=DATE:20260131
DTEND;VALUE=DATE:20260507
DTSTAMP:20260420T101342
CREATED:20260126T004535Z
LAST-MODIFIED:20260126T004620Z
UID:6263-1769817600-1778111999@futureearth.jp
SUMMARY:ミッション∞インフィニティ｜宇宙＋量子＋芸術
DESCRIPTION:ミッション∞インフィニティ｜宇宙＋量子＋芸術\n科学とアートが交錯する“新しい宇宙観”の展覧会、東京都現代美術館で開催** \n会期：2026年1月31日（土）～5月6日（水・振休） \n東京都現代美術館では、国際量子科学技術年（2025年）に合わせ、宇宙・量子などの最先端サイエンスとアートのコラボレーションを通して「世界の成り立ち」や「見えない世界」を考える企画展 「ミッション∞インフィニティ｜宇宙＋量子＋芸術」 を開催します。 \n本展は、2014年に同館で開催された「ミッション[宇宙×芸術]」展から約10年ぶりの系譜にあたり、国産量子コンピュータを用いた初のアート作品、宇宙研究データを可視化する映像インスタレーション、XR展示などによって、拡張する表現領域を体験的に提示します。 \n展覧会のポイント（みどころ）\n① アートが切り拓く“量子と宇宙”のフロンティア\n宇宙旅行の商用化や量子研究の発展が進むなか、科学領域と芸術領域が交わることで生まれる新しい表現を提示。2025年の大阪・関西万博で注目された「量子コンピュータアート」も展示されます。 \n② 映像インスタレーション × 科学アーカイブ\nデータ可視化・可聴化による作品やアーカイブ展示を展開。戦後〜EXPO’70前後の科学・芸術資料も紹介し、万博史の文脈にも接続。 \n\nEXPO’70が「古典コンピュータアートの黎明」なら、大阪・関西万博（2025）は「量子コンピュータアートの黎明」 \n\nという位置づけが示される点も興味深い視点です。 \n③ XR・メタバース・ゲームの体験型展示\n・メタバース空間での宇宙体験・量子現象のXR表現・宇宙から届く粒子（ミューオン／ニュートリノ）の視覚化など、体験型展示や関連トークイベントも開催。 \n参加作家・機関（一部・順不同）\n久保田晃弘＋QIQB、平川紀道、ARTSATプロジェクト、逢坂卓郎、落合陽一、江渡浩一郎＋アラレグミ、安藤英由樹＋田中成典、古澤龍、森脇裕之、片岡純也＋岩竹理恵、藤本由紀夫＋永原康史、田中ゆり＋有賀昭貴＋パヴレ・ディヌロヴィッチ、吉本英樹JAXA宇宙科学研究所、天文仮想研究所、東京藝術大学、Useless Prototyping Studio、量子芸術祭実行委員会 ほか \n展覧会の背景：科学×芸術の歴史的文脈\n本展は、過去の宇宙芸術系企画展に連なる流れの中に位置付けられます： \n過去の主な展覧会例 \n\n「SPACE ODYSSEY 宇宙の旅」（2001／水戸芸術館）\n「ミッション・フロンティアー」（2004／都写美・未来館）\n「ミッション[宇宙×芸術]」（2014／東京都現代美術館）\n「宇宙と芸術展」（2016／森美術館）\n\nさらに大阪・関西万博2025の「エンタングル・モーメント」展で示された“量子的なセンス”の重要性を継承する内容でもあります。 \n開催概要（基本情報）\n\n\n\n\n\n項目\n内容\n\n\n\n\n展覧会名\nミッション∞インフィニティ｜宇宙＋量子＋芸術\n\n\n会期\n2026年1月31日（土）～5月6日（水・振休）\n\n\n会場\n東京都現代美術館 企画展示室B2F／ホワイエ 他\n\n\n休館日\n月曜（2/23、5/4は開館）、2/24\n\n\n開館時間\n10:00～18:00（入場は閉館30分前まで）\n\n\n観覧料\n一般1\,800円／大学生・専門・65歳以上1\,260円／中高生720円／小学生以下無料\n\n\n主催\n東京都現代美術館\n\n\n共催\nCG-ARTS（公益財団法人画像情報教育振興協会）\n\n\n協力\nJAXA 他\n\n\n助成\nオーストリア文化フォーラム東京\n\n\n託児サービス\n指定日あり／要予約・有料・定員制
URL:https://futureearth.jp/event/mission-infinity-2026/
LOCATION:東京都現代美術館\, 東京都江東区三好4-1-1
CATEGORIES:大阪・関西万博
ATTACH;FMTTYPE=image/jpeg:https://futureearth.jp/wp-content/uploads/2026/01/M-I_webBanner_5560x2616.jpg
END:VEVENT
END:VCALENDAR