BEGIN:VCALENDAR
VERSION:2.0
PRODID:-//Future Earth - ECPv6.15.20//NONSGML v1.0//EN
CALSCALE:GREGORIAN
METHOD:PUBLISH
X-ORIGINAL-URL:https://futureearth.jp
X-WR-CALDESC:Future Earth のイベント
REFRESH-INTERVAL;VALUE=DURATION:PT1H
X-Robots-Tag:noindex
X-PUBLISHED-TTL:PT1H
BEGIN:VTIMEZONE
TZID:Asia/Tokyo
BEGIN:STANDARD
TZOFFSETFROM:+0900
TZOFFSETTO:+0900
TZNAME:JST
DTSTART:20250101T000000
END:STANDARD
END:VTIMEZONE
BEGIN:VEVENT
DTSTART;TZID=Asia/Tokyo:20260205T100000
DTEND;TZID=Asia/Tokyo:20260205T180000
DTSTAMP:20260423T064847
CREATED:20260129T085152Z
LAST-MODIFIED:20260204T235853Z
UID:6428-1770285600-1770314400@futureearth.jp
SUMMARY:神奈川宇宙サミット2026
DESCRIPTION:神奈川宇宙サミット\n宇宙県かながわに集え。共に創る、宇宙の「これから」\n神奈川県では、宇宙産業・宇宙ビジネスの最前線を発信する大型イベント「神奈川宇宙サミット」 を、令和8年2月5日（木）に開催します。 \n本サミットでは、野口聡一 氏をはじめ、宇宙開発・産業・研究・自治体・エンターテインメントなど、多様な分野の第一線で活躍する登壇者が集結。 \n既存技術の宇宙活用、サステナビリティ、宇宙医学、データ利活用、そして「宇宙県・神奈川」の未来像まで――“今すぐ使える宇宙”と“これからの宇宙”を同時に考える一日です。 \n開催概要\n\n\n\n\n\n項目\n内容\n\n\n\n\nイベント名\n神奈川宇宙サミット\n\n\n開催日\n令和8年2月5日（木）\n\n\n時間\n10:00～18:00（予定）\n※レセプション：18:00～20:00（予定）\n\n\n会場\nアニヴェルセル みなとみらい横浜（横浜市中区新港2-1-4）\n\n\n入場料\n無料（事前来場登録はこちら）\n\n\n主催\n神奈川宇宙サミット実行委員会\n\n\n\n\n\n  \n横浜園芸博のPRブースも！\n　会場１階には、神奈川県国際園芸博覧会推進室／ＧＲＥＥＮ×ＥＸＰＯ協会のブースも出展されます。 \n \n会場マップ \n神奈川宇宙サミット｜全プログラム一覧\n「プログラム等の詳細」（PDF：535KB） \nパンフレット（PDF）
URL:https://futureearth.jp/event/kanagawa-space-summit-2026/
LOCATION:アニヴェルセル みなとみらい横浜\, 横浜市中区新港2-1-4
CATEGORIES:シンポジウム
ATTACH;FMTTYPE=image/png:https://futureearth.jp/wp-content/uploads/2026/01/kanagawaspacesummit.png
END:VEVENT
BEGIN:VEVENT
DTSTART;TZID=Asia/Tokyo:20260201T110000
DTEND;TZID=Asia/Tokyo:20260201T123000
DTSTAMP:20260423T064847
CREATED:20260127T010658Z
LAST-MODIFIED:20260127T010707Z
UID:6348-1769943600-1769949000@futureearth.jp
SUMMARY:横浜から宇宙ビジネスの未来を語ろう～宇宙未来都市✕デザイン～
DESCRIPTION:未来の宇宙産業と都市の未来をつなぐ、横浜発セッション\n\n\n\n横浜未来機構主催の「横浜から宇宙ビジネスの未来を語ろう～宇宙未来都市✕デザイン～」が、2026年2月1日（土）に横浜ランドマークプラザ サカタのタネ ガーデンスクエアにて開催されます。 \n  \n\n\n\n開催概要\n\n\n\n\n\n\n\n項目\n内容\n\n\n\n\n名称\nA-07：横浜から宇宙ビジネスの未来を語ろう～宇宙未来都市✕デザイン～\n\n\n日時\n2026年2月1日（日）11:00～12:30\n\n\n会場\n横浜ランドマークプラザ サカタのタネ ガーデンスクエア\n\n\n参加\n予約不要\n\n\n\n\n\n\n\n登壇者等\n\n\n\n\n\n\n\nゲスト登壇\n\n\n福代 孝良（アークエッジスペース株式会社 CEO）\n森 裕和（カエラムコンシリアム株式会社 CEO）\n深浦 希峰（日揮グローバル株式会社）\n蓮見 大聖（アマテラススペース株式会社 CEO）\n金山 秀樹（清水建設株式会社）\n河野 功（JAXA／日本航空宇宙学会 第53期会長）\n淺利 玲欧（公益社団法人2027年国際園芸博覧会協会）\n\n\n\n\n企画監修／総合司会\n山敷 庸亮（京都大学 SIC有人宇宙学研究センター長）\n\n\nモデレーター\n後藤 幸江（横浜未来機構 宇宙ナビゲーター／Mirus合同会社代表）
URL:https://futureearth.jp/event/space-urban-design-yokohama/
LOCATION:横浜ランドマークプラザ サカタのタネ ガーデンスクエア\, 神奈川県横浜市西区みなとみらい２丁目２−１
CATEGORIES:GREEN×EXPO2027,シンポジウム
ATTACH;FMTTYPE=image/jpeg:https://futureearth.jp/wp-content/uploads/2026/01/cover-OpFbPDh7JqnXThoJDKGZgOeAk9IZZUya.jpg
END:VEVENT
BEGIN:VEVENT
DTSTART;TZID=Asia/Tokyo:20260131T170000
DTEND;TZID=Asia/Tokyo:20260131T190000
DTSTAMP:20260423T064847
CREATED:20260127T005207Z
LAST-MODIFIED:20260127T005256Z
UID:6339-1769878800-1769886000@futureearth.jp
SUMMARY:横浜×宇宙大交流会
DESCRIPTION:未来の宇宙ビジネスを“つくる人”、そして“つながる人”へ\n\n\n\n横浜未来機構主催の「横浜×宇宙大交流会」が、2026年1月31日（金）17:00よりTECH HUB YOKOHAMAにて開催されます。 \n \n\n\n\n  \n  \n横浜を拠点に宇宙ビジネスの未来を切りひらく 「横浜×宇宙プロジェクト」 が3年目を迎えます。今回は、これまで本プロジェクトを支えてきた宇宙産業の最前線で活躍する実務家が登壇し、宇宙ビジネス参入の“壁”を低くしながら、横浜発の新しい宇宙ネットワーク創出をめざします。 \n\n\n\nまた、登壇者の多くは昨年大好評で閉幕した 大阪・関西万博 の宇宙関連展示に関わった実践者。さらに、2027年には横浜で国際園芸博覧会（GREEN×EXPO2027／横浜園芸博）が開催予定であり、“未来の暮らし × 宇宙”をテーマに、次の実装の可能性も議論します。 \n\n\n\nこんな人におすすめ\n\n\n\n✔ 宇宙分野に関心があり“聞くだけでは終わりたくない” \n✔ 宇宙×暮らし／教育／ビジネスの未来に興味がある \n✔ 横浜で仲間／挑戦／機会を得たい \n✔ 宇宙領域で仕事・研究・起業・PJを始めたい \n✔ スタートアップ／企業／学生など多様な視点から刺激を得たい \n\n\n\n開催概要\n\n\n\n\n\n\n\n項目\n内容\n\n\n\n\n名称\nC-03：横浜×宇宙大交流会\n\n\n日時\n2026年1月31日（金）17:00〜19:00\n\n\n会場\nTECH HUB YOKOHAMA\n\n\n所在地\n横浜市内（※詳細は予約ページ参照）\n\n\n参加\n要予約\n\n\n予約\nhttps://peatix.com/event/4806818/view\n\n\n\n\n\n\n\n登壇者（Guest）\n\n\n\n\n 森 裕和 カエラムコンシリアム株式会社／世界で活躍する宇宙コンサルタント\n大野 琢也 鹿島建設株式会社 イノベーション推進室 担当部長／ルナグラス開発者\n深浦 希峰 日揮グローバル株式会社／月面プラント開発担当\n淺利 玲欧 公益社団法人2027年国際園芸博覧会協会 2027年横浜開催のGREEN×EXPO2027（横浜園芸博）\n\n\n\n\n企画監修・総合司会\n\n\n\n\n山敷 庸亮 京都大学・SIC有人宇宙学研究センター長\n\n\n\n\nモデレーター\n\n\n\n\n後藤 幸江 横浜未来機構 宇宙ナビゲーター／Mirus合同会社代表\n\n\n\n\nYOXO FESTIVALとは？\n\n\n\n　YOXO FESTIVALは、“横浜でみらい体験”をテーマにした都市型イノベーションイベントです。企業・スタートアップ・アカデミア・個人など、多様なイノベーターやクリエイターが集まり、新しい技術・アイデア・ソリューションを発表します。 \n\n\n\n　子どもから大人まで楽しめるプログラムも多数。“未来が届く街” 横浜らしいイノベーションフェスです。 \n\n\n\n開催概要\n\n\n\n\n\n\n\n項目\n内容\n\n\n\n\n名称\nYOXO FESTIVAL 2026\n\n\nテーマ\n横浜でみらい体験\n\n\n開催期間\n\n【DAY1】2026年1月30日（金）12:00～19:00【DAY2】2026年1月31日（土）11:00～19:00【DAY3】2026年2月1日（日）11:00～17:00 \n\n\n\n会場\nみなとみらい地区\n\n\n入場料\n無料（※一部有料・予約制プログラムあり）\n\n\n主催\n横浜未来機構\n\n\n共催\n横浜市\n\n\n\n\n\n\n\n 
URL:https://futureearth.jp/event/yokohama-space-meetup-2026/
LOCATION:TECH HUB YOKOHAMA\, 横浜市西区みなとみらい２丁目２−１ 横浜ランドマークタワー 敷地内25街区ギャラリー棟
CATEGORIES:GREEN×EXPO2027,シンポジウム
ATTACH;FMTTYPE=image/jpeg:https://futureearth.jp/wp-content/uploads/2026/01/cover-bfVDRJ3Wz1mHM1okiHgDgIwMGEfw3avJ.jpg
END:VEVENT
END:VCALENDAR