BEGIN:VCALENDAR
VERSION:2.0
PRODID:-//Future Earth - ECPv6.15.20//NONSGML v1.0//EN
CALSCALE:GREGORIAN
METHOD:PUBLISH
X-WR-CALNAME:Future Earth
X-ORIGINAL-URL:https://futureearth.jp
X-WR-CALDESC:Future Earth のイベント
REFRESH-INTERVAL;VALUE=DURATION:PT1H
X-Robots-Tag:noindex
X-PUBLISHED-TTL:PT1H
BEGIN:VTIMEZONE
TZID:Asia/Tokyo
BEGIN:STANDARD
TZOFFSETFROM:+0900
TZOFFSETTO:+0900
TZNAME:JST
DTSTART:20250101T000000
END:STANDARD
END:VTIMEZONE
BEGIN:VEVENT
DTSTART;TZID=Asia/Tokyo:20260128T101500
DTEND;TZID=Asia/Tokyo:20260128T231500
DTSTAMP:20260420T165407
CREATED:20260125T012252Z
LAST-MODIFIED:20260125T230718Z
UID:6133-1769595300-1769642100@futureearth.jp
SUMMARY:第６回グリーンインフラ大賞表彰式にトゥンクトゥンク登場！
DESCRIPTION:「第６回グリーンインフラ大賞表彰式」では、国土交通大臣賞、GREEN×EXPO 賞（新設）、特別優秀賞の受賞団体を表彰します。 \nGREEN×EXPO 2027 公式マスコットキャラクター「トゥンクトゥンク」が表彰式に登場します！ \n  \n \n  \nグリーンインフラ産業展2026\n\n\n\n\n\n項目\n内容\n\n\n\n\n名称\nグリーンインフラ産業展2026\n\n\n主催\n日刊工業新聞社\n\n\n共催\nグリーンインフラ官民連携プラットフォーム\n\n\n後援\n国土交通省、環境省、金融庁（申請予定先、順不同）\n\n\n協賛\n雨水貯留浸透技術協会、街路樹診断協会、経団連自然保護協議会、建設コンサルタンツ協会、公園財団、交通環境整備ネットワーク、全国銀行協会、都市再生機構、都市緑化機構、日本建設業連合会、日本下水道協会、日本公園緑地協会、日本造園建設業協会、日本緑化センター、不動産協会、ランドスケープコンサルタンツ協会（申請予定先、法人格略、50音順）\n\n\n同時開催\n防災産業展、国際宇宙産業展、G空間EXPO\n\n\n\n\n\n  \n関連リンク\n\nグリーンインフラ産業展2026\n『防災産業展』『グリーンインフラ産業展』『国際宇宙産業展ISIEX』『G空間EXPO』東京ビッグサイトにて４つの専門展を開催！｜PRtimes\n「グリーンインフラ産業展2026」を1 月28～30 日に開催します！～GREEN×EXPO 2027 公式マスコットキャラクター「トゥンクトゥンク」がやってくる！～
URL:https://futureearth.jp/event/greeninfra-award6-tunktunk/
LOCATION:東京ビッグサイト 東7・8ホール\, 東京都江東区有明3-11-1
CATEGORIES:GREEN×EXPO2027,シンポジウム,トゥンクトゥンク
ATTACH;FMTTYPE=image/jpeg:https://futureearth.jp/wp-content/uploads/2026/01/第6回グリーンインフラ大賞表彰式にトゥンクトゥンクが.jpg
END:VEVENT
END:VCALENDAR