BEGIN:VCALENDAR
VERSION:2.0
PRODID:-//Future Earth - ECPv6.15.20//NONSGML v1.0//EN
CALSCALE:GREGORIAN
METHOD:PUBLISH
X-WR-CALNAME:Future Earth
X-ORIGINAL-URL:https://futureearth.jp
X-WR-CALDESC:Future Earth のイベント
REFRESH-INTERVAL;VALUE=DURATION:PT1H
X-Robots-Tag:noindex
X-PUBLISHED-TTL:PT1H
BEGIN:VTIMEZONE
TZID:Asia/Tokyo
BEGIN:STANDARD
TZOFFSETFROM:+0900
TZOFFSETTO:+0900
TZNAME:JST
DTSTART:20250101T000000
END:STANDARD
END:VTIMEZONE
BEGIN:VEVENT
DTSTART;TZID=Asia/Tokyo:20260410T000000
DTEND;TZID=Asia/Tokyo:20260731T235959
DTSTAMP:20260420T152305
CREATED:20260414T133458Z
LAST-MODIFIED:20260414T133600Z
UID:10223-1775779200-1785542399@futureearth.jp
SUMMARY:劇場版『名探偵コナン ハイウェイの堕天使』×横浜市キャンペーン
DESCRIPTION:劇場版『名探偵コナン ハイウェイの堕天使』×横浜市キャンペーン\n\n\n\n　2026年4月10日（金）に公開された劇場版『名探偵コナン ハイウェイの堕天使』。物語の舞台となった横浜市では、現在、街全体を巻き込んだ限界突破（リミットブレイク）なキャンペーンが開催中です。 \n\n\n\n　全8種のビッグサイズステッカー配布や、コナン君が喋るラッピングバスの運行など、ファン垂涎の施策が目白押し。さらに、配布されるノベルティの「裏面」には「トゥンクトゥンク」が！映画の余韻に浸りながら、コナン旋風吹き荒れる横浜を駆け抜けましょう。 \n\n\n\nノベルティの裏にはトゥンクトゥンクが！\n\n\n\n　スタンプラリー台紙やクリアファイル、ステッカーの裏面に、「トゥンクトゥンク」が登場します。 \n\n\n\n\n\n\n\n\n\n\n\n\n\nイベント概要\n\n\n\nイベント実施期間内容・特典①ステッカープレゼント2026年4月10日（金）～ 6月12日（金）対象約450店舗で全8種のステッカーを配布。裏面はトゥンクトゥンクデザイン。（サイズW150mm×H75mm）②スタンプラリー 第1弾2026年4月10日（金）～ 5月31日（日）スタンプ5個でオリジナルステッカーをプレゼント。スタンプラリー台紙やステッカー裏面にトゥンクトゥンクデザイン。③スタンプラリー 第2弾2026年6月1日（月）～ 7月31日（金）スタンプ5個でオリジナルクリアファイルをプレゼント。スタンプラリー台紙やステッカー裏面にトゥンクトゥンクデザイン。\n\n\n\n①ステッカープレゼント\n\n\n\nステッカー（全８種）劇場版『名探偵コナン ハイウェイの堕天使』×横浜市 コナンと一緒に、横浜のまちを駆け抜けよう！　より\n\n\n\n\n※対象店舗、指定メニューや最新情報などは特設サイトでご確認ください。https://www.welcome.city.yokohama.jp/hottopics/conan-yokohama/\n\n\n\n\n②③スタンプラリー\n\n\n\nスタンプラリー台紙劇場版『名探偵コナン ハイウェイの堕天使』×横浜市 コナンと一緒に、横浜のまちを駆け抜けよう！　より\n\n\n\n\nノベルティデザイン（ステッカー）\n\n\n\nノベルティデザイン（クリアファイル）\n\n\n\n\n\n※実施場所、押印可能時間など詳細は特設サイトをご確認ください。https://www.welcome.city.yokohama.jp/hottopics/conan-yokohama/\n\n\n\n\nキャンペーン概要\n\n\n\n項目内容イベント名劇場版『名探偵コナン ハイウェイの堕天使』×横浜市開催期間2026年4月10日（金）～7月31日（金）開催場所横浜都心臨海部（みなとみらい、桜木町、横浜港周辺エリアなど）公式テーマ限界突破な宣伝企画 ≪風のプロジェクト≫\n\n\n\n全イベント一覧\n\n\n\nイベント実施期間内容・特典ステッカープレゼント2026年4月10日（金）～ 6月12日（金）対象約450店舗で配布。全8種。裏面はトゥンクトゥンクデザイン。スタンプラリー 第1弾2026年4月10日（金）～ 5月31日（日）スタンプ5個でオリジナルステッカーをプレゼント。裏面はトゥンクトゥンクデザイン。スタンプラリー 第2弾2026年6月1日（月）～ 7月31日（金）スタンプ5個でオリジナルクリアファイルをプレゼント。裏面はトゥンクトゥンクデザイン。連動謎解き企画2026年4月10日（金）～ 7月31日（金）スタンプポイント10箇所の謎を解くと待ち受け画像進呈。コスモクロック21演出2026年4月10日（金）～ 4月19日（日）18:30〜20:16の間に特別演出を実施（毎時00/15/30/45分）。ラッピングバス運行2026年4月10日（金）～ 7月31日（金）「ベイサイドブルー」1台が特別仕様で運行。特別降車アナウンス2026年4月10日（金）～ 7月31日（金）「あかいくつ」「ベイサイドブルー」車内でコナンの音声を放送。主題歌・楽曲放送2026年4月10日（金）～ 6月12日（金）主題歌「ラストダンスあなたと」＋コナン君のメッセージを放送。動く歩道フラッグ装飾2026年4月6日（月）～ 4月28日（火）桜木町～みなとみらい間の動く歩道をコナンがジャック。\n\n\n\n※いずれの施策も、ノベルティがなくなり次第終了となりますのでご注意ください。
URL:https://futureearth.jp/event/konan-yokohama-2026/
LOCATION:みなとみらい21地区を中心とした横浜都心臨海部\, 神奈川県横浜市西区みなとみらい
CATEGORIES:横浜イベント
ATTACH;FMTTYPE=image/webp:https://futureearth.jp/wp-content/uploads/2026/04/13670-1905-c7c31c0f894091c25e8d3b42c5d40a2d-2866x2028.jpg.webp
END:VEVENT
END:VCALENDAR