BEGIN:VCALENDAR
VERSION:2.0
PRODID:-//Future Earth - ECPv6.15.20//NONSGML v1.0//EN
CALSCALE:GREGORIAN
METHOD:PUBLISH
X-WR-CALNAME:Future Earth
X-ORIGINAL-URL:https://futureearth.jp
X-WR-CALDESC:Future Earth のイベント
REFRESH-INTERVAL;VALUE=DURATION:PT1H
X-Robots-Tag:noindex
X-PUBLISHED-TTL:PT1H
BEGIN:VTIMEZONE
TZID:Asia/Tokyo
BEGIN:STANDARD
TZOFFSETFROM:+0900
TZOFFSETTO:+0900
TZNAME:JST
DTSTART:20250101T000000
END:STANDARD
END:VTIMEZONE
BEGIN:VEVENT
DTSTART;TZID=Asia/Tokyo:20260502T100000
DTEND;TZID=Asia/Tokyo:20260504T170000
DTSTAMP:20260423T192109
CREATED:20260302T013604Z
LAST-MODIFIED:20260421T234006Z
UID:7770-1777716000-1777914000@futureearth.jp
SUMMARY:横浜フラワー＆ガーデンフェスティバル2026
DESCRIPTION:横浜フラワー＆ガーデンフェスティバル2026｜GREEN×EXPO前年を彩る日本最大級の園芸イベント\n\n\n\n　2026年5月2日（土）から4日（月・祝）までの3日間、横浜の春を代表する園芸イベント「横浜フラワー＆ガーデンフェスティバル2026」が開催されます。会場は横浜みなとみらいのランドマーク、パシフィコ横浜 展示ホールA・B。 \n\n\n\n　2027年開催のGREEN×EXPO 2027（2027年国際園芸博覧会）を前年に控え、花と緑の魅力を体感しながら“新しいグリーン万博”への期待を高める機会となります。 \n\n\n\n毎日トゥンクグリーティングも！\n\n\n\n　会場では最新映像や大型マップで博覧会の魅力を伝えるほか、公式マスコット「トゥンクトゥンク」のグリーティングやスタンプラリーを毎日開催します。さらに、日替わりのいけばなライブによるフォトスポット、シェアフラワーのオブジェ、来場者の想いを描くグラフィックレコーディングなど、花と緑に親しめる多彩なコンテンツが用意されています。 \n\n\n\nゴールデンウィークは、日本最大級の園芸イベント「横浜フラワー＆ガーデンフェスティバル」へ！　より\n\n\n\nテーマ館 特製「シードペーパー®」を配布\n\n\n\n　テーマ館では、2027年に開幕する参加型展示の取り組みとして、花が咲く再生紙「シードペーパー®」を配布します。植物の種が漉すきこまれた「シードペーパー®」を育てた写真を投稿いただくことで、シンボルツリー『きぼうの樹』を育てていきます。　「GREEN×EXPO 2027ブース」にて、来場者のみなさま先着10\,000名様に配布致しますので、是非「シードペーパー®」を育ててみてください。 \n\n\n\n\n\n\n\n開催概要\n\n\n\n項目内容イベント名横浜フラワー＆ガーデンフェスティバル2026（YFG2026）日程2026年5月2日（土）～4日（月）時間10:00～17:00（最終日は16:00まで）※入場は閉場30分前まで会場パシフィコ横浜 展示ホールA・B入場料前売券 1\,600円／当日券 2\,000円中学生以下無料（予定・税込）主催横浜フラワー＆ガーデンフェスティバル2026実行委員会ガーデンネックレス横浜実行委員会(公社)日本家庭園芸普及協会(株)ＮＨＫエデュケーショナル(一社)ＪＦＴＤ(株)横浜国際平和会議場(公社)２０２７年国際園芸博覧会協会(公財)横浜市緑の協会共催横浜市後援農林水産省、国土交通省、神奈川県、NHK横浜放送局、UR都市機構、都市緑化機構、全国花みどり協会協賛（ガーデンネックレス横浜）横浜植木株式会社、株式会社サカタのタネ、横浜農業協同組合、株式会社キタムラ、相鉄グループ、株式会社ファンケル、東急株式会社、株式会社ありあけ、横浜商工会議所、一般社団法人 横浜市造園協会、横浜高速鉄道株式会社、京浜急行電鉄株式会社、タカナシ乳業株式会社、株式会社ホテル、ニューグランド、株式会社三井住友銀行、KINCHO園芸株式会社、株式会社ハイポネックスジャパン、（公社）全日本不動産協会神奈川県本部横浜支部、一般財団法人髙橋貞子記念会、ワンダリア横浜公式サイトhttps://yfg-fes.jp\n\n\n\n開催趣旨｜GREEN×EXPO 2027へつなぐ「花と緑」のレガシー\n\n\n\n　横浜市は、2017年の全国都市緑化よこはまフェアを契機に誕生した「ガーデンネックレス横浜」を官民連携で展開し、花と緑あふれる都市づくりを進めてきました。 \n\n\n\n　そして2027年には、1都3県で初の万博となるGREEN×EXPO 2027が開催されます。本博覧会は、日本の自然観や美意識、花と緑のある暮らし、持続可能な地域経済の創造を世界へ発信する“新しいグリーン万博”を目指しています。 \n\n\n\n関連リンク\n\n\n\n\n横浜フラワー＆ガーデンフェスティバル公式ウェブサイト\n\n\n\n【記者発表資料】ゴールデンウィークは、日本最大級の園芸イベント「横浜フラワー＆ガーデンフェスティバル」へ！（PDF：1\,392KB）\n\n\n\n【予告】「横浜フラワー＆ガーデンフェスティバル2026」で「GREEN×EXPO 2027」特製「シードペーパー®」を配布します！｜テーマ館\n\n\n\n\n 
URL:https://futureearth.jp/event/yokohama-flower-garden-festival-2026/
LOCATION:パシフィコ横浜 展示ホールA・B\, 神奈川県横浜市西区みなとみらい１丁目１−１
CATEGORIES:公式イベント,花き園芸・造園・農関連
ATTACH;FMTTYPE=image/webp:https://futureearth.jp/wp-content/uploads/2026/03/bg_foot26.webp
END:VEVENT
END:VCALENDAR