BEGIN:VCALENDAR
VERSION:2.0
PRODID:-//Future Earth - ECPv6.15.20//NONSGML v1.0//EN
CALSCALE:GREGORIAN
METHOD:PUBLISH
X-ORIGINAL-URL:https://futureearth.jp
X-WR-CALDESC:Future Earth のイベント
REFRESH-INTERVAL;VALUE=DURATION:PT1H
X-Robots-Tag:noindex
X-PUBLISHED-TTL:PT1H
BEGIN:VTIMEZONE
TZID:Asia/Tokyo
BEGIN:STANDARD
TZOFFSETFROM:+0900
TZOFFSETTO:+0900
TZNAME:JST
DTSTART:20250101T000000
END:STANDARD
END:VTIMEZONE
BEGIN:VEVENT
DTSTART;VALUE=DATE:20260319
DTEND;VALUE=DATE:20260615
DTSTAMP:20260419T235454
CREATED:20260303T142443Z
LAST-MODIFIED:20260312T100017Z
UID:7870-1773878400-1781481599@futureearth.jp
SUMMARY:ガーデンネックレス横浜2026
DESCRIPTION:ガーデンネックレス横浜2026\n\n\n\n\n\n\n\n横浜市は、2026年3月19日（木）から6月14日（日）まで、横浜の街を舞台に花と緑をネックレスのようにつなぐ春の一大イベント「ガーデンネックレス横浜 2026」を開催します。 \n\n\n\n2017年から続く「ガーデンシティ横浜」推進のリーディングプロジェクトとして毎年開催されてきた本イベント。港町の景観が美しい“みなとエリア”から、約10\,000㎡の大花壇を誇る里山ガーデンまで、街全体が季節の花で彩られます。 \n\n\n\nそして、「GREEN×EXPO 2027」開催1年前の春。横浜がもっとも華やぐ季節が、いよいよやってきます。 \n\n\n\n開催概要\n\n\n\n\n\n\n\n項目\n内容\n\n\n\n\nイベント名\nガーデンネックレス横浜 2026\n\n\n開催期間\n2026年3月19日（木）～6月14日（日）\n\n\n主な会場\nみなとエリア、里山ガーデン ほか横浜市内各所\n\n\n\n\n\n\n\nみなとエリア（都心臨海部）\n\n\n\n① サクラ（3月下旬～4月上旬）\n\n\n\n約300本の桜が、横浜の春の訪れを告げます。さくら通りや汽車道、山手エリアなど、港町らしい風景とともに楽しめるのが魅力です。 \n\n\n\n② チューリップ（4月上旬～中旬）\n\n\n\n約70種・10万本のチューリップが咲き誇る横浜公園を中心に、港へと続く日本大通り、新港中央広場まで色鮮やかな花景色が広がります。 \n\n\n\n③ バラ（5月上旬～下旬）\n\n\n\n横浜市の花「バラ」が最盛期を迎える季節。香り・色彩・景色をテーマにしたバラ園が広がる港の見える丘公園や、約160品種1\,900株が競演する山下公園は必見です。 \n\n\n\n\n\n里山ガーデンフェスタ\n\n\n\n横浜市内最大級、約10\,000㎡の大花壇が広がる里山ガーデン。約110品種・20万本の花々に加え、約150本のサクラ、新緑の里山風景を一度に楽しめます。 \n\n\n\n\n\n\n\n項目\n内容\n\n\n\n\n会期\n2026年3月19日（木）～5月6日（水・祝）\n\n\n会場\n里山ガーデン（よこはま動物園ズーラシア隣接／横浜市旭区上白根町1425-4）\n\n\n\n\n  \n \nBlooming RING を着けて、フォトスポットで記念撮影しよう｜里山ガーデン\n\n\n \n　Blooming RINGを身に着けて、ウェルカムガーデンに新たに登場する「GREEN×EXPO 2027」ロゴのフォトスポット前で記念撮影ができます。 \n\n\n \n\n里山ガーデンフェスタHP　より\n\n\n\n \n\n\n \n\n\n\n\n項目\n内容\n\n\n\n\n実施日\n2026年3月19日（木）～3月22日（日）\n\n\n実施時間\n10:00～\n\n\n実施場所\nウェルカムガーデン内「GREEN×EXPO 2027」ロゴフォトスポット前\n\n\n参加方法\n各日先着100名（予定数に達し次第終了）\n\n\n内容\nBlooming RINGを身に着けてフォトスポット前で記念撮影\n\n\n備考\n雨天決行\n\n\n\n\n \n\n\n\n\n\n横浜フラワー＆ガーデンフェスティバル2026\n\n\n\n「ガーデンネックレス横浜」の一環として開催される、日本最大級の園芸イベント。 \n\n\n\n日本を代表するガーデンデザイナーによるメイン展示をはじめ、最新の花・ガーデン展示、子ども向け職業体験、木のおもちゃブース、ショッピングなど、花と緑の楽しみが凝縮されています。 \n\n\n\n\n\n\n\n項目\n内容\n\n\n\n\n会期\n2026年5月2日（土）～5月4日（月・祝）\n\n\n会場\nパシフィコ横浜\n\n\n\n\n\n\nあわせて読みたい横浜フラワー＆ガーデンフェスティバル2026\n\n\n横浜ローズウィーク\n\n\n\n横浜市の花「バラ」の見ごろにあわせ、市内各所で開催される“バラの街歩き”期間。バラ園だけでなく、スイーツ、カクテル、ショッピングなど、街全体がローズカラーに染まります。港町・横浜の歴史とともに楽しむ、特別な時間です。 \n\n\n\n関連リンク\n\n\n\n\nガーデンネックレス横浜\n\n\n\nガーデンネックレス横浜 2026｜横浜市観光協会\n\n\n 
URL:https://futureearth.jp/event/garden-necklace-yokohama-2026/
LOCATION:みなとエリア、里山ガーデン ほか横浜市内各所
CATEGORIES:GREEN×EXPO2027,横浜イベント,花き園芸・造園・農関連
ATTACH;FMTTYPE=image/webp:https://futureearth.jp/wp-content/uploads/2026/03/yw5560_1.webp
END:VEVENT
BEGIN:VEVENT
DTSTART;TZID=Asia/Tokyo:20260530T190000
DTEND;TZID=Asia/Tokyo:20260530T190500
DTSTAMP:20260419T235454
CREATED:20260327T024041Z
LAST-MODIFIED:20260327T024041Z
UID:9322-1780167600-1780167900@futureearth.jp
SUMMARY:YOKOHAMA NIGHT FLOWERS × GREEN×EXPO 2027
DESCRIPTION:花と緑をテーマに横浜の夜空を彩る花火連携キャンペーン\n\n\n\n2027年国際園芸博覧会（GREEN×EXPO 2027）の開幕500日前となる2025年11月4日（火）を契機に、横浜ナイトフラワーズが連携キャンペーンを開始しています。 \n\n\n\n\n\n\n\nキャンペーン概要\n\n\n\nキャンペーン名称は 「YOKOHAMA NIGHT FLOWERS × GREEN×EXPO 2027」。 \n\n\n\nこの期間中（2025年11月8日〜2027年9月26日）、花火打上げ日は、GREEN×EXPO 2027をイメージし、花と緑をテーマとした演出を中心に展開。都市と自然が調和する横浜の魅力を夜空に映し出します。 \n\n\n\n開催概要\n\n\n\n\n\n\n\n項目\n内容\n\n\n\n\n期間\n2025年11月8日（土）～ 2027年9月26日（日）\n\n\nテーマ\n花と緑（GREEN×EXPO 2027をイメージ）\n\n\n内容\n特別テーマ花火の打上げ\n\n\n主催\n横浜ナイトフラワーズ実行委員会 （横浜市／横浜商工会議所／横浜港振興協会／横浜市観光協会）\n\n\n最新情報\n横浜ナイトフラワーズ公式HP\n\n\n\n\n\n\n\n※日時・詳細は随時更新されるため、公式サイトで最新情報をご確認ください。 \n\n\n\n横浜ナイトフラワーズ（2026年）スケジュール\n\n\n\n\n\n\n\n開催日\n時間\n打ち上げ場所\n当日イベント\n\n\n\n\n4月4日（土）\n19:00〜19:05\n大さん橋\nCENTRAL × LIVE！横浜 / BAY WALK KITCHEN\n\n\n4月5日（日）\n19:00〜19:05\n新港ふ頭\nCENTRAL × LIVE！横浜 / BAY WALK KITCHEN\n\n\n4月11日（土）\n19:00〜19:05\n大さん橋\n劇場版『名探偵コナン ハイウェイの堕天使』×横浜市\n\n\n4月27日（月）\n19:00〜19:05\n新港ふ頭\n東方神起×横浜 RED OCEANキャンペーン\n\n\n5月16日（土）\n19:00〜19:05\n大さん橋\n―\n\n\n5月30日（土）\n19:00〜19:05\n大さん橋\n―\n\n\n6月13日（土）\n19:30〜19:35\n新港ふ頭\n―\n\n\n7月4日（土）\n19:30〜19:35\n新港ふ頭\n―\n\n\n7月18日（土）\n19:30〜19:35\n新港ふ頭\n―\n\n\n8月9日（日）\n19:30〜19:35\n新港ふ頭\n―\n\n\n9月5日（土）\n19:00〜19:05\n新港ふ頭\n―\n\n\n9月20日（日）\n19:00〜19:05\n大さん橋\n―
URL:https://futureearth.jp/event/yokohama-night-flowers-x-greenxexpo-2027-2/
LOCATION:大さん橋\, 横浜市中区海岸通1-1-4
CATEGORIES:GREEN×EXPO2027
END:VEVENT
BEGIN:VEVENT
DTSTART;TZID=Asia/Tokyo:20260531T100000
DTEND;TZID=Asia/Tokyo:20260531T160000
DTSTAMP:20260419T235454
CREATED:20260318T060952Z
LAST-MODIFIED:20260318T060952Z
UID:8575-1780221600-1780243200@futureearth.jp
SUMMARY:水辺の生きもの観察会開催｜相鉄×GREEN×EXPOプレイベント（横浜・瀬谷）
DESCRIPTION:水辺の生きもの観察会開催｜相鉄×GREEN×EXPOプレイベント（横浜・瀬谷）\n\n\n\n2027年に開催されるGREEN×EXPO 2027（横浜園芸博）に向けたプレイベントとして、相鉄グループによる「水辺の生きもの観察会」が2026年5月31日に開催されます。和泉川の自然の中で、生きもの採集や観察を通じて学べる体験型イベントです。 \n\n\n\nイベント概要\n\n\n\n\n\n\n\n項目\n内容\n\n\n\n\nイベント名\n水辺の生きもの観察会 ～水辺のすみかでともだちを見つけよう！～\n\n\n開催日\n2026年5月31日（日）\n\n\n時間\n①10:00～12:30 ②13:30～16:00\n\n\n会場\n和泉川・二ツ橋水辺公園（横浜市瀬谷区）\n\n\nアクセス\n相鉄本線「三ツ境駅」徒歩約10～15分\n\n\n参加費\n1組1\,000円（現金）\n\n\n定員\n各回45人（15組）×2回\n\n\n対象\n小学生以上の子ども＋保護者\n\n\n参加方法\n事前申込（抽選）\n\n\n\n\n\n\n\n体験内容\n\n\n\n\n生きもの採集（講師デモあり）\n\n\n\n生きもの観察（特徴や生態の解説）\n\n\n\nスケッチ・ぬり絵体験\n\n\n\n共有会（観察内容の発表）\n\n\n\n\n関連リンク\n\n\n\n・SOTETSU PARK特設サイト　https://sotetsu-expo2027.com
URL:https://futureearth.jp/event/mizube-ikimono-kansatsukai-20260531/
LOCATION:和泉川・二ツ橋水辺公園\, 神奈川県横浜市瀬谷区宮沢１丁目１−１８
CATEGORIES:子ども向け・親子向けイベント
ATTACH;FMTTYPE=image/jpeg:https://futureearth.jp/wp-content/uploads/2026/02/r26-32-ph01-1.jpg
END:VEVENT
BEGIN:VEVENT
DTSTART;TZID=Asia/Tokyo:20260602T075000
DTEND;TZID=Asia/Tokyo:20260602T174000
DTSTAMP:20260419T235454
CREATED:20260416T132526Z
LAST-MODIFIED:20260416T132817Z
UID:10282-1780386600-1780422000@futureearth.jp
SUMMARY:【GREEN×EXPO 2027連携イベント】～水道水の道のりをたどる～水道施設見学バスツアー
DESCRIPTION:【GREEN×EXPO 2027連携イベント】～水道水の道のりをたどる～水道施設見学バスツアー\n\n\n\n　2026年6月、水道週間にあわせて開催される特別企画「水道施設見学バスツアー」。2027年に開催される「GREEN×EXPO 2027」の会場にもつながる水のルートを、実際にたどる体験型イベントです。 \n\n\n\n　ツアーでは、神奈川県の水道水の源流である山梨県道志村を訪問。良質な水を支える「水源林」の役割を学び、その後、横浜の水道インフラを支える施設を巡ります。普段はなかなか入ることのできない施設を見学できる、貴重な機会となっています。 \n\n\n\n水道施設見学バスツアー｜横浜市　より\n\n\n\n開催概要\n\n\n\n項目内容イベント名【GREEN×EXPO 2027連携イベント】～水道水の道のりをたどる～水道施設見学バスツアー開催日2026年6月2日(火)　7:50～17:40開催場所山梨県道志村（水源林管理所、道の駅どうし）、青山沈でん池、川井浄水場参加方法事前申込制申込フォーム（横浜市電子申請システム）定員約40名（応募多数の場合は抽選）申込期間2026年4月17日(金)～5月18日(月)当落連絡2026年5月20日(水)までにメール連絡費用無料対象小学生以上（※小学生は保護者同伴）主催横浜市水道局後援公益社団法人2027年国際園芸博覧会協会注意事項昼食は各自持参\n\n\n\nイベントチラシ（PDF：1\,172KB）
URL:https://futureearth.jp/event/green-expo2027-water-tour-20260602/
LOCATION:山梨県道志村（水源林管理所、道の駅どうし）、青山沈でん池、川井浄水場\, 山梨県南都留郡道志村東神地９０２０
CATEGORIES:子ども向け・親子向けイベント,横浜イベント
ATTACH;FMTTYPE=image/png:https://futureearth.jp/wp-content/uploads/2026/04/0001_20260401.png
END:VEVENT
BEGIN:VEVENT
DTSTART;TZID=Asia/Tokyo:20260606T093000
DTEND;TZID=Asia/Tokyo:20260614T170000
DTSTAMP:20260419T235454
CREATED:20260311T084851Z
LAST-MODIFIED:20260311T084851Z
UID:8182-1780738200-1781456400@futureearth.jp
SUMMARY:横浜山手西洋館「第24回特別展 花と器のハーモニー2026」GREEN×EXPO2027連携
DESCRIPTION:第24回特別展 花と器のハーモニー2026～いけばな七流派の家元が彩る洋空間Ⅱ～\n \n\n横浜山手西洋館7館を舞台に、花とテーブルウェアで洋館空間を彩る人気イベント「花と器のハーモニー」。第24回となる2026年は、2023年に続く「いけばな」装飾の第2弾。世界で活躍する華道七流派の家元が、和と洋が融合する空間美を演出します。\n\n \n\n本イベントは 2027年国際園芸博覧会（GREEN×EXPO 2027）連携イベント として開催されます。\n\n \n開催概要\n \n\n\n\n\n項目\n内容\n\n\n\n\nイベント名\n第24回特別展 花と器のハーモニー2026\n\n\n開催期間\n2026年6月6日（土）〜6月14日（日）\n\n\n時間\n9:30〜17:00\n\n\n会場\n横浜山手西洋館7館（外交官の家、ブラフ18番館、ベーリック・ホール、エリスマン邸、山手234番館、横浜市イギリス館、山手111番館）\n\n\n\n\n \n装飾者（いけばな七流派）\n \n\n\n\n\n横浜山手西洋館\n流派\n装飾者\n\n\n\n\n外交官の家\nいけばな嵯峨御流 特別華務職\n辻井 ミカ\n\n\nブラフ18番館\nいけばな松風 家元\n塚越 応駿\n\n\nベーリック・ホール\n小原流 家元\n小原 宏貴\n\n\nエリスマン邸\n古流松應会 家元\n千羽 理芳\n\n\n山手234番館\n一葉式いけ花 家元\n粕谷 尚弘\n\n\n横浜市イギリス館\n華道家元池坊 次期家元\n池坊 専好\n\n\n山手111番館\n未生流 家元\n肥原 慶甫\n\n\n\n\n \n注意事項\n \n\n撮影について\n\n \n\n 	館内撮影は 携帯電話・タブレットによる写真のみ可能\n \n 	カメラ撮影は 別途有料の撮影日を設定\n\n \n\n靴棚について\n\n \n\n 	靴の履き違い防止のため 靴棚使用中止（イギリス館除く）\n \n 	ビニール袋に入れて館内へ持ち込み\n \n 	室内履き持参推奨
URL:https://futureearth.jp/event/hana-to-utsuwa-harmony-2026-yamate/
LOCATION:横浜山手西洋館\, 神奈川県横浜市中区山手町１６−１６
CATEGORIES:花き園芸・造園・農関連
ATTACH;FMTTYPE=image/jpeg:https://futureearth.jp/wp-content/uploads/2026/03/bnr_1080-683px-thumb-1080x684-243463.jpg
END:VEVENT
BEGIN:VEVENT
DTSTART;TZID=Asia/Tokyo:20260607T053000
DTEND;TZID=Asia/Tokyo:20260607T200000
DTSTAMP:20260419T235454
CREATED:20260318T061333Z
LAST-MODIFIED:20260318T061333Z
UID:8580-1780810200-1780862400@futureearth.jp
SUMMARY:夜のホタル観察会開催｜相鉄×GREEN×EXPOプレイベント（横浜・旭）
DESCRIPTION:夜のホタル観察会開催｜相鉄×GREEN×EXPOプレイベント（横浜・旭）\n \n\nGREEN×EXPO 2027に向けたプレイベントとして、相鉄グループによる「夜のホタル観察会」が2026年6月7日に開催されます。ホタルの光の仕組みを学びながら、幻想的な自然体験ができる貴重な機会です。\n\n \nイベント概要\n \n\n\n\n\n項目\n内容\n\n\n\n\nイベント名\n夜のホタル観察会 ～ホタルの光のひみつを見つけにいこう！～\n\n\n開催日\n2026年6月7日（日）\n\n\n時間\n17:30～20:00\n\n\n会場\nこども自然公園（横浜市旭区）\n\n\n受付\nレストハウス\n\n\nアクセス\n相鉄本線「二俣川駅」徒歩約15～20分\n\n\n参加費\n1組1\,000円（現金）\n\n\n定員\n最大50人\n\n\n対象\n小学生以上の子ども＋保護者\n\n\n参加方法\n事前申込（抽選）\n\n\n\n\n \n体験内容\n \n\n 	ホタルの基礎学習（光の仕組み）\n \n 	ワークショップ（内容調整中）\n \n 	ホタル観察（屋外）\n\n \n関連リンク\n \n\n・SOTETSU PARK特設サイト　https://sotetsu-expo2027.com
URL:https://futureearth.jp/event/hotaru-kansatsukai-20260607/
LOCATION:こども自然公園\, 神奈川県横浜市旭区大池町６５−１
CATEGORIES:子ども向け・親子向けイベント
ATTACH;FMTTYPE=image/jpeg:https://futureearth.jp/wp-content/uploads/2026/02/r26-32-ph01-1.jpg
END:VEVENT
BEGIN:VEVENT
DTSTART;TZID=Asia/Tokyo:20260613T193000
DTEND;TZID=Asia/Tokyo:20260613T193500
DTSTAMP:20260419T235454
CREATED:20260327T024145Z
LAST-MODIFIED:20260327T024451Z
UID:9312-1781379000-1781379300@futureearth.jp
SUMMARY:YOKOHAMA NIGHT FLOWERS × GREEN×EXPO 2027
DESCRIPTION:花と緑をテーマに横浜の夜空を彩る花火連携キャンペーン\n\n\n\n2027年国際園芸博覧会（GREEN×EXPO 2027）の開幕500日前となる2025年11月4日（火）を契機に、横浜ナイトフラワーズが連携キャンペーンを開始しています。 \n\n\n\n\n\n\n\nキャンペーン概要\n\n\n\nキャンペーン名称は 「YOKOHAMA NIGHT FLOWERS × GREEN×EXPO 2027」。 \n\n\n\nこの期間中（2025年11月8日〜2027年9月26日）、花火打上げ日は、GREEN×EXPO 2027をイメージし、花と緑をテーマとした演出を中心に展開。都市と自然が調和する横浜の魅力を夜空に映し出します。 \n\n\n\n開催概要\n\n\n\n\n\n\n\n項目\n内容\n\n\n\n\n期間\n2025年11月8日（土）～ 2027年9月26日（日）\n\n\nテーマ\n花と緑（GREEN×EXPO 2027をイメージ）\n\n\n内容\n特別テーマ花火の打上げ\n\n\n主催\n横浜ナイトフラワーズ実行委員会 （横浜市／横浜商工会議所／横浜港振興協会／横浜市観光協会）\n\n\n最新情報\n横浜ナイトフラワーズ公式HP\n\n\n\n\n\n\n\n※日時・詳細は随時更新されるため、公式サイトで最新情報をご確認ください。 \n\n\n\n横浜ナイトフラワーズ（2026年）スケジュール\n\n\n\n\n\n\n\n開催日\n時間\n打ち上げ場所\n当日イベント\n\n\n\n\n4月4日（土）\n19:00〜19:05\n大さん橋\nCENTRAL × LIVE！横浜 / BAY WALK KITCHEN\n\n\n4月5日（日）\n19:00〜19:05\n新港ふ頭\nCENTRAL × LIVE！横浜 / BAY WALK KITCHEN\n\n\n4月11日（土）\n19:00〜19:05\n大さん橋\n劇場版『名探偵コナン ハイウェイの堕天使』×横浜市\n\n\n4月27日（月）\n19:00〜19:05\n新港ふ頭\n東方神起×横浜 RED OCEANキャンペーン\n\n\n5月16日（土）\n19:00〜19:05\n大さん橋\n―\n\n\n5月30日（土）\n19:00〜19:05\n大さん橋\n―\n\n\n6月13日（土）\n19:30〜19:35\n新港ふ頭\n―\n\n\n7月4日（土）\n19:30〜19:35\n新港ふ頭\n―\n\n\n7月18日（土）\n19:30〜19:35\n新港ふ頭\n―\n\n\n8月9日（日）\n19:30〜19:35\n新港ふ頭\n―\n\n\n9月5日（土）\n19:00〜19:05\n新港ふ頭\n―\n\n\n9月20日（日）\n19:00〜19:05\n大さん橋\n―
URL:https://futureearth.jp/event/yokohama-night-flowers-x-greenxexpo-2027-6/
LOCATION:新港ふ頭\, 神奈川県横浜市中区新港2丁目14番1
CATEGORIES:GREEN×EXPO2027
END:VEVENT
BEGIN:VEVENT
DTSTART;TZID=Asia/Tokyo:20260619T000000
DTEND;TZID=Asia/Tokyo:20260620T235959
DTSTAMP:20260419T235454
CREATED:20260419T111855Z
LAST-MODIFIED:20260419T112144Z
UID:10370-1781827200-1781999999@futureearth.jp
SUMMARY:FLOWER Fes 2026
DESCRIPTION:FLOWER Fes 2026\n\n\n\n　横濱花博連絡協議会は、横浜園芸博開催予定地である旧上瀬谷通信施設跡地にて、FLOWER Fes 2026（フラワーフェス2026）を2026年6月19日(土)・20日(日)に開催します。 \n\n\n\n横濱花博連絡協議会とは\n\n\n\n　横濱花博連絡協議会は、GREEN×EXPO 2027を地域から盛り上げる民間企業などによる団体です。横浜園芸博に花・緑出展することが決定しており、三ツ境駅前の花壇整備のほか、2023年から毎年旧上瀬谷通信施設跡地会場にて、「Flower Fes」を開催しています。 \n\n\n\n開催概要\n\n\n\n名称FLOWER Fes 2026（フラワーフェス2026）日時2026年6月19日(土)・20日(日)場所旧上瀬谷通信施設跡地（GREEN×EXPO 2027開催予定地）主催横濱花博連絡協議会共催公益財団法人２０２７年国際園芸博覧会協会（予定）\n\n\n\n2025年の様子\n\n\n\n　2025年3月22日（土）・23日（日）の2日間、「FLOWER Fes 2025」が旧上瀬谷通信施設跡地（GREEN×EXPO 2027開催予定地）で開催されました。 \n\n\n\nFlower Fes 2025　より\n\n\n\n　会場では、地域の高校生や公募団体によるステージパフォーマンスをはじめ、「ブンブン音頭」をみんなで踊る参加型企画、絵画コンテスト受賞者の表彰式など、多彩なプログラムが展開されます。さらに、キッチンカーや屋台、各種ブースの出店に加え、フラワーアレンジメントやキッズスポーツの無料体験も実施され、子どもから大人まで楽しめる内容となりました。 \n\n\n\n　23日（日）には、来場者先着2027名への花のプレゼントや、会場内スタンプラリーも行われるほか、シンガーのクリス・ハートによるスペシャルライブ（18:30～）、打ち上げ花火（19:00～）も予定されており、イベントを華やかに締めくくりました。 \n\n\n\n会場への無料送迎バスも\n\n\n\n　なお、会場へは相鉄瀬谷駅北口バスターミナルから無料送迎バスが運行されました。
URL:https://futureearth.jp/event/flower-fes-2026/
LOCATION:旧上瀬谷通信施設跡地（GREEN×EXPO 2027開催予定地）\, 神奈川県横浜市瀬谷区瀬谷町２４６
CATEGORIES:GREEN×EXPO2027
ATTACH;FMTTYPE=image/jpeg:https://futureearth.jp/wp-content/uploads/2026/04/FLOWER-Fes-2026.jpg
END:VEVENT
BEGIN:VEVENT
DTSTART;TZID=Asia/Tokyo:20260704T193000
DTEND;TZID=Asia/Tokyo:20260704T193500
DTSTAMP:20260419T235454
CREATED:20260327T024235Z
LAST-MODIFIED:20260327T024424Z
UID:9324-1783193400-1783193700@futureearth.jp
SUMMARY:YOKOHAMA NIGHT FLOWERS × GREEN×EXPO 2027
DESCRIPTION:花と緑をテーマに横浜の夜空を彩る花火連携キャンペーン\n\n\n\n2027年国際園芸博覧会（GREEN×EXPO 2027）の開幕500日前となる2025年11月4日（火）を契機に、横浜ナイトフラワーズが連携キャンペーンを開始しています。 \n\n\n\n\n\n\n\nキャンペーン概要\n\n\n\nキャンペーン名称は 「YOKOHAMA NIGHT FLOWERS × GREEN×EXPO 2027」。 \n\n\n\nこの期間中（2025年11月8日〜2027年9月26日）、花火打上げ日は、GREEN×EXPO 2027をイメージし、花と緑をテーマとした演出を中心に展開。都市と自然が調和する横浜の魅力を夜空に映し出します。 \n\n\n\n開催概要\n\n\n\n\n\n\n\n項目\n内容\n\n\n\n\n期間\n2025年11月8日（土）～ 2027年9月26日（日）\n\n\nテーマ\n花と緑（GREEN×EXPO 2027をイメージ）\n\n\n内容\n特別テーマ花火の打上げ\n\n\n主催\n横浜ナイトフラワーズ実行委員会 （横浜市／横浜商工会議所／横浜港振興協会／横浜市観光協会）\n\n\n最新情報\n横浜ナイトフラワーズ公式HP\n\n\n\n\n\n\n\n※日時・詳細は随時更新されるため、公式サイトで最新情報をご確認ください。 \n\n\n\n横浜ナイトフラワーズ（2026年）スケジュール\n\n\n\n\n\n\n\n開催日\n時間\n打ち上げ場所\n当日イベント\n\n\n\n\n4月4日（土）\n19:00〜19:05\n大さん橋\nCENTRAL × LIVE！横浜 / BAY WALK KITCHEN\n\n\n4月5日（日）\n19:00〜19:05\n新港ふ頭\nCENTRAL × LIVE！横浜 / BAY WALK KITCHEN\n\n\n4月11日（土）\n19:00〜19:05\n大さん橋\n劇場版『名探偵コナン ハイウェイの堕天使』×横浜市\n\n\n4月27日（月）\n19:00〜19:05\n新港ふ頭\n東方神起×横浜 RED OCEANキャンペーン\n\n\n5月16日（土）\n19:00〜19:05\n大さん橋\n―\n\n\n5月30日（土）\n19:00〜19:05\n大さん橋\n―\n\n\n6月13日（土）\n19:30〜19:35\n新港ふ頭\n―\n\n\n7月4日（土）\n19:30〜19:35\n新港ふ頭\n―\n\n\n7月18日（土）\n19:30〜19:35\n新港ふ頭\n―\n\n\n8月9日（日）\n19:30〜19:35\n新港ふ頭\n―\n\n\n9月5日（土）\n19:00〜19:05\n新港ふ頭\n―\n\n\n9月20日（日）\n19:00〜19:05\n大さん橋\n―
URL:https://futureearth.jp/event/yokohama-night-flowers-x-greenxexpo-2027-11/
LOCATION:新港ふ頭\, 神奈川県横浜市中区新港2丁目14番1
CATEGORIES:GREEN×EXPO2027
END:VEVENT
BEGIN:VEVENT
DTSTART;TZID=Asia/Tokyo:20260718T193000
DTEND;TZID=Asia/Tokyo:20260718T193500
DTSTAMP:20260419T235454
CREATED:20260327T024315Z
LAST-MODIFIED:20260327T024505Z
UID:9310-1784403000-1784403300@futureearth.jp
SUMMARY:YOKOHAMA NIGHT FLOWERS × GREEN×EXPO 2027
DESCRIPTION:花と緑をテーマに横浜の夜空を彩る花火連携キャンペーン\n\n\n\n2027年国際園芸博覧会（GREEN×EXPO 2027）の開幕500日前となる2025年11月4日（火）を契機に、横浜ナイトフラワーズが連携キャンペーンを開始しています。 \n\n\n\n\n\n\n\nキャンペーン概要\n\n\n\nキャンペーン名称は 「YOKOHAMA NIGHT FLOWERS × GREEN×EXPO 2027」。 \n\n\n\nこの期間中（2025年11月8日〜2027年9月26日）、花火打上げ日は、GREEN×EXPO 2027をイメージし、花と緑をテーマとした演出を中心に展開。都市と自然が調和する横浜の魅力を夜空に映し出します。 \n\n\n\n開催概要\n\n\n\n\n\n\n\n項目\n内容\n\n\n\n\n期間\n2025年11月8日（土）～ 2027年9月26日（日）\n\n\nテーマ\n花と緑（GREEN×EXPO 2027をイメージ）\n\n\n内容\n特別テーマ花火の打上げ\n\n\n主催\n横浜ナイトフラワーズ実行委員会 （横浜市／横浜商工会議所／横浜港振興協会／横浜市観光協会）\n\n\n最新情報\n横浜ナイトフラワーズ公式HP\n\n\n\n\n\n\n\n※日時・詳細は随時更新されるため、公式サイトで最新情報をご確認ください。 \n\n\n\n横浜ナイトフラワーズ（2026年）スケジュール\n\n\n\n\n\n\n\n開催日\n時間\n打ち上げ場所\n当日イベント\n\n\n\n\n4月4日（土）\n19:00〜19:05\n大さん橋\nCENTRAL × LIVE！横浜 / BAY WALK KITCHEN\n\n\n4月5日（日）\n19:00〜19:05\n新港ふ頭\nCENTRAL × LIVE！横浜 / BAY WALK KITCHEN\n\n\n4月11日（土）\n19:00〜19:05\n大さん橋\n劇場版『名探偵コナン ハイウェイの堕天使』×横浜市\n\n\n4月27日（月）\n19:00〜19:05\n新港ふ頭\n東方神起×横浜 RED OCEANキャンペーン\n\n\n5月16日（土）\n19:00〜19:05\n大さん橋\n―\n\n\n5月30日（土）\n19:00〜19:05\n大さん橋\n―\n\n\n6月13日（土）\n19:30〜19:35\n新港ふ頭\n―\n\n\n7月4日（土）\n19:30〜19:35\n新港ふ頭\n―\n\n\n7月18日（土）\n19:30〜19:35\n新港ふ頭\n―\n\n\n8月9日（日）\n19:30〜19:35\n新港ふ頭\n―\n\n\n9月5日（土）\n19:00〜19:05\n新港ふ頭\n―\n\n\n9月20日（日）\n19:00〜19:05\n大さん橋\n―
URL:https://futureearth.jp/event/yokohama-night-flowers-x-greenxexpo-2027-5/
LOCATION:新港ふ頭\, 神奈川県横浜市中区新港2丁目14番1
CATEGORIES:GREEN×EXPO2027
END:VEVENT
BEGIN:VEVENT
DTSTART;TZID=Asia/Tokyo:20260809T193000
DTEND;TZID=Asia/Tokyo:20260809T193500
DTSTAMP:20260419T235454
CREATED:20260327T024405Z
LAST-MODIFIED:20260327T024405Z
UID:9314-1786303800-1786304100@futureearth.jp
SUMMARY:YOKOHAMA NIGHT FLOWERS × GREEN×EXPO 2027
DESCRIPTION:花と緑をテーマに横浜の夜空を彩る花火連携キャンペーン\n\n\n\n2027年国際園芸博覧会（GREEN×EXPO 2027）の開幕500日前となる2025年11月4日（火）を契機に、横浜ナイトフラワーズが連携キャンペーンを開始しています。 \n\n\n\n\n\n\n\nキャンペーン概要\n\n\n\nキャンペーン名称は 「YOKOHAMA NIGHT FLOWERS × GREEN×EXPO 2027」。 \n\n\n\nこの期間中（2025年11月8日〜2027年9月26日）、花火打上げ日は、GREEN×EXPO 2027をイメージし、花と緑をテーマとした演出を中心に展開。都市と自然が調和する横浜の魅力を夜空に映し出します。 \n\n\n\n開催概要\n\n\n\n\n\n\n\n項目\n内容\n\n\n\n\n期間\n2025年11月8日（土）～ 2027年9月26日（日）\n\n\nテーマ\n花と緑（GREEN×EXPO 2027をイメージ）\n\n\n内容\n特別テーマ花火の打上げ\n\n\n主催\n横浜ナイトフラワーズ実行委員会 （横浜市／横浜商工会議所／横浜港振興協会／横浜市観光協会）\n\n\n最新情報\n横浜ナイトフラワーズ公式HP\n\n\n\n\n\n\n\n※日時・詳細は随時更新されるため、公式サイトで最新情報をご確認ください。 \n\n\n\n横浜ナイトフラワーズ（2026年）スケジュール\n\n\n\n\n\n\n\n開催日\n時間\n打ち上げ場所\n当日イベント\n\n\n\n\n4月4日（土）\n19:00〜19:05\n大さん橋\nCENTRAL × LIVE！横浜 / BAY WALK KITCHEN\n\n\n4月5日（日）\n19:00〜19:05\n新港ふ頭\nCENTRAL × LIVE！横浜 / BAY WALK KITCHEN\n\n\n4月11日（土）\n19:00〜19:05\n大さん橋\n劇場版『名探偵コナン ハイウェイの堕天使』×横浜市\n\n\n4月27日（月）\n19:00〜19:05\n新港ふ頭\n東方神起×横浜 RED OCEANキャンペーン\n\n\n5月16日（土）\n19:00〜19:05\n大さん橋\n―\n\n\n5月30日（土）\n19:00〜19:05\n大さん橋\n―\n\n\n6月13日（土）\n19:30〜19:35\n新港ふ頭\n―\n\n\n7月4日（土）\n19:30〜19:35\n新港ふ頭\n―\n\n\n7月18日（土）\n19:30〜19:35\n新港ふ頭\n―\n\n\n8月9日（日）\n19:30〜19:35\n新港ふ頭\n―\n\n\n9月5日（土）\n19:00〜19:05\n新港ふ頭\n―\n\n\n9月20日（日）\n19:00〜19:05\n大さん橋\n―
URL:https://futureearth.jp/event/yokohama-night-flowers-x-greenxexpo-2027-7/
LOCATION:新港ふ頭\, 神奈川県横浜市中区新港2丁目14番1
CATEGORIES:GREEN×EXPO2027
END:VEVENT
BEGIN:VEVENT
DTSTART;TZID=Asia/Tokyo:20260905T190000
DTEND;TZID=Asia/Tokyo:20260905T190500
DTSTAMP:20260419T235454
CREATED:20260327T024619Z
LAST-MODIFIED:20260327T024619Z
UID:9316-1788634800-1788635100@futureearth.jp
SUMMARY:YOKOHAMA NIGHT FLOWERS × GREEN×EXPO 2027
DESCRIPTION:花と緑をテーマに横浜の夜空を彩る花火連携キャンペーン\n\n\n\n2027年国際園芸博覧会（GREEN×EXPO 2027）の開幕500日前となる2025年11月4日（火）を契機に、横浜ナイトフラワーズが連携キャンペーンを開始しています。 \n\n\n\n\n\n\n\nキャンペーン概要\n\n\n\nキャンペーン名称は 「YOKOHAMA NIGHT FLOWERS × GREEN×EXPO 2027」。 \n\n\n\nこの期間中（2025年11月8日〜2027年9月26日）、花火打上げ日は、GREEN×EXPO 2027をイメージし、花と緑をテーマとした演出を中心に展開。都市と自然が調和する横浜の魅力を夜空に映し出します。 \n\n\n\n開催概要\n\n\n\n\n\n\n\n項目\n内容\n\n\n\n\n期間\n2025年11月8日（土）～ 2027年9月26日（日）\n\n\nテーマ\n花と緑（GREEN×EXPO 2027をイメージ）\n\n\n内容\n特別テーマ花火の打上げ\n\n\n主催\n横浜ナイトフラワーズ実行委員会 （横浜市／横浜商工会議所／横浜港振興協会／横浜市観光協会）\n\n\n最新情報\n横浜ナイトフラワーズ公式HP\n\n\n\n\n\n\n\n※日時・詳細は随時更新されるため、公式サイトで最新情報をご確認ください。 \n\n\n\n横浜ナイトフラワーズ（2026年）スケジュール\n\n\n\n\n\n\n\n開催日\n時間\n打ち上げ場所\n当日イベント\n\n\n\n\n4月4日（土）\n19:00〜19:05\n大さん橋\nCENTRAL × LIVE！横浜 / BAY WALK KITCHEN\n\n\n4月5日（日）\n19:00〜19:05\n新港ふ頭\nCENTRAL × LIVE！横浜 / BAY WALK KITCHEN\n\n\n4月11日（土）\n19:00〜19:05\n大さん橋\n劇場版『名探偵コナン ハイウェイの堕天使』×横浜市\n\n\n4月27日（月）\n19:00〜19:05\n新港ふ頭\n東方神起×横浜 RED OCEANキャンペーン\n\n\n5月16日（土）\n19:00〜19:05\n大さん橋\n―\n\n\n5月30日（土）\n19:00〜19:05\n大さん橋\n―\n\n\n6月13日（土）\n19:30〜19:35\n新港ふ頭\n―\n\n\n7月4日（土）\n19:30〜19:35\n新港ふ頭\n―\n\n\n7月18日（土）\n19:30〜19:35\n新港ふ頭\n―\n\n\n8月9日（日）\n19:30〜19:35\n新港ふ頭\n―\n\n\n9月5日（土）\n19:00〜19:05\n新港ふ頭\n―\n\n\n9月20日（日）\n19:00〜19:05\n大さん橋\n―
URL:https://futureearth.jp/event/yokohama-night-flowers-x-greenxexpo-2027-8/
LOCATION:新港ふ頭\, 神奈川県横浜市中区新港2丁目14番1
CATEGORIES:GREEN×EXPO2027
END:VEVENT
BEGIN:VEVENT
DTSTART;VALUE=DATE:20260919
DTEND;VALUE=DATE:20260920
DTSTAMP:20260419T235454
CREATED:20260303T024149Z
LAST-MODIFIED:20260303T024449Z
UID:7830-1789776000-1789862399@futureearth.jp
SUMMARY:開催半年前発表会｜GREEN×EXPO2027
DESCRIPTION:　横浜市は、2026年9月19日(土)前後に、GREEN×EXPO2027 開幕半年前発表会を計画しています。
URL:https://futureearth.jp/event/six-months-to-go/
CATEGORIES:横浜イベント
ATTACH;FMTTYPE=image/jpeg:https://futureearth.jp/wp-content/uploads/2025/11/IMG_3144.jpeg
END:VEVENT
BEGIN:VEVENT
DTSTART;TZID=Asia/Tokyo:20260920T190000
DTEND;TZID=Asia/Tokyo:20260920T190500
DTSTAMP:20260419T235454
CREATED:20260327T024709Z
LAST-MODIFIED:20260327T024709Z
UID:9293-1789930800-1789931100@futureearth.jp
SUMMARY:YOKOHAMA NIGHT FLOWERS × GREEN×EXPO 2027
DESCRIPTION:花と緑をテーマに横浜の夜空を彩る花火連携キャンペーン\n\n\n\n2027年国際園芸博覧会（GREEN×EXPO 2027）の開幕500日前となる2025年11月4日（火）を契機に、横浜ナイトフラワーズが連携キャンペーンを開始しています。 \n\n\n\n\n\n\n\nキャンペーン概要\n\n\n\nキャンペーン名称は 「YOKOHAMA NIGHT FLOWERS × GREEN×EXPO 2027」。 \n\n\n\nこの期間中（2025年11月8日〜2027年9月26日）、花火打上げ日は、GREEN×EXPO 2027をイメージし、花と緑をテーマとした演出を中心に展開。都市と自然が調和する横浜の魅力を夜空に映し出します。 \n\n\n\n開催概要\n\n\n\n\n\n\n\n項目\n内容\n\n\n\n\n期間\n2025年11月8日（土）～ 2027年9月26日（日）\n\n\nテーマ\n花と緑（GREEN×EXPO 2027をイメージ）\n\n\n内容\n特別テーマ花火の打上げ\n\n\n主催\n横浜ナイトフラワーズ実行委員会 （横浜市／横浜商工会議所／横浜港振興協会／横浜市観光協会）\n\n\n最新情報\n横浜ナイトフラワーズ公式HP\n\n\n\n\n\n\n\n※日時・詳細は随時更新されるため、公式サイトで最新情報をご確認ください。 \n\n\n\n横浜ナイトフラワーズ（2026年）スケジュール\n\n\n\n\n\n\n\n開催日\n時間\n打ち上げ場所\n当日イベント\n\n\n\n\n4月4日（土）\n19:00〜19:05\n大さん橋\nCENTRAL × LIVE！横浜 / BAY WALK KITCHEN\n\n\n4月5日（日）\n19:00〜19:05\n新港ふ頭\nCENTRAL × LIVE！横浜 / BAY WALK KITCHEN\n\n\n4月11日（土）\n19:00〜19:05\n大さん橋\n劇場版『名探偵コナン ハイウェイの堕天使』×横浜市\n\n\n4月27日（月）\n19:00〜19:05\n新港ふ頭\n東方神起×横浜 RED OCEANキャンペーン\n\n\n5月16日（土）\n19:00〜19:05\n大さん橋\n―\n\n\n5月30日（土）\n19:00〜19:05\n大さん橋\n―\n\n\n6月13日（土）\n19:30〜19:35\n新港ふ頭\n―\n\n\n7月4日（土）\n19:30〜19:35\n新港ふ頭\n―\n\n\n7月18日（土）\n19:30〜19:35\n新港ふ頭\n―\n\n\n8月9日（日）\n19:30〜19:35\n新港ふ頭\n―\n\n\n9月5日（土）\n19:00〜19:05\n新港ふ頭\n―\n\n\n9月20日（日）\n19:00〜19:05\n大さん橋\n―
URL:https://futureearth.jp/event/yokohama-night-flowers-x-greenxexpo-2027-3/
LOCATION:大さん橋\, 横浜市中区海岸通1-1-4
CATEGORIES:GREEN×EXPO2027
END:VEVENT
BEGIN:VEVENT
DTSTART;VALUE=DATE:20261209
DTEND;VALUE=DATE:20261210
DTSTAMP:20260419T235454
CREATED:20260202T015053Z
LAST-MODIFIED:20260303T024425Z
UID:6579-1796774400-1796860799@futureearth.jp
SUMMARY:開幕100日前｜GREEN×EXPO2027
DESCRIPTION:2026年12月9日(水)、GREEN×EXPO2027（2027年国際園芸博覧会）は開幕100日前を迎えます。
URL:https://futureearth.jp/event/100daystogo/
CATEGORIES:GREEN×EXPO2027
END:VEVENT
BEGIN:VEVENT
DTSTART;VALUE=DATE:20261209
DTEND;VALUE=DATE:20261210
DTSTAMP:20260419T235454
CREATED:20260303T024412Z
LAST-MODIFIED:20260303T024412Z
UID:7832-1796774400-1796860799@futureearth.jp
SUMMARY:開幕100日前発表会｜GREEN×EXPO2027
DESCRIPTION:横浜市は、2026年12月9日(水)前後に、GREEN×EXPO2027 開幕100日前発表会を計画しています。
URL:https://futureearth.jp/event/100daystogo-yokohama/
CATEGORIES:横浜イベント
ATTACH;FMTTYPE=image/jpeg:https://futureearth.jp/wp-content/uploads/2025/11/IMG_3144.jpeg
END:VEVENT
BEGIN:VEVENT
DTSTART;VALUE=DATE:20270312
DTEND;VALUE=DATE:20270313
DTSTAMP:20260419T235454
CREATED:20260303T015207Z
LAST-MODIFIED:20260303T015207Z
UID:7822-1804809600-1804895999@futureearth.jp
SUMMARY:記念切手「２０２７年国際園芸博覧会」発売
DESCRIPTION:日本郵便株式会社は２０２７年国際園芸博覧会に関する記念特殊切手の発売を、2026年5月19日と2027年3月12日に予定しています。\n\n \n\n\n\n\n発売日\n切手名\n\n\n\n\n2026年5月19日（火）\n「２０２７年国際園芸博覧会（寄付金付）」\n\n\n2027年3月12日（金）\n「２０２７年国際園芸博覧会」\n\n\n\n\n \n\n開催前年には寄付金付切手、そして開幕直前には公式記念切手が登場予定。開催機運の高まりとともに、コレクション性もさらに注目されそうです。
URL:https://futureearth.jp/event/stamp20270312/
CATEGORIES:グッズ
END:VEVENT
BEGIN:VEVENT
DTSTART;VALUE=DATE:20270319
DTEND;VALUE=DATE:20270320
DTSTAMP:20260419T235454
CREATED:20260303T135615Z
LAST-MODIFIED:20260406T125407Z
UID:7859-1805414400-1805500799@futureearth.jp
SUMMARY:ブルーインパルス展示飛行｜GREEN×EXPO 2027開幕
DESCRIPTION:2027年国際園芸博覧会（GREEN×EXPO 2027）開幕日にブルーインパルス展示飛行へ\n\n\n\n2027年3月19日（金）、神奈川県横浜市で開幕する2027年国際園芸博覧会（GREEN×EXPO2027）初日に、航空自衛隊アクロバットチームブルーインパルスの展示飛行が予定されています。 \n\n\n\n万博との共通点：開幕を空から祝う\n\n\n\n大阪・関西万博では、開幕日（2025年4月13日）正午頃に会場上空で展示飛行予定で、大阪府内では「花の万博」以来35年ぶりという“万博とブルーインパルス”の象徴的な演出が企画されました。 （※なお初日は悪天候により中止、その後7月12日（土）・13日（日）に再飛行を実施） \n\n\n\n\n開幕初日の4月13日会場上空でブルーインパルスが展示飛行を実施～大阪府内を飛行するのは35年ぶり～｜大阪・関西万博公式サイト　より\n\n\n\n\nさらに、自衛隊音楽隊も開会式・テープカットで演奏を実施。つまり国家的イベントの開幕を「空」と「音」で祝う構図が確立されていると言えます。 \n\n\n\nブルーインパルスとは\n\n\n\n正式名称：航空自衛隊 第4航空団 第11飛行隊（松島基地） \n\n\n\n\n青と白の機体\n\n\n\n6機編隊によるアクロバット飛行\n\n\n\nハートやスタークロスなどの演目\n\n\n\n\n1970年大阪万博、1990年大阪花博、2025年大阪・関西万博、そして2027年横浜園芸博へ――“万博の空”を彩る存在としての系譜が続いています。 \n\n\n\n\n開幕初日の4月13日会場上空でブルーインパルスが展示飛行を実施～大阪府内を飛行するのは35年ぶり～｜大阪・関西万博公式サイト　より\n\n\n\n\nブルーインパルス 飛行予定一覧（2026–2027）\n\n\n\n\n\n\n\n開催日\nイベント名\n開催地\n\n\n2026/3/15\n第９回いしのまき復興マラソン\n宮城県石巻市\n\n\n2026/4/11\n熊本地震10年復興イベント\n熊本県熊本市\n\n\n2026/4/19\n中越大震災復興記念祭\n新潟県小千谷市\n\n\n2026/5/24\n令和8年度美保基地航空祭\n美保基地（鳥取県）\n\n\n2026/5/31\n上富良野駐屯地創立71周年記念行事\n上富良野駐屯地（北海道）\n\n\n2026/6/7\n令和8年度防府航空祭～幸せます防府～\n防府北基地（山口県）\n\n\n2026/6/28\n輪島分屯基地開庁70周年記念行事\n輪島分屯基地（石川県）\n\n\n2026/7/19\n小松島港まつり2026\n徳島県小松島市\n\n\n2026/7/25\n青の煌めきあおもり国スポ・障スポ炬火集火式\n青森県青森市\n\n\n2026/8/1\n第103回石巻川開き祭り\n宮城県石巻市\n\n\n2026/9/6\n千歳のまちの航空祭\n千歳基地（北海道）\n\n\n2026/9/27\n令和8年度小松基地航空祭\n小松基地（石川県）\n\n\n2026/10/3\n東松島秋まつり\n宮城県東松島市\n\n\n2026/10/4\n令和8年度松島基地航空祭\n松島基地（宮城県）\n\n\n2026/10/25\nエアフェスタ浜松2026\n浜松基地（静岡県）\n\n\n2026/11/3\n入間航空祭\n入間基地（埼玉県）\n\n\n2026/11/8\n岩手県政150周年記念パレード\n岩手県陸前高田市\n\n\n2026/11/15\n令和8年度芦屋基地航空祭\n芦屋基地（福岡県）\n\n\n2026/11/22\n奈良基地開庁70周年記念行事\n奈良県\n\n\n2026/12/6\n航空自衛隊新田原基地エアフェスタ2026\n新田原基地（宮崎県）\n\n\n2026/12/20\n三重県誕生150周年記念事業\n三重県\n\n\n2027/3/7\n東京マラソン2027\n東京都\n\n\n2027/3/19\n2027年国際園芸博覧会\n神奈川県横浜市\n\n\n\n\n\n\n\n\n日程及び内容については、諸事情により変更する場合がありますので、ご了承ください。\n\n\n\n展示飛行は、天候等の理由により中止となる場合があり、延期は致しませんのでご了承ください。\n\n\n\n\n\n\n\n\n関連リンク\n\n\n\n\n航空自衛隊イベント一覧\n\n\n\n防衛省・自衛隊　大阪・関西万博特設ページ\n\n\n\n開幕初日の4月13日会場上空でブルーインパルスが展示飛行を実施～大阪府内を飛行するのは35年ぶり～｜大阪・関西万博公式サイト\nhttps://twitter.com/JASDF_PAO/status/2028704745259753702
URL:https://futureearth.jp/event/greenexpo2027-blue-impulse/
LOCATION:2027年国際園芸博覧会会場\, 神奈川県横浜市瀬谷区瀬谷町２４６
CATEGORIES:GREEN×EXPO2027
ATTACH;FMTTYPE=image/jpeg:https://futureearth.jp/wp-content/uploads/2026/03/e8917376dec925646b0b9dcb530139fb.jpg
END:VEVENT
END:VCALENDAR