BEGIN:VCALENDAR
VERSION:2.0
PRODID:-//Future Earth - ECPv6.15.20//NONSGML v1.0//EN
CALSCALE:GREGORIAN
METHOD:PUBLISH
X-ORIGINAL-URL:https://futureearth.jp
X-WR-CALDESC:Future Earth のイベント
REFRESH-INTERVAL;VALUE=DURATION:PT1H
X-Robots-Tag:noindex
X-PUBLISHED-TTL:PT1H
BEGIN:VTIMEZONE
TZID:Asia/Tokyo
BEGIN:STANDARD
TZOFFSETFROM:+0900
TZOFFSETTO:+0900
TZNAME:JST
DTSTART:20250101T000000
END:STANDARD
END:VTIMEZONE
BEGIN:VEVENT
DTSTART;VALUE=DATE:20260319
DTEND;VALUE=DATE:20260615
DTSTAMP:20260419T234740
CREATED:20260303T142443Z
LAST-MODIFIED:20260312T100017Z
UID:7870-1773878400-1781481599@futureearth.jp
SUMMARY:ガーデンネックレス横浜2026
DESCRIPTION:ガーデンネックレス横浜2026\n\n\n\n\n\n\n\n横浜市は、2026年3月19日（木）から6月14日（日）まで、横浜の街を舞台に花と緑をネックレスのようにつなぐ春の一大イベント「ガーデンネックレス横浜 2026」を開催します。 \n\n\n\n2017年から続く「ガーデンシティ横浜」推進のリーディングプロジェクトとして毎年開催されてきた本イベント。港町の景観が美しい“みなとエリア”から、約10\,000㎡の大花壇を誇る里山ガーデンまで、街全体が季節の花で彩られます。 \n\n\n\nそして、「GREEN×EXPO 2027」開催1年前の春。横浜がもっとも華やぐ季節が、いよいよやってきます。 \n\n\n\n開催概要\n\n\n\n\n\n\n\n項目\n内容\n\n\n\n\nイベント名\nガーデンネックレス横浜 2026\n\n\n開催期間\n2026年3月19日（木）～6月14日（日）\n\n\n主な会場\nみなとエリア、里山ガーデン ほか横浜市内各所\n\n\n\n\n\n\n\nみなとエリア（都心臨海部）\n\n\n\n① サクラ（3月下旬～4月上旬）\n\n\n\n約300本の桜が、横浜の春の訪れを告げます。さくら通りや汽車道、山手エリアなど、港町らしい風景とともに楽しめるのが魅力です。 \n\n\n\n② チューリップ（4月上旬～中旬）\n\n\n\n約70種・10万本のチューリップが咲き誇る横浜公園を中心に、港へと続く日本大通り、新港中央広場まで色鮮やかな花景色が広がります。 \n\n\n\n③ バラ（5月上旬～下旬）\n\n\n\n横浜市の花「バラ」が最盛期を迎える季節。香り・色彩・景色をテーマにしたバラ園が広がる港の見える丘公園や、約160品種1\,900株が競演する山下公園は必見です。 \n\n\n\n\n\n里山ガーデンフェスタ\n\n\n\n横浜市内最大級、約10\,000㎡の大花壇が広がる里山ガーデン。約110品種・20万本の花々に加え、約150本のサクラ、新緑の里山風景を一度に楽しめます。 \n\n\n\n\n\n\n\n項目\n内容\n\n\n\n\n会期\n2026年3月19日（木）～5月6日（水・祝）\n\n\n会場\n里山ガーデン（よこはま動物園ズーラシア隣接／横浜市旭区上白根町1425-4）\n\n\n\n\n  \n \nBlooming RING を着けて、フォトスポットで記念撮影しよう｜里山ガーデン\n\n\n \n　Blooming RINGを身に着けて、ウェルカムガーデンに新たに登場する「GREEN×EXPO 2027」ロゴのフォトスポット前で記念撮影ができます。 \n\n\n \n\n里山ガーデンフェスタHP　より\n\n\n\n \n\n\n \n\n\n\n\n項目\n内容\n\n\n\n\n実施日\n2026年3月19日（木）～3月22日（日）\n\n\n実施時間\n10:00～\n\n\n実施場所\nウェルカムガーデン内「GREEN×EXPO 2027」ロゴフォトスポット前\n\n\n参加方法\n各日先着100名（予定数に達し次第終了）\n\n\n内容\nBlooming RINGを身に着けてフォトスポット前で記念撮影\n\n\n備考\n雨天決行\n\n\n\n\n \n\n\n\n\n\n横浜フラワー＆ガーデンフェスティバル2026\n\n\n\n「ガーデンネックレス横浜」の一環として開催される、日本最大級の園芸イベント。 \n\n\n\n日本を代表するガーデンデザイナーによるメイン展示をはじめ、最新の花・ガーデン展示、子ども向け職業体験、木のおもちゃブース、ショッピングなど、花と緑の楽しみが凝縮されています。 \n\n\n\n\n\n\n\n項目\n内容\n\n\n\n\n会期\n2026年5月2日（土）～5月4日（月・祝）\n\n\n会場\nパシフィコ横浜\n\n\n\n\n\n\nあわせて読みたい横浜フラワー＆ガーデンフェスティバル2026\n\n\n横浜ローズウィーク\n\n\n\n横浜市の花「バラ」の見ごろにあわせ、市内各所で開催される“バラの街歩き”期間。バラ園だけでなく、スイーツ、カクテル、ショッピングなど、街全体がローズカラーに染まります。港町・横浜の歴史とともに楽しむ、特別な時間です。 \n\n\n\n関連リンク\n\n\n\n\nガーデンネックレス横浜\n\n\n\nガーデンネックレス横浜 2026｜横浜市観光協会\n\n\n 
URL:https://futureearth.jp/event/garden-necklace-yokohama-2026/
LOCATION:みなとエリア、里山ガーデン ほか横浜市内各所
CATEGORIES:GREEN×EXPO2027,横浜イベント,花き園芸・造園・農関連
ATTACH;FMTTYPE=image/webp:https://futureearth.jp/wp-content/uploads/2026/03/yw5560_1.webp
END:VEVENT
BEGIN:VEVENT
DTSTART;TZID=Asia/Tokyo:20260523T110000
DTEND;TZID=Asia/Tokyo:20260523T150000
DTSTAMP:20260419T234740
CREATED:20260416T131033Z
LAST-MODIFIED:20260416T131107Z
UID:10273-1779534000-1779548400@futureearth.jp
SUMMARY:GREEN×EXPO 2027 開催300日前記念　瀬谷駅前青空カフェ ～みんなで咲かせる未来の花～
DESCRIPTION:瀬谷駅前で開催！青空カフェで体験する「未来の花」\n\n\n\n　GREEN×EXPO 2027 開催300日前記念イベントとして、瀬谷駅前に1日限定の青空カフェが登場します。　会場では、未来の花をテーマにした体験型ワークショップや、地域団体による飲食ブースなど、子どもから大人まで楽しめる企画が盛りだくさん。 \n\n\n\nイベントの見どころ\n\n\n\n\n\n\n\nちょっとひと休みフード＆ドリンク\n\n\n\n\n福祉作業所によるドリンク・焼き菓子販売\n\n\n\n瀬谷産野菜の販売\n\n\n\nキッチンカーによる軽食（例：野菜カレーなど）\n\n\n\n\nみんなで楽しむ体験ワークショップ\n\n\n\n\n子育て応援ネットワークによるモール工作\n\n\n\n地域ケアプラザによるお花のレンジ作品づくり\n\n\n\n\nGREEN×EXPO紹介ブース\n\n\n\n\n花の種の配布\n\n\n\nノベルティ配布（数量限定）\n\n\n\nシェアサイクルなどの紹介\n\n\n\n\n開催概要\n\n\n\n項目内容イベント名瀬谷駅前青空カフェ ～みんなで咲かせる未来の花～日時2026年5月23日（土）11:00～15:00雨天中止（中止時は告知あり）会場瀬谷駅北口駅前広場参加費無料主催瀬谷区役所協力中屋敷地域ケアプラザ、瀬谷駅北口駅前広場活用推進協議会、横浜国際園芸博覧会瀬谷区推進協議会後援公益社団法人2027年国際園芸博覧会協会\n\n\n\nチラシデータ（PDF：333KB）
URL:https://futureearth.jp/event/300daystogo-seya/
LOCATION:瀬谷駅北口駅前広場\, 神奈川県横浜市瀬谷区中央１３−１１
CATEGORIES:区主催・地域イベント
ATTACH;FMTTYPE=image/jpeg:https://futureearth.jp/wp-content/uploads/2025/11/greenexpo瀬谷500日前.jpeg
END:VEVENT
END:VCALENDAR