BEGIN:VCALENDAR
VERSION:2.0
PRODID:-//Future Earth - ECPv6.15.20//NONSGML v1.0//EN
CALSCALE:GREGORIAN
METHOD:PUBLISH
X-WR-CALNAME:Future Earth
X-ORIGINAL-URL:https://futureearth.jp
X-WR-CALDESC:Future Earth のイベント
REFRESH-INTERVAL;VALUE=DURATION:PT1H
X-Robots-Tag:noindex
X-PUBLISHED-TTL:PT1H
BEGIN:VTIMEZONE
TZID:Asia/Tokyo
BEGIN:STANDARD
TZOFFSETFROM:+0900
TZOFFSETTO:+0900
TZNAME:JST
DTSTART:20250101T000000
END:STANDARD
END:VTIMEZONE
BEGIN:VEVENT
DTSTART;TZID=Asia/Tokyo:20260305T190000
DTEND;TZID=Asia/Tokyo:20260305T191500
DTSTAMP:20260420T100355
CREATED:20260225T131921Z
LAST-MODIFIED:20260312T024858Z
UID:7579-1772737200-1772738100@futureearth.jp
SUMMARY:地球と。咲きに行こう。1 year to go. GREEN×EXPO 2027 ドローンショー
DESCRIPTION:「地球と。咲きに行こう。1 year to go. GREEN×EXPO 2027 ドローンショー」横浜みなとみらいで開催！\n\n\n\n2027年3月19日に開幕する GREEN×EXPO 2027（２０２７年国際園芸博覧会）。その開幕1年前を記念して、横浜・みなとみらいの夜空を舞台に、特別ドローンショー「地球と。咲きに行こう。1 year to go. GREEN×EXPO 2027 ドローンショー」が開催されます。 \n\n\n\n\n\n\n\nトゥンクトゥンクとミャクミャクのコラボ\n\n\n\n公式マスコットキャラクター「トゥンクトゥンク」が、ついに夜空へ初登場。さらに、大阪・関西万博公式キャラクターの「ミャクミャク」との“光の共演”も実現します。観覧は無料です。 \n\n\n\n\n\n\n\n\n\nくるぞ、万博。1 year to go.スペシャルドローンショー\n\n\n\n\n\n開催概要\n\n\n\n\n\n\n\n項目\n内容\n\n\n\n\nイベント名\n地球と。咲きに行こう。1 year to go. GREEN×EXPO 2027 ドローンショー supported by DRONE SHOW JAPAN\n\n\n開催日\n2026年3月5日（木）・3月12日（木） 19:00〜19:15\n\n\n会場\n臨港パーク（神奈川県横浜市西区みなとみらい1）\n\n\n観覧料\n無料\n\n\n主催\n横浜市\n\n\n共催\n公益社団法人２０２７年国際園芸博覧会協会／公益社団法人２０２５年日本国際博覧会協会\n\n\n技術協力\n株式会社ドローンショー・ジャパン\n\n\n特設サイト\nhttps://droneshow.co.jp/green_expo_ds/\n\n\n\n\n\n\n\n\n\n※注意事項\n\n\n\n\n雨天・強風等により時間変更または中止の可能性があります。\n\n\n\n延期の場合でも19:30頃までに終了予定です。\n\n\n\n観覧エリアではBGMとともにショーを楽しめます。他エリアからは見えにくい可能性があります。\n\n\n\n\n\n\n\n\n\nドローンショーの様子\n\n\n\n　会場の臨港パークは海を臨む大きな公園で、階段状になった場所や芝生に腰をかけて観覧する人が多く見られました。アナウンスなどは特にありませんでしたが、大きな混乱もなく、落ち着いた雰囲気の中でショーが進行しました。 \n\n\n\n\nhttps://youtu.be/zU684zCM65Y?si=OSwLNLR-ghl12JPj\n\n\n\n\n　開始予定は19:00でしたが、実際のスタートは19:15頃。約15分間にわたってドローンショーが行われました。 \n\n\n\n\n\n\n\n\n\n\n\n\n\n\n\n\n\n\n\n\n\n\n\n\n\n\n\n\n\n\n\n\n\n\n\n\n\n\n\n\n\n\n\n\n\n\n\n\n\n\n\n\n\n\n\n\n\n\n\n\n\n\n\n\n\n\n\n\n\n\n\n\n\n\n\n関連リンク\n\n\n\n\n【3/5(木)・12(木)開催】「地球と。咲きに行こう。1 year to go. GREEN×EXPO 2027 ドローンショー」が横浜みなとみらいの夜空を華やかに彩る｜PRtimes\n\n\n\n日本企業初のミャクミャクを使ったドローンショー！大阪・関西万博開幕1年前を盛り上げる「くるぞ、万博。1 year to go.スペシャルドローンショー 」5月14日開催
URL:https://futureearth.jp/event/greenexpo2027-drone-show-20260305/
LOCATION:臨港パーク\, 神奈川県横浜市西区みなとみらい1
CATEGORIES:トゥンクトゥンク,横浜イベント
ATTACH;FMTTYPE=image/webp:https://futureearth.jp/wp-content/uploads/2026/02/80729-148-bb6bd8db37355e996c7c87b3623a47f7-1921x1081-1.png.webp
END:VEVENT
BEGIN:VEVENT
DTSTART;TZID=Asia/Tokyo:20260312T190000
DTEND;TZID=Asia/Tokyo:20260312T191500
DTSTAMP:20260420T100355
CREATED:20260225T131800Z
LAST-MODIFIED:20260225T131800Z
UID:7577-1773342000-1773342900@futureearth.jp
SUMMARY:地球と。咲きに行こう。1 year to go. GREEN×EXPO 2027 ドローンショー
DESCRIPTION:「地球と。咲きに行こう。1 year to go. GREEN×EXPO 2027 ドローンショー」横浜みなとみらいで開催！\n\n\n\n2027年3月19日に開幕する GREEN×EXPO 2027（２０２７年国際園芸博覧会）。その開幕1年前を記念して、横浜・みなとみらいの夜空を舞台に、特別ドローンショー「地球と。咲きに行こう。1 year to go. GREEN×EXPO 2027 ドローンショー」が開催されます。 \n\n\n\n\n\n\n\nトゥンクトゥンクとミャクミャクのコラボ\n\n\n\n公式マスコットキャラクター「トゥンクトゥンク」が、ついに夜空へ初登場。さらに、大阪・関西万博公式キャラクターの「ミャクミャク」との“光の共演”も実現します。観覧は無料です。 \n\n\n\n\n\n\n\n\n\nくるぞ、万博。1 year to go.スペシャルドローンショー\n\n\n\n\n\n開催概要\n\n\n\n\n\n\n\n項目\n内容\n\n\n\n\nイベント名\n地球と。咲きに行こう。1 year to go. GREEN×EXPO 2027 ドローンショー supported by DRONE SHOW JAPAN\n\n\n開催日\n2026年3月5日（木）・3月12日（木） 19:00〜19:15\n\n\n会場\n臨港パーク（神奈川県横浜市西区みなとみらい1）\n\n\n観覧料\n無料\n\n\n主催\n横浜市\n\n\n共催\n公益社団法人２０２７年国際園芸博覧会協会／公益社団法人２０２５年日本国際博覧会協会\n\n\n技術協力\n株式会社ドローンショー・ジャパン\n\n\n特設サイト\nhttps://droneshow.co.jp/green_expo_ds/\n\n\n\n\n\n\n\n  \n\n\n\n※注意事項\n\n\n\n\n雨天・強風等により時間変更または中止の可能性があります。\n\n\n\n延期の場合でも19:30頃までに終了予定です。\n\n\n\n観覧エリアではBGMとともにショーを楽しめます。他エリアからは見えにくい可能性があります。\n\n\n\n\n\n\n\n\n関連リンク\n\n\n\n\n【3/5(木)・12(木)開催】「地球と。咲きに行こう。1 year to go. GREEN×EXPO 2027 ドローンショー」が横浜みなとみらいの夜空を華やかに彩る｜PRtimes\n\n\n\n日本企業初のミャクミャクを使ったドローンショー！大阪・関西万博開幕1年前を盛り上げる「くるぞ、万博。1 year to go.スペシャルドローンショー 」5月14日開催
URL:https://futureearth.jp/event/greenexpo2027-drone-show-20260312/
LOCATION:臨港パーク\, 神奈川県横浜市西区みなとみらい1
ATTACH;FMTTYPE=image/webp:https://futureearth.jp/wp-content/uploads/2026/02/80729-148-bb6bd8db37355e996c7c87b3623a47f7-1921x1081-1.png.webp
END:VEVENT
BEGIN:VEVENT
DTSTART;VALUE=DATE:20260403
DTEND;VALUE=DATE:20260406
DTSTAMP:20260420T100355
CREATED:20260324T134002Z
LAST-MODIFIED:20260402T140129Z
UID:9167-1775174400-1775433599@futureearth.jp
SUMMARY:CENTRAL FIELD（臨港パーク）｜トゥンクトゥンクの休憩所が登場
DESCRIPTION:CENTRAL FIELD（臨港パーク）｜トゥンクトゥンクの休憩所が登場\n\n\n\n2026年4月3日（金）から5日（日）の3日間、横浜・みなとみらい21地区一帯で開催される都市型音楽フェス「CENTRAL×Live！横浜」。その会場のひとつである「CENTRAL FIELD（臨港パーク）」は、入場無料で楽しめるエンタテインメントエリアとして展開されます。 \n\n\n\n\nCENTRAL×Live！横浜公式HP　より\n\n\n\n\nトゥンクトゥンクの休憩所「GREEN×EXPO 2027 Rest Space」\n\n\n\n会場内には、2027年に横浜で開催される「GREEN×EXPO 2027」のPRとして、環境に配慮した木製パレットを使用した休憩スペース「GREEN×EXPO 2027 Rest Space」も設置予定です。 \n\n\n\n花と緑に囲まれた空間で、公式マスコット「トゥンクトゥンク」とともに、サステナブルなフェス体験を楽しむことができます。 \n\n\n\n\nCENTRAL×Live！横浜公式HP　より\n\n\n\n\n会場前日の様子\n \n\n\n\n\n\n\n\n\n\n\n\n\n\n\n\n\n\n\n\n\n\n\n\n\n\n\n\n\n\n\n\n \n横浜全体が音楽に包まれる3日間\n\n\n\n本イベントは、新たな都市型音楽フェス「CENTRAL」と、街全体で音楽を楽しむ「Live！横浜」が同時開催される取り組みです。Kアリーナ横浜や赤レンガ倉庫、KT Zepp Yokohamaなど複数会場を舞台に、横浜の街全体が音楽に包まれる3日間となります。 臨港パークの「CENTRAL FIELD」は、その中でも誰でも参加できる“開かれた入口”のような存在として、フェスの魅力を広く発信します。 \n\n\n\n開催概要\n\n\n\n\n\n\n\n項目\n内容\n\n\n\n\nイベント名\nCENTRAL FIELD（臨港パーク）\n\n\n開催期間\n2026年4月3日（金）〜4月5日（日）\n\n\n開催時間\n4/3（金）12:00〜19:30 4/4（土）11:00〜19:30 4/5（日）11:00〜19:30\n\n\n会場\n臨港パーク（神奈川県横浜市西区みなとみらい）\n\n\n料金\n入場無料\n\n\n主催\nCENTRAL実行委員会（連携：Live！横浜ほか）\n\n\n内容\n音楽ステージ、体験コンテンツ、ワークショップ、フード、PR展示など\n\n\n公式サイト\nhttps://central-fest.com/\n\n\n関連サイト\nhttps://liveyokohama.jp/\n\n\n\n\n\n\n\n※各コンテンツの詳細時間は公式サイトをご確認ください。
URL:https://futureearth.jp/event/central-field-tunku-restspace/
LOCATION:臨港パーク\, 神奈川県横浜市西区みなとみらい1
CATEGORIES:横浜イベント
ATTACH;FMTTYPE=image/jpeg:https://futureearth.jp/wp-content/uploads/2026/04/CENTRAL-FIELD（臨港パーク）｜トゥンクトゥンクの休憩所が登場9.jpeg
END:VEVENT
END:VCALENDAR