BEGIN:VCALENDAR
VERSION:2.0
PRODID:-//Future Earth - ECPv6.15.20//NONSGML v1.0//EN
CALSCALE:GREGORIAN
METHOD:PUBLISH
X-WR-CALNAME:Future Earth
X-ORIGINAL-URL:https://futureearth.jp
X-WR-CALDESC:Future Earth のイベント
REFRESH-INTERVAL;VALUE=DURATION:PT1H
X-Robots-Tag:noindex
X-PUBLISHED-TTL:PT1H
BEGIN:VTIMEZONE
TZID:Asia/Tokyo
BEGIN:STANDARD
TZOFFSETFROM:+0900
TZOFFSETTO:+0900
TZNAME:JST
DTSTART:20250101T000000
END:STANDARD
END:VTIMEZONE
BEGIN:VEVENT
DTSTART;VALUE=DATE:20260319
DTEND;VALUE=DATE:20260615
DTSTAMP:20260423T011946
CREATED:20260303T142443Z
LAST-MODIFIED:20260312T100017Z
UID:7870-1773878400-1781481599@futureearth.jp
SUMMARY:ガーデンネックレス横浜2026
DESCRIPTION:ガーデンネックレス横浜2026\n\n\n\n\n\n\n\n横浜市は、2026年3月19日（木）から6月14日（日）まで、横浜の街を舞台に花と緑をネックレスのようにつなぐ春の一大イベント「ガーデンネックレス横浜 2026」を開催します。 \n\n\n\n2017年から続く「ガーデンシティ横浜」推進のリーディングプロジェクトとして毎年開催されてきた本イベント。港町の景観が美しい“みなとエリア”から、約10\,000㎡の大花壇を誇る里山ガーデンまで、街全体が季節の花で彩られます。 \n\n\n\nそして、「GREEN×EXPO 2027」開催1年前の春。横浜がもっとも華やぐ季節が、いよいよやってきます。 \n\n\n\n開催概要\n\n\n\n\n\n\n\n項目\n内容\n\n\n\n\nイベント名\nガーデンネックレス横浜 2026\n\n\n開催期間\n2026年3月19日（木）～6月14日（日）\n\n\n主な会場\nみなとエリア、里山ガーデン ほか横浜市内各所\n\n\n\n\n\n\n\nみなとエリア（都心臨海部）\n\n\n\n① サクラ（3月下旬～4月上旬）\n\n\n\n約300本の桜が、横浜の春の訪れを告げます。さくら通りや汽車道、山手エリアなど、港町らしい風景とともに楽しめるのが魅力です。 \n\n\n\n② チューリップ（4月上旬～中旬）\n\n\n\n約70種・10万本のチューリップが咲き誇る横浜公園を中心に、港へと続く日本大通り、新港中央広場まで色鮮やかな花景色が広がります。 \n\n\n\n③ バラ（5月上旬～下旬）\n\n\n\n横浜市の花「バラ」が最盛期を迎える季節。香り・色彩・景色をテーマにしたバラ園が広がる港の見える丘公園や、約160品種1\,900株が競演する山下公園は必見です。 \n\n\n\n\n\n里山ガーデンフェスタ\n\n\n\n横浜市内最大級、約10\,000㎡の大花壇が広がる里山ガーデン。約110品種・20万本の花々に加え、約150本のサクラ、新緑の里山風景を一度に楽しめます。 \n\n\n\n\n\n\n\n項目\n内容\n\n\n\n\n会期\n2026年3月19日（木）～5月6日（水・祝）\n\n\n会場\n里山ガーデン（よこはま動物園ズーラシア隣接／横浜市旭区上白根町1425-4）\n\n\n\n\n  \n \nBlooming RING を着けて、フォトスポットで記念撮影しよう｜里山ガーデン\n\n\n \n　Blooming RINGを身に着けて、ウェルカムガーデンに新たに登場する「GREEN×EXPO 2027」ロゴのフォトスポット前で記念撮影ができます。 \n\n\n \n\n里山ガーデンフェスタHP　より\n\n\n\n \n\n\n \n\n\n\n\n項目\n内容\n\n\n\n\n実施日\n2026年3月19日（木）～3月22日（日）\n\n\n実施時間\n10:00～\n\n\n実施場所\nウェルカムガーデン内「GREEN×EXPO 2027」ロゴフォトスポット前\n\n\n参加方法\n各日先着100名（予定数に達し次第終了）\n\n\n内容\nBlooming RINGを身に着けてフォトスポット前で記念撮影\n\n\n備考\n雨天決行\n\n\n\n\n \n\n\n\n\n\n横浜フラワー＆ガーデンフェスティバル2026\n\n\n\n「ガーデンネックレス横浜」の一環として開催される、日本最大級の園芸イベント。 \n\n\n\n日本を代表するガーデンデザイナーによるメイン展示をはじめ、最新の花・ガーデン展示、子ども向け職業体験、木のおもちゃブース、ショッピングなど、花と緑の楽しみが凝縮されています。 \n\n\n\n\n\n\n\n項目\n内容\n\n\n\n\n会期\n2026年5月2日（土）～5月4日（月・祝）\n\n\n会場\nパシフィコ横浜\n\n\n\n\n\n\nあわせて読みたい横浜フラワー＆ガーデンフェスティバル2026\n\n\n横浜ローズウィーク\n\n\n\n横浜市の花「バラ」の見ごろにあわせ、市内各所で開催される“バラの街歩き”期間。バラ園だけでなく、スイーツ、カクテル、ショッピングなど、街全体がローズカラーに染まります。港町・横浜の歴史とともに楽しむ、特別な時間です。 \n\n\n\n関連リンク\n\n\n\n\nガーデンネックレス横浜\n\n\n\nガーデンネックレス横浜 2026｜横浜市観光協会\n\n\n 
URL:https://futureearth.jp/event/garden-necklace-yokohama-2026/
LOCATION:みなとエリア、里山ガーデン ほか横浜市内各所
CATEGORIES:GREEN×EXPO2027,横浜イベント,花き園芸・造園・農関連
ATTACH;FMTTYPE=image/webp:https://futureearth.jp/wp-content/uploads/2026/03/yw5560_1.webp
END:VEVENT
BEGIN:VEVENT
DTSTART;VALUE=DATE:20260328
DTEND;VALUE=DATE:20260924
DTSTAMP:20260423T011946
CREATED:20260325T153844Z
LAST-MODIFIED:20260325T153844Z
UID:9252-1774656000-1790207999@futureearth.jp
SUMMARY:MoN Takanawa開館記念「ぐるぐる展」で大屋根リング1/200模型を公開
DESCRIPTION:MoN Takanawa開館記念「ぐるぐる展」で大屋根リング1/200模型を公開\n \n\n2026年3月28日（土）、TAKANAWA GATEWAY CITYに誕生する文化の実験的ミュージアム「MoN Takanawa: The Museum of Narratives」で、開館記念特別展「ぐるぐる展ー進化しつづける人類の物語」がスタートします。会期は9月23日（水・祝）まで。会場では、アートや都市、文化、人の営みの中にある“ぐるぐる”をテーマに、約100点のアイテム、50種類以上の展示が展開されます。\n\n \nMoN Takanawa開館記念特別展「ぐるぐる展ー進化しつづける人類の物語」\n2026年3月28日(土)よりスタート　より\n \n大屋根リングを“見上げる”展示が登場\n \n\nなかでも注目したいのが、2025年大阪・関西万博のシンボル「大屋根リング」1/200模型の展示です。文化をつなぐ「ぐるぐる」を紹介するZone 4「Culture」に登場し、藤本壮介建築設計事務所による模型を天井に浮かべるように展示。来場者は、これまでとは異なる視点から大屋根リングの構造を“下から見上げる”体験ができます。\n\n \nMoN Takanawa開館記念特別展「ぐるぐる展ー進化しつづける人類の物語」\n2026年3月28日(土)よりスタート　より\n \n\n大屋根リングを「『多様でありながら、ひとつ』という理念のもと大阪・関西万博のシンボルとして設計されたもの」と紹介。本展では、円や螺旋、反復といった“ぐるぐる”の視点から、建築そのものを文化の継承や共有体験の象徴として捉え直しています。ひとつの空をともに見上げる体験を想起させる展示として構成されている点も見どころです。\n\n \n開催概要\n \n\n「ぐるぐる展」全体では、縄文土器や山手線、モンゴル遊牧民の暮らし、相撲、家事、思考の巡りまで、多様なテーマを6つのゾーンで紹介。音声ガイドを聞きながら巡る形式で、案内役は日本語版で坂本真綾さんと岡野友佑さんが務めます。大屋根リング展示だけでなく、建築・文化・都市のつながりを横断的に楽しめる展覧会となりそうです。\n\n \n\n\n\n\n項目\n内容\n\n\n\n\n展覧会名\nぐるぐる展ー進化しつづける人類の物語\n\n\n会期\n2026年3月28日（土）～9月23日（水・祝）\n\n\n時間\n10:00～19:00（金・土は10:00～21:00）\n\n\n会場\nMoN Takanawa: The Museum of Narratives Box1500\n\n\n主催・企画制作\nMoN Takanawa: The Museum of Narratives\n\n\nチケット\n先行：一般2\,300円／U25 1\,300円／小中高生600円\n通常：一般2\,500円／U25 1\,500円／小中高生800円\n\n\n備考\n未就学児無料、当日券あり\n\n\n\n\n \n7月には「いのちの未来」の再演も\n \n\n大阪・関西万博のシグネチャーパビリオンとして絶大な注目を集めた「いのちの未来」（石黒浩氏テーマ事業プロデューサー）が、2026年7月中旬〜9月上旬にMoN Takanawa: The Museum of Narratives にて再演されることが決定しています。東京でアフター万博を感じられる重要な拠点となりそうです。\n\n あわせて読みたい万博シグネチャーパビリオン「いのちの未来」2026年に高輪で復活｜未来のいのちを体験する展示 \nMoN Takanawaの総合プロデューサーは小山 薫堂氏\n \n\n大阪・関西万博シグネチャーパビリオン「EARTH MART」のプロデューサーである小山薫堂氏が「MoN Takanawa」の総合プロデューサーを務めます。\n\n \n「MoN Takanawa: The Museum of Narratives」2026年3月28日（土）開館　より\n \n関連リンク\n \n\n 	Mon Takanawa公式サイト\n \n 	文化の実験的ミュージアム MoN Takanawa: The Museum of Narratives、開館記念テーマと開館記念プログラム全9作品を発表｜PRtimes\n \n 	「MoN Takanawa: The Museum of Narratives」 2026 年 3 月 28 日開館 総合プロデューサーとして、小山薫堂氏を招聘 \n \n 	「MoN Takanawa: The Museum of Narratives」2026年3月28日（土）開館\n \n 	MoN Takanawa開館記念特別展「ぐるぐる展ー進化しつづける人類の物語」2026年3月28日(土)よりスタート\n\n あわせて読みたい万博シグネチャーパビリオン「いのちの未来」2026年に高輪で復活｜未来のいのちを体験する展示
URL:https://futureearth.jp/event/guruguru-exhibition-ooyane-ring-mon-takanawa/
LOCATION:MoN Takanawa: The Museum of Narratives Box1500\, 東京都港区三田３丁目１６−１
CATEGORIES:大阪・関西万博
ATTACH;FMTTYPE=image/webp:https://futureearth.jp/wp-content/uploads/2026/03/151586-16-21f839ccbb777a8827a675708904a64c-3900x2601.jpg.webp
END:VEVENT
BEGIN:VEVENT
DTSTART;VALUE=DATE:20260401
DTEND;VALUE=DATE:20260518
DTSTAMP:20260423T011946
CREATED:20260331T122834Z
LAST-MODIFIED:20260402T140809Z
UID:9602-1775001600-1779062399@futureearth.jp
SUMMARY:横浜赤レンガ倉庫にトゥンクトゥンク巨大モニュメントが登場
DESCRIPTION:横浜の夜を彩る！トゥンクトゥンク巨大モニュメントが登場\n\n\n\n横浜市は、2027年3月に開幕する「GREEN×EXPO 2027（2027年国際園芸博覧会）」の機運を盛り上げるため、公式マスコットキャラクター「トゥンクトゥンク」の大型モニュメントを横浜赤レンガ倉庫に4月1日（水）〜 5月中旬頃まで設置することが発表されました。   \n\n\n\n昼と夜、2つの表情が楽しめる\n\n\n\n\n「GREEN×EXPO 2027」開催に向けて前進！「トゥンクトゥンク」の大型モニュメントを横浜赤レンガ倉庫に設置します｜横浜市　より\n\n\n\n\n  \n今回の展示の見どころは、時間帯によって異なる演出です。 \n\n\n\n\n昼間： 前進ポーズを決めた「トゥンクトゥンク」の躍動感ある姿を楽しめます。\n\n\n\n夜間： 17時から24時までライトアップを実施。内照式の仕掛けにより、キャラクターがやわらかく光り輝き、幻想的な雰囲気を醸し出します。\n\n\n\n\nSNS映え間違いなしのフォトスポットとして、横浜の新しいシンボルになりそうです。   \n  \n \n\n\n\n\n\n\n\n\n\n\n\n\n\n\n\n \n  \n\n\n\n設置概要\n\n\n\n\n\n\n\n項目\n内容\n\n\n\n\n設置場所\n横浜赤レンガ倉庫 2号館入口脇（横浜市中区新港1-1-2）\n\n\n設置期間\n2026年4月1日（水）〜 5月中旬頃（予定）\n\n\nサイズ\n高さ 2\,760mm × 幅 2\,000mm\n\n\n点灯時間\n17:00 〜 24:00（予定）\n\n\n\n \n\n\n\n関連リンク\n\n\n\n\n「GREEN×EXPO 2027」開催に向けて前進！「トゥンクトゥンク」の大型モニュメントを横浜赤レンガ倉庫に設置します｜横浜市\n\n\n\nあわせて読みたい横浜赤レンガ倉庫『FLOWER GARDEN 2026』
URL:https://futureearth.jp/event/yokohama-green-expo-2027-monument-red-brick-warehouse/
LOCATION:横浜赤レンガ倉庫\, 神奈川県横浜市中区新港１丁目１−１
CATEGORIES:トゥンクトゥンク
ATTACH;FMTTYPE=image/jpeg:https://futureearth.jp/wp-content/uploads/2026/04/赤レンガトゥンク7.jpeg
END:VEVENT
BEGIN:VEVENT
DTSTART;TZID=Asia/Tokyo:20260406T000000
DTEND;TZID=Asia/Tokyo:20260520T235959
DTSTAMP:20260423T011946
CREATED:20260403T062628Z
LAST-MODIFIED:20260420T151139Z
UID:9713-1775433600-1779321599@futureearth.jp
SUMMARY:ポルトガル・パビリオン展
DESCRIPTION:【港区】大阪・関西万博の感動を再び！在日ポルトガル大使館で「ポルトガル・パビリオン展」が4月6日より開催\n\n\n\n2025年に開催された大阪・関西万博。その熱狂から1周年を記念して、東京都港区の在日ポルトガル大使館にて特別展示「EXPO開催1周年記念 ポルトガル・パビリオン展（Expo: Pavilhão de Portugal\, um ano depois）」が開催されます。 \n\n\n\n本展では、万博期間中のパビリオンの様子を振り返るだけでなく、来場者が実際に体験できるコンテンツが盛りだくさんです。 \n\n\nレポート記事はこちら！【レポート記事】ポルトガル・パビリオン展が万博すぎた！\n\n\n注目の展示ポイント\n\n\n\n\n公式マスコット「UMI」と記念撮影：パビリオンで人気を博したキャラクターが登場。\n\n\n\n公式スタンプ体験：当時のオリジナルスタンプをポストカードに押すことができます。\n\n\n\n限定ピンバッジの配布：来場者特典として、公式ロゴマークのピンバッジがプレゼントされます（※なくなり次第終了）。\n\n\n\n\n　 \n\n\n\n \n\n\n\n\n\n\n\n\n\n\n\n\n\n\n\n\n\n\n\n\n\nイベント概要　※会期が延長されました！\n\n\n\n項目内容イベント名EXPO開催1周年記念 ポルトガル・パビリオン展開催日時2026年4月6日（月）〜5月20日（水）※平日のみ10:00 〜 17:00ただし、5月1日（金）・4日（月）・8日（金）は終日閉館ＧＷ中の5日(火・祝)・6日(水・祝)は開館会場在日ポルトガル大使館（東京都港区西麻布3-6-6）休館日土曜日・日曜日・祝日\n\n\n\n関連リンク\n\n\n\n\n在日ポルトガル大使館 公式facebook\n\n\n\nレポート記事はこちら！【レポート記事】ポルトガル・パビリオン展が万博すぎた！
URL:https://futureearth.jp/event/portugal-pavillion-event/
LOCATION:在日ポルトガル大使館\, 東京都港区西麻布3-6-6
CATEGORIES:海外パビリオン・国際交流
ATTACH;FMTTYPE=image/jpeg:https://futureearth.jp/wp-content/uploads/2026/04/IMG_1062.jpeg
END:VEVENT
BEGIN:VEVENT
DTSTART;TZID=Asia/Tokyo:20260410T000000
DTEND;TZID=Asia/Tokyo:20260731T235959
DTSTAMP:20260423T011946
CREATED:20260414T133458Z
LAST-MODIFIED:20260414T133600Z
UID:10223-1775779200-1785542399@futureearth.jp
SUMMARY:劇場版『名探偵コナン ハイウェイの堕天使』×横浜市キャンペーン
DESCRIPTION:劇場版『名探偵コナン ハイウェイの堕天使』×横浜市キャンペーン\n\n\n\n　2026年4月10日（金）に公開された劇場版『名探偵コナン ハイウェイの堕天使』。物語の舞台となった横浜市では、現在、街全体を巻き込んだ限界突破（リミットブレイク）なキャンペーンが開催中です。 \n\n\n\n　全8種のビッグサイズステッカー配布や、コナン君が喋るラッピングバスの運行など、ファン垂涎の施策が目白押し。さらに、配布されるノベルティの「裏面」には「トゥンクトゥンク」が！映画の余韻に浸りながら、コナン旋風吹き荒れる横浜を駆け抜けましょう。 \n\n\n\nノベルティの裏にはトゥンクトゥンクが！\n\n\n\n　スタンプラリー台紙やクリアファイル、ステッカーの裏面に、「トゥンクトゥンク」が登場します。 \n\n\n\n\n\n\n\n\n\n\n\n\n\nイベント概要\n\n\n\nイベント実施期間内容・特典①ステッカープレゼント2026年4月10日（金）～ 6月12日（金）対象約450店舗で全8種のステッカーを配布。裏面はトゥンクトゥンクデザイン。（サイズW150mm×H75mm）②スタンプラリー 第1弾2026年4月10日（金）～ 5月31日（日）スタンプ5個でオリジナルステッカーをプレゼント。スタンプラリー台紙やステッカー裏面にトゥンクトゥンクデザイン。③スタンプラリー 第2弾2026年6月1日（月）～ 7月31日（金）スタンプ5個でオリジナルクリアファイルをプレゼント。スタンプラリー台紙やステッカー裏面にトゥンクトゥンクデザイン。\n\n\n\n①ステッカープレゼント\n\n\n\nステッカー（全８種）劇場版『名探偵コナン ハイウェイの堕天使』×横浜市 コナンと一緒に、横浜のまちを駆け抜けよう！　より\n\n\n\n\n※対象店舗、指定メニューや最新情報などは特設サイトでご確認ください。https://www.welcome.city.yokohama.jp/hottopics/conan-yokohama/\n\n\n\n\n②③スタンプラリー\n\n\n\nスタンプラリー台紙劇場版『名探偵コナン ハイウェイの堕天使』×横浜市 コナンと一緒に、横浜のまちを駆け抜けよう！　より\n\n\n\n\nノベルティデザイン（ステッカー）\n\n\n\nノベルティデザイン（クリアファイル）\n\n\n\n\n\n※実施場所、押印可能時間など詳細は特設サイトをご確認ください。https://www.welcome.city.yokohama.jp/hottopics/conan-yokohama/\n\n\n\n\nキャンペーン概要\n\n\n\n項目内容イベント名劇場版『名探偵コナン ハイウェイの堕天使』×横浜市開催期間2026年4月10日（金）～7月31日（金）開催場所横浜都心臨海部（みなとみらい、桜木町、横浜港周辺エリアなど）公式テーマ限界突破な宣伝企画 ≪風のプロジェクト≫\n\n\n\n全イベント一覧\n\n\n\nイベント実施期間内容・特典ステッカープレゼント2026年4月10日（金）～ 6月12日（金）対象約450店舗で配布。全8種。裏面はトゥンクトゥンクデザイン。スタンプラリー 第1弾2026年4月10日（金）～ 5月31日（日）スタンプ5個でオリジナルステッカーをプレゼント。裏面はトゥンクトゥンクデザイン。スタンプラリー 第2弾2026年6月1日（月）～ 7月31日（金）スタンプ5個でオリジナルクリアファイルをプレゼント。裏面はトゥンクトゥンクデザイン。連動謎解き企画2026年4月10日（金）～ 7月31日（金）スタンプポイント10箇所の謎を解くと待ち受け画像進呈。コスモクロック21演出2026年4月10日（金）～ 4月19日（日）18:30〜20:16の間に特別演出を実施（毎時00/15/30/45分）。ラッピングバス運行2026年4月10日（金）～ 7月31日（金）「ベイサイドブルー」1台が特別仕様で運行。特別降車アナウンス2026年4月10日（金）～ 7月31日（金）「あかいくつ」「ベイサイドブルー」車内でコナンの音声を放送。主題歌・楽曲放送2026年4月10日（金）～ 6月12日（金）主題歌「ラストダンスあなたと」＋コナン君のメッセージを放送。動く歩道フラッグ装飾2026年4月6日（月）～ 4月28日（火）桜木町～みなとみらい間の動く歩道をコナンがジャック。\n\n\n\n※いずれの施策も、ノベルティがなくなり次第終了となりますのでご注意ください。
URL:https://futureearth.jp/event/konan-yokohama-2026/
LOCATION:みなとみらい21地区を中心とした横浜都心臨海部\, 神奈川県横浜市西区みなとみらい
CATEGORIES:横浜イベント
ATTACH;FMTTYPE=image/webp:https://futureearth.jp/wp-content/uploads/2026/04/13670-1905-c7c31c0f894091c25e8d3b42c5d40a2d-2866x2028.jpg.webp
END:VEVENT
BEGIN:VEVENT
DTSTART;VALUE=DATE:20260418
DTEND;VALUE=DATE:20260518
DTSTAMP:20260423T011946
CREATED:20260222T210254Z
LAST-MODIFIED:20260303T023002Z
UID:7438-1776470400-1779062399@futureearth.jp
SUMMARY:TOKYOROOMS展 〜40の部屋、40通りの生き方〜
DESCRIPTION:TOKYOROOMS展 〜40の部屋、40通りの生き方〜\n\n\n\n2026年4月18日（土）〜5月17日(日)、東京・虎ノ門のTOKYO NODE にて、体験型展覧会「TOKYOROOMS展 〜40の部屋、40通りの生き方〜」 が開催されます。 本展では、同じ広さ＝6畳ワンルームという条件のもと、40組のクリエイターがそれぞれの価値観や生き方を“部屋”で表現。 しかも、すべての部屋に入室可能。空間を“体感”しながら、自分の「好き」に出会う展覧会です。 \n\n\n\n開催概要\n\n\n\n\n\n\n\n項目\n内容\n\n\n\n\n展覧会名\nTOKYOROOMS展 〜40の部屋、40通りの生き方〜\n\n\n日時\n2026年4月18日(土)〜5月17日(日) 10:00〜20:00（※4月17日(金) メディア向け発表会）\n\n\n会場\nTOKYO NODE（虎ノ門ヒルズ ステーションタワー45F）\n\n\n主催\n株式会社ソーシャルインテリア（TOKYOROOMS展実行委員会）\n\n\nチケット販売\nArtStickerにて独占販売\n\n\n料金\n一般：1\,900円（税込）、小人：950円（3歳〜小学生） （無料対象：2歳以下／5月5日は小人無料／障がい者手帳提示で本人＋介助者1名）\n\n\n公式サイト\nhttps://subsclife.com/tokyorooms/exhibition\n\n\n\n\n\n\n\n					参画クリエイター / 企業\n				\n\n\n関連リンク\n\n\n\n\n40組のクリエイターによる40の部屋を展示「TOKYOROOMS展」開催\n\n\n\n「TOKYOROOMS展」参加クリエイター・企業を新たに発表　落合陽一氏、第四境界、Brave groupの3組が参加決定！\n\n\n\n40人のクリエイターが描く“40の生き方”を体験する「TOKYOROOMS展」チケットをArtStickerにて独占販売開始
URL:https://futureearth.jp/event/tokyorooms-exhibition-2026/
LOCATION:TOKYO NODE\, 東京都 港区虎ノ門２丁目６−２ 虎ノ門ヒルズステーションタワー
CATEGORIES:アート・サイエンス
ATTACH;FMTTYPE=image/webp:https://futureearth.jp/wp-content/uploads/2026/02/36168-243-e057f5ea8f4ec616182376f71f44bf2c-1920x1080.jpg.webp
END:VEVENT
BEGIN:VEVENT
DTSTART;VALUE=DATE:20260509
DTEND;VALUE=DATE:20260512
DTSTAMP:20260423T011946
CREATED:20260318T134113Z
LAST-MODIFIED:20260318T134401Z
UID:8656-1778284800-1778543999@futureearth.jp
SUMMARY:東京インフィオラータ2026
DESCRIPTION:東京インフィオラータ2026｜花絵文化25周年＆ポケモン30周年記念花絵も登場！\n\n\n\n花びらで描く“儚い芸術”インフィオラータの祭典「東京インフィオラータ2026」が、2026年3月21日（土）から5月18日（月）まで都内5会場で開催されます。 日本の花絵文化25周年という節目に加え、ポケモン30周年記念の特別花絵も登場。春の東京を舞台に、「花でつながる、未来の景色」をテーマとした共創型アートイベントです。 \n\n\n\n\n花絵文化25周年。東京インフィオラータ2026開催。ポケモン30周年記念花絵も登場！　より\n\n\n\n\n開催概要\n\n\n\n\n\n\n\n項目\n内容\n\n\n\n\nイベント名\n東京インフィオラータ2026\n\n\n開催期間\n2026年3月21日（土）〜5月18日（月）\n\n\nテーマ\n花でつながる、未来の景色\n\n\n観覧\n無料\n\n\n主催\n一般社団法人花絵文化協会\n\n\n総合監修\n藤川靖彦（花絵師）\n\n\n後援\n東京都／多摩市／千代田区／公益社団法人2027国際園芸博覧会協会／interfm／Coordinadora Internacional de Entidades de Alfombristas de Arte Efimero\n\n\n協力\n京王聖蹟桜ヶ丘ショッピングセンター／御茶ノ水ソラシティ／株式会社三菱UFJフィナンシャル・グループ／花王株式会社／三菱地所株式会社／株式会社秀光／株式会社ポケモン／株式会社丸の内よろず／株式会社太田花き／JA愛知みなみ輪菊部会／アートグリーン株式会社／ターナー色彩株式会社／法政大学／東京臨海副都心グループ／株式会社読売エージェンシー／一般社団法人世界押花芸術協会／花と緑の研究所株式会社\n\n\nオープニングセレモニー\n3月21日（土）12:00〜12:30（アウラホール）\n\n\n公式サイト\nhttps://www.tokyo-infiorata.com/\n\n\n\n\n\n\n\n■会場・日程一覧\n\n\n\n\n\n\n\n区分\n会場\n日程\n\n\n\n\nオープニング\n京王聖蹟桜ヶ丘SC アウラホール\n3月21日（土）〜3月26日（木）\n\n\n会場②\n御茶ノ水ソラシティ\n3月30日（月）〜4月3日（金）\n\n\n会場③\n行幸通り（丸の内）\n4月17日（金）〜4月19日（日）\n\n\n会場④\nMUFGスタジアム\n4月18日（土）〜4月19日（日）\n\n\nファイナル①\nお台場\n5月9日（土）〜5月11日（月）\n\n\nファイナル②\nお台場\n5月16日（土）〜5月18日（月）\n\n\n\n\n  \n \nお台場での大規模フラワーカーペット\n\n\n \nファイナル会場となるお台場では、2週にわたり大規模なフラワーカーペットを展開。前半は約100㎡の巨大和柄フラワーカーペット、後半は歌舞伎をテーマにした4作品の花絵が登場します。 \n\n\n \n\n和柄フラワーカーペット
URL:https://futureearth.jp/event/tokyo-infiorata-2026-4/
LOCATION:お台場
CATEGORIES:文化・伝統工芸
ATTACH;FMTTYPE=image/webp:https://futureearth.jp/wp-content/uploads/2026/03/138608-12-411cbf877754d9d4f0d8a3863a1619d5-1500x1000.jpg.webp
END:VEVENT
BEGIN:VEVENT
DTSTART;TZID=Asia/Tokyo:20260509T100000
DTEND;TZID=Asia/Tokyo:20260511T170000
DTSTAMP:20260423T011946
CREATED:20260204T000228Z
LAST-MODIFIED:20260204T000228Z
UID:6750-1778320800-1778518800@futureearth.jp
SUMMARY:押し花アートフェスティバル2026
DESCRIPTION:押し花アートフェスティバル2026 in 横浜市役所アトリウム\n \n\n花々の美しさをそのまま閉じ込めた「押し花アート」の魅力を体感できるアートイベント「押し花アートフェスティバル」が、2026年5月9日から横浜市役所アトリウムで開催されます。\nGREEN×EXPO 2027 に展示される作品の先行発表や特別展示、ワークショップなど、花と芸術を楽しめる内容がそろいます。\n\n \n\n \nイベント概要\n \n\n\n\n\n項目\n内容\n\n\n\n\nイベント名\n押し花アートフェスティバル\n\n\n会期\n2026年5月9日（土）～5月11日（月）\n\n\n時間\n10:00～17:00（予定）\n\n\n会場\n横浜市役所アトリウム\n\n\n主催\n一般社団法人 世界押花芸術協会\n\n\n後援\n公益社団法人 2027年国際園芸博覧会協会
URL:https://futureearth.jp/event/oshibana-art-festival-yokohama-2026/
LOCATION:横浜市役所アトリウム\, 神奈川県横浜市中区本町６丁目６１−２
CATEGORIES:花き園芸・造園・農関連
ATTACH;FMTTYPE=image/jpeg:https://futureearth.jp/wp-content/uploads/2026/02/06_押し花アートフェスティバル_チラシスキャン.jpg
END:VEVENT
END:VCALENDAR